Workbook

Sheet sommaire
A1: Gardez la ligne
A2: Le guide pratique
A4: Début de l'exercice (premier jour où vous suivrez les menus) | F4: 43586 | G4: (JJ/MM/AA)
G5: attention: utiliser les barres transversales!
A6: Commencer par calculer vos besoins énegrétiques | H6: repas sans viande ni poisson
A7: >>> Faites le point sur vos dépenses et vos besoins caloriques | H7: repas avec poisson
H8: repas avec viande
A9: Puis suivez nos recettes durant un mois
D10: PETIT DEJEUNER | E10: MIDI | F10: GOÛTER | G10: SOIR | H10: DESSERT
A11: >> | B11: Journée 1 | C11: =F4 -> 43586 | D11: classique | E11: =jour_1!A32 -> Linguine au citron et au basilic, salade de crudités | F11: =jour_1!B48 -> cookie aux pépites chocolat | G11: =jour_1!A51 -> Côtes de veau au curry avec riz | H11: =jour_1!A63 -> Flan à la noix de coco
A12: >> | B12: Journée 2 | C12: =DATE(YEAR(C11),MONTH(C11),DAY(C11)+1) -> 43587 | D12: avec œuf | E12: =jour_2!A31 -> Quiche au légumes et aux lardons | F12: =jour_2!B49 -> yogourt grec de brebis | G12: =jour_2!A54 -> Dos de cabillaud au chorizo, purée et endives | H12: =jour_2!A68 -> Clafoutis à la rhubarbe et à la canelle
A13: >> | B13: Journée 3 | C13: =DATE(YEAR(C12),MONTH(C12),DAY(C12)+1) -> 43588 | D13: céréales | E13: =jour_3!A30 -> Croque-Madame au chèvre avec salade | F13: =jour_3!B43 -> pomme | G13: =jour_3!A47 -> Blanc de poulet tandoori, riz basmati, légumes | H13: =jour_3!A67 -> Tarte à la ricotta et aux fruits rouges
A14: >> | B14: Journée 4 | C14: =DATE(YEAR(C13),MONTH(C13),DAY(C13)+1) -> 43589 | D14: classique | E14: =jour_4!A31 -> Gnochi au jambon cru et salade crudités | F14: =jour_4!B49 -> banane | G14: =jour_4!A52 -> Rouleau deux saumons et chou , boulgour | H14: =jour_4!A67 -> Mousse au café
A15: >> | B15: Journée 5 | C15: =DATE(YEAR(C14),MONTH(C14),DAY(C14)+1) -> 43590 | D15: avec œuf | E15: =jour_5!A31 -> Penne all'arrabatia + mesclun | F15: =jour_5!B51 -> yogourt grec | G15: =jour_5!A55 -> Bavette à la Lyonnaise , pommes de terre sautées et thian de légumes | H15: =jour_5!A67 -> Cake au citron
A16: >> | B16: Journée 6 | C16: =DATE(YEAR(C15),MONTH(C15),DAY(C15)+1) -> 43591 | D16: céréales | E16: =jour_6!A30 -> Salade de couscous aux merguez | F16: =jour_6!B49 -> petit-suisse | G16: =jour_6!A54 -> Truite aux lentilles | H16: =jour_6!B68 -> glace
A17: >> | B17: Journée 7 | C17: =DATE(YEAR(C16),MONTH(C16),DAY(C16)+1) -> 43592 | D17: classique | E17: Tarte au bleu et aux endives | F17: =jour_7!B49 -> yogourt aux fruits | G17: =jour_7!A56 -> Lapin aux amandes, purée, épinards | H17: =jour_7!B74 -> pomme
A18: >> | B18: Journée 8 | C18: =DATE(YEAR(C17),MONTH(C17),DAY(C17)+1) -> 43593 | D18: avec œuf | E18: =jour_8!A31 -> Emincé de veau aux petits légumes | F18: =jour_8!B46 -> orange | G18: =jour_8!A49 -> Boulettes végétariennes et salade mixte | H18: =jour_8!A69 -> Verrine aux pommes et noisettes
A19: >> | B19: Journée 9 | C19: =DATE(YEAR(C18),MONTH(C18),DAY(C18)+1) -> 43594 | D19: céréales | E19: =jour_9!A30 -> Brochettes de lotte marinée, riz blanc et piperade | F19: =jour_9!B54 -> yogourt nature | G19: =jour_9!A58 -> Choix de fromages, pommes de terre vapeur, salade verte | H19: =jour_9!A67 -> Salade de fruits
A20: >> | B20: Journée 10 | C20: =DATE(YEAR(C19),MONTH(C19),DAY(C19)+1) -> 43595 | D20: classique | E20: =jour_10!A32 -> Spaghetti à la crème d'aubergines, salade de carottes orange | F20: =jour_10!B49 -> cookie aux pépites chocolat | G20: =jour_10!A52 -> Cuisses de poulet chasseur, endives au soja | H20: =jour_10!A69 -> Verrine de ricotta au citron
A21: >> | B21: Journée 11 | C21: =DATE(YEAR(C20),MONTH(C20),DAY(C20)+1) -> 43596 | D21: avec œuf | E21: =jour_11!A31 -> Chili végétarien, blé Ebly, salade | F21: =jour_11!B50 -> pain de seigle | G21: =jour_11!A54 -> Foie de veau au bacon, pdt nouvelles, carottes au cumin | H21: =jour_11!A68 -> Mousse au chocolat
A22: >> | B22: Journée 12 | C22: =DATE(YEAR(C21),MONTH(C21),DAY(C21)+1) -> 43597 | D22: céréales | E22: =jour_12!A30 -> Risotto forestier à la sauge, salade de rampon | F22: =jour_12!B49 -> yogourt grec de brebis | G22: =jour_12!A53 -> Saucisson de Morteau et poireau en croûte, salade de tomates
A23: >> | B23: Journée 13 | C23: =DATE(YEAR(C22),MONTH(C22),DAY(C22)+1) -> 43598 | D23: classique | E23: =jour_13!A32 -> Salade de crevette, avocats et fenouils | F23: =jour_13!B50 -> barre de céréales aux fruits | G23: =jour_13!A53 -> Bœuf haché aux poivrons, pommes de terre au four
A24: >> | B24: Journée 14 | C24: =DATE(YEAR(C23),MONTH(C23),DAY(C23)+1) -> 43599 | D24: avec œuf | E24: =jour_14!A31 -> Jambon à la crème | F24: =jour_14!B48 -> pomme | G24: =jour_14!A52 -> Couscous aux légumes | H24: =jour_14!A74 -> Poire au yogourt à la menthe
A25: >> | B25: Journée 15 | C25: =DATE(YEAR(C24),MONTH(C24),DAY(C24)+1) -> 43600 | D25: céréales | E25: =jour_15!A30 -> Tarte aux légumes et au jambon sec | F25: =jour_15!B43 -> orange | G25: =jour_15!A51 -> Filet de cabillaud à la tapenade, pâtes au basilic | H25: =jour_15!A63 -> Salade de fruits
A26: >> | B26: Journée 16 | C26: =DATE(YEAR(C25),MONTH(C25),DAY(C25)+1) -> 43601 | D26: classique | E26: =jour_16!A32 -> Galettes de pommes de terre au Gruyères | F26: =jour_16!B50 -> banane | G26: =jour_16!A53 -> Filet d'agneau aux épices et son chou frisé | H26: =jour_16!A67 -> Mousse au citron sur genoise
A27: >> | B27: Journée 17 | C27: =DATE(YEAR(C26),MONTH(C26),DAY(C26)+1) -> 43602 | D27: avec œuf | E27: =jour_17!A31 -> Riz en salade à l'italienne | F27: =jour_17!B48 -> pomme | G27: =jour_17!A52 -> Spaghetti à la mode d'Ascona | H27: =jour_17!A68 -> Pommes au four et fruits secs
A28: >> | B28: Journée 18 | C28: =DATE(YEAR(C27),MONTH(C27),DAY(C27)+1) -> 43603 | D28: céréales | E28: =jour_18!A30 -> Samosas aux légumes | F28: =jour_18!B55 -> petit-suisse | G28: =jour_18!A59 -> Baudroie au curry et pommes vertes | H28: =jour_18!A74 -> Litchis et gelée de rose
A29: >> | B29: Journée 19 | C29: =DATE(YEAR(C28),MONTH(C28),DAY(C28)+1) -> 43604 | D29: avec œuf | E29: =jour_19!A31 -> Salade de chèvre chaud aux noix | F29: =jour_19!B41 -> yogourt grec | G29: =jour_19!A49 -> Entrecôte de boeuf mariné, frites, tomates provençales | H29: =jour_19!A61 -> Délice à la mangue et à l’ananas
A30: >> | B30: Journée 20 | C30: =DATE(YEAR(C29),MONTH(C29),DAY(C29)+1) -> 43605 | D30: classique | E30: =jour_20!A32 -> Cocos blancs en sauce au potiron épicée | F30: =jour_20!B55 -> barre de céréales aux fruits | G30: =jour_20!A58 -> Risotto au saumon fumé, parfumé au chardonnay | H30: =jour_20!A72 -> Tartelette aux framboises
A31: >> | B31: Journée 21 | C31: =DATE(YEAR(C30),MONTH(C30),DAY(C30)+1) -> 43606 | D31: céréales | E31: =jour_21!A30 -> Burger de röstis aux légumes grillés | F31: =jour_21!B46 -> yogourt mocca | G31: =jour_21!A49 -> Porc au lait de coco , fusili et choux-fleur | H31: =jour_21!A62 -> Tarte légère aux pommes
A32: >> | B32: Journée 22 | C32: =DATE(YEAR(C31),MONTH(C31),DAY(C31)+1) -> 43607 | D32: classique | E32: =jour_22!A32 -> Salade asiatique de vermicelles aux crevettes | F32: =jour_22!B52 -> meringues de Gruyères | G32: =jour_22!A57 -> Lasagne de la rivière au lac | H32: =jour_22!A74 -> Yogourt glacé aux myrtilles
A33: >> | B33: Journée 23 | C33: =DATE(YEAR(C32),MONTH(C32),DAY(C32)+1) -> 43608 | D33: avec œuf | E33: =jour_23!A31 -> Pizza aux courgettes et au lard | F33: =jour_23!B47 -> yogourt aux fruits | G33: =jour_23!A50 -> Cuisses de lapin sauce moutarde, polenta nera | H33: =jour_23!A67 -> Mousse de fromage blanc aux framboises
A34: >> | B34: Journée 24 | C34: =DATE(YEAR(C33),MONTH(C33),DAY(C33)+1) -> 43609 | D34: céréales | E34: =jour_24!A30 -> Dorade à la purée de laitue et d'oseille | F34: =jour_24!B46 -> petit-suisse | G34: =jour_24!A50 -> Betteraves et pommes de terre façon raclette
A35: >> | B35: Journée 25 | C35: =DATE(YEAR(C34),MONTH(C34),DAY(C34)+1) -> 43610 | D35: classique | E35: =jour_25!A32 -> Gratin de pâtes au safran et aux bolets | F35: =jour_25!B51 -> baton de glace enrobé de chocolat (75 g) | G35: =jour_25!A54 -> Brochettes de poulet au couscous | H35: =jour_25!A68 -> Mousse d'orange
A36: >> | B36: Journée 26 | C36: =DATE(YEAR(C35),MONTH(C35),DAY(C35)+1) -> 43611 | D36: avec œuf | E36: =jour_26!A31 -> Gratin de poireau et lentilles rouges | F36: =jour_26!B42 -> pamplemousse rose | G36: =jour_26!A46 -> Choucroute de poisson neptune crème au cerfeuil | H36: =jour_26!A60 -> Tartelette de vermicelles à la crème de marron
A37: >> | B37: Journée 27 | C37: =DATE(YEAR(C36),MONTH(C36),DAY(C36)+1) -> 43612 | D37: céréales | E37: =jour_27!A30 -> Omelette au poivron et mozzarella | F37: =jour_27!B46 -> yogourt grec | G37: =jour_27!A50 -> Emincé de veau à la zurichoise avec ses röstis | H37: =jour_27!A70 -> Panna cotta au lime et compote de pêches
A38: >> | B38: Journée 28 | C38: =DATE(YEAR(C37),MONTH(C37),DAY(C37)+1) -> 43613 | D38: classique | E38: =jour_28!A32 -> Spaghetti aux calamars | F38: =jour_28!B49 -> nougat glacé | G38: =jour_28!A52 -> Côtes d'agneau et légumes toutes saveurs | H38: =jour_28!A68 -> Gâteau confit de pommes

Sheet bilan
A1: Faites le point sur vos dépenses et vos besoins caloriques
A2: L’estimation, bien plus précise que la formule approximative de Blank*, se fonde sur 14 jours d’observation de votre alimentation et de vos activités physiques. Instruisez toutes les cellules oranges (si vous n'indiquez rien, la valeur retenue est égale à 0). 1) Notez, le matin du premier jour, la date et votre poids à jeun. 2) Puis, chaque jour, notez, dans la colonne «Alimentation» la quantité de calories que contenait votre alimentation. Pour la mesurer, utilisez notre calculateur «Bilan journalier»*. 3) Ajoutez votre éventuelle consommation d’alcool, exprimée en dl. Un verre de vin représente environ 1,25 dl, un cognac ou une eau de vie entre 0,2 et 0,4 dl.* 4) Notez également le nombre de pas effectués lors vos déplacement réguliers, ceux que vous faites inévitablement (par exemple lors du trajet domicile-travail aller et retour), mais pas ceux que vous faites exceptionnellement (voir point suivant). Pour ce faire, utilisez un podomètre*. 5) Notez aussi les dépenses énergétiques dues à des activités physiques ponctuelles (marche hors routine, footing, vélo, fitness, etc.). Elles dépendent non seulement de l’activité pratiquée, mais aussi de votre poids. Pour les mesurer, utilisez notre calculateur «Dépenses énergétiques»*.
A3: 6) En fin de bilan, notez votre poids, toujours à jeun, le matin du 15e jour. Le programme calcule automatiquement votre consommation énergétique moyenne et ce que vous devriez stocker en moins ou en plus pour maintenir votre poids. Vous pouvez aussi indiquer si vous souhaitez perdre du poids (entre 1 et 2 kilos) dans le mois à venir et le programme estimera quel doit être, à cette fin, l’apport calorique journalier à ne pas dépasser. Ce résultat est automatiquement reporté (sans possibilité de modification) dans les pages suivantes. Attention: dans un premier temps, les estimations pour maintenir ou perdre du poids ne tiennent pas compte de la consommation d'alcool et des activités physiques. Ne vous inquiétez pas: lors de la phase d'action, vous aurez l'occasion de les intégrer dans chaque bilan journalier, comme vous le verrez dans les feuille suivantes.
G4: * Retrouvez les calculateurs sous www.bonasavoir.ch/panmetron
A5: Début du bilan
A6: Date | B6: 43539 | C6: (JJ/MM/AA)
A7: Poids | B7: 78 | C7: kg (poids le matin du premier jour, à jeun)
A9: 14 jours de bilan
C11: Alimentation | D11: Alcool (en dl) | F11: Déplacements | G11: Activité physiques
C12: (en kcal) | D12: vin | E12: schnaps | F12: réguliers (en pas) | G12: (en kcal)
A13: Première semaine
A14: Jour 1 | B14: =B6 -> 43539 | C14: 2200 | D14: 2 | F14: 4200 | G14: 500
A15: Jour 2 | B15: =DATE(YEAR(B14),MONTH(B14),DAY(B14)+1) -> 43540 | C15: 2300 | E15: 0.4 | F15: 4500
A16: Jour 3 | B16: =DATE(YEAR(B15),MONTH(B15),DAY(B15)+1) -> 43541 | C16: 2300 | D16: 2.5 | F16: 3600
A17: Jour 4 | B17: =DATE(YEAR(B16),MONTH(B16),DAY(B16)+1) -> 43542 | C17: 2300 | D17: 3 | F17: 5200 | G17: 200
A18: Jour 5 | B18: =DATE(YEAR(B17),MONTH(B17),DAY(B17)+1) -> 43543 | C18: 2100 | F18: 5500
A19: Jour 6 | B19: =DATE(YEAR(B18),MONTH(B18),DAY(B18)+1) -> 43544 | C19: 2100 | D19: 2 | F19: 3800 | G19: 300
A20: Jour 7 | B20: =DATE(YEAR(B19),MONTH(B19),DAY(B19)+1) -> 43545 | C20: 2200 | D20: 3.5 | E20: 0.4 | F20: 2500 | G20: 200
A21: Deuxième semaine
A22: Jour 8 | B22: =DATE(YEAR(B20),MONTH(B20),DAY(B20)+1) -> 43546 | C22: 2300 | F22: 4000 | G22: 500
A23: Jour 9 | B23: =DATE(YEAR(B22),MONTH(B22),DAY(B22)+1) -> 43547 | C23: 2500 | D23: 2 | E23: 0.2 | F23: 4500
A24: Jour 10 | B24: =DATE(YEAR(B23),MONTH(B23),DAY(B23)+1) -> 43548 | C24: 1950 | D24: 2.5 | F24: 6200
A25: Jour 11 | B25: =DATE(YEAR(B24),MONTH(B24),DAY(B24)+1) -> 43549 | C25: 2300 | E25: 0.2 | F25: 4800 | G25: 200
A26: Jour 12 | B26: =DATE(YEAR(B25),MONTH(B25),DAY(B25)+1) -> 43550 | C26: 2200 | F26: 3000
A27: Jour 13 | B27: =DATE(YEAR(B26),MONTH(B26),DAY(B26)+1) -> 43551 | C27: 2200 | D27: 2 | F27: 4100 | G27: 300
A28: Jour 14 | B28: =DATE(YEAR(B27),MONTH(B27),DAY(B27)+1) -> 43552 | C28: 2400 | F28: 3500 | G28: 200
A30: Poids final | B30: 78.5 | C30: kg (poids le matin du 15e jour, à jeun )
A32: Bilan général
A34: EN MOYENNE
A35: > vous avez mangé l'équivalent de | D35: =SUM(C14:C28)/14 -> 2239.2857 | E35: kcal/jour
A36: > vous avez bu l'équivalent de | D36: =((SUM(D14:D28)*90)+(SUM(E14:E28)*280))/14 -> 149.35714 | E36: kcal/jour sous forme d'alcool
A37: > vous avez dépensé (activités phys. ponctuelles) | D37: =SUM(G14:G28)/14 -> 171.42857 | E37: kcal/jour
A39: Sans tenir compte de l'alcool et des activités physiques hors routine, votre consommation
B40: énergétique a donc été de | C40: =D35+D36-D37 -> 2217.2143 | D40: kcal/jour
A41: et elle vous a fait | B41: =IF(B30>B7,"prendre","perdre") -> prendre | C41: =ABS(I41) -> 0.5 | D41: kg en 14 jours | I41: =B30-B7 -> 0.5
B42: ce qui correspond à | C42: =ABS(I42) -> 1 | D42: kg en un mois. | I42: =I41*2 -> 1
C43: Pour stabiliser votre poids, vous devriez donc | D43: =IF(B30>B7,"réduire","augmenter") -> réduire | E43: l'apport calorique
D44: de votre alimentation de | E44: =ABS(I42*7000)/28 -> 250 | F44: kcal/jour*
C45: Si c'est votre but, il se monterait alors à | D45: =C40-E44 -> 1967.2143 | E45: kcal/jour*
B47: Si vous souhaitez aussi perdre | C47: 1 | D47: kg dans le mois à venir
...

Sheet jour_1
A1: JOURNEE 1 | I1: Couleur Pan Metron | J1: a
A3: Apport calorique du jour (sans alcool) | D3: =ROUND(F72,0) -> 2001 | E3: kcal/jour
A4: (cf. menus Pan Metron ci-dessous)
A5: Consommation de vin | C5: ^ | D5: non | E5: =IF(D5="non","",IF(D5="1 verre",d!B22,d!B23))
A6: Activités supplémentaires | D6: 200 | E6: kcal/jour | G6: >>>> | H6: calculateur des dépenses énergétiques
A7: Mon objectif | C7: ^ | D7: 1700 | E7: kcal/jour | H7: sous www.bonasavoir.ch/panmetron
D8: =IF(D5="non","",d!A24)
B10: Pour atteindre votre objectif, en tenant compte de votre activité physique supplémentaire,
B11: vous pouvez absorber | D11: =D7+D6-E70 -> 1900 | E11: kcal
B12: soit | D12: =ABS(M13) -> 101 | E12: kcal | F12: =IF(M13>0,d!A44,d!A45) -> de moins que les menus Pan Metron du jour
F13: =IF(D5="non","",d!A46) | M13: =D3+E70-D11 -> 101
B15: =IF(M13<-50,d!A48,IF(M13<0,d!A49,IF(M13=0,d!A50,IF(M13>50,d!A52,d!A51)))) -> Il faut donc agir:_x000D_> Vous pouvez augmenter encore votre activité physique._x000D_> Ou/et diminuer la quantité de certains ingrédients des recettes du jour dans la première colonne, jusqu'à atteindre votre objectif. Visez de préférence les aliments rouge et orange, de façon à ne pas prétériter l'équilibre nutritionnel de la journée._x000D_> Si cela ne suffit toujours pas à atteindre votre objectif, le programme adapte proportionnellement les quantités pour y parvenir, sauf celles des boissons non caloriques (eau, café, etc.)
A17: Menus Pan Metron du jour | H17: Personnalisation | M17: pondération (M18)
A18: g/cl | B18: Ingrédients | D18: kcal | H18: =A18 -> g/cl | I18: =B18 -> Ingrédients | J18: kcal | M18: =100-(D12/((D11+D12)/100)) -> 94.952524
D19: pr 100 g | E19: réels | J19: réels
A21: PETIT DEJEUNER CLASSIQUE
A22: 30 | B22: pain complet | C22: c | D22: 229 | E22: =D22/100*A22 -> 68.7 | H22: =IF(E22=0,A22,A22/E22*J22) -> 28.485757 | I22: =B22 -> pain complet | J22: =E22*$M$18% -> 65.232384
A23: 5 | B23: beurre | C23: e | D23: 747.3 | E23: =D23/100*A23 -> 37.365 | H23: =IF(E23=0,A23,A23/E23*J23) -> 4.7476262 | I23: =B23 -> beurre | J23: =E23*$M$18% -> 35.47901
A24: 10 | B24: confiture | C24: e | D24: 246 | E24: =D24/100*A24 -> 24.6 | H24: =IF(E24=0,A24,A24/E24*J24) -> 9.4952524 | I24: =B24 -> confiture | J24: =E24*$M$18% -> 23.358321
A25: 150 | B25: café | D25: 0 | E25: =D25/100*A25 -> 0 | H25: =IF(E25=0,A25,A25/E25*J25) -> 150 | I25: =B25 -> café | J25: =E25*$M$18% -> 0
A26: 4 | B26: sucre | C26: e | D26: 400 | E26: =D26/100*A26 -> 16 | H26: =IF(E26=0,A26,A26/E26*J26) -> 3.7981009 | I26: =B26 -> sucre | J26: =E26*$M$18% -> 15.192404
A27: 12 | B27: crème à café | C27: c | D27: 161 | E27: =D27/100*A27 -> 19.32 | H27: =IF(E27=0,A27,A27/E27*J27) -> 11.394303 | I27: =B27 -> crème à café | J27: =E27*$M$18% -> 18.344828
A28: 125 | B28: yogourt aux fruits | C28: b | D28: 87 | E28: =D28/100*A28 -> 108.75 | H28: =IF(E28=0,A28,A28/E28*J28) -> 118.69065 | I28: =B28 -> yogourt aux fruits | J28: =E28*$M$18% -> 103.26087
A29: 150 | B29: jus d'orange maison | C29: b | D29: 45 | E29: =D29/100*A29 -> 67.5 | H29: =IF(E29=0,A29,A29/E29*J29) -> 142.42879 | I29: =B29 -> jus d'orange maison | J29: =E29*$M$18% -> 64.092954
E30: TOTAL | F30: =SUM(E22:E29) -> 342.235 | J30: TOTAL | K30: =SUM(J22:J29) -> 324.96077
A31: MIDI
A32: Linguine au citron et au basilic, salade de crudités
A33: 100 | B33: pâtes (crues) | C33: b | D33: 116 | E33: =D33/100*A33 -> 116 | H33: =IF(E33=0,A33,A33/E33*J33) -> 94.952524 | I33: =B33 -> pâtes (crues) | J33: =E33*$M$18% -> 110.14493
A34: 12 | B34: jus de citron maison | C34: b | D34: 29 | E34: =D34/100*A34 -> 3.48 | H34: =IF(E34=0,A34,A34/E34*J34) -> 11.394303 | I34: =B34 -> jus de citron maison | J34: =E34*$M$18% -> 3.3043478
A35: 9 | B35: huile d'olive | C35: e | D35: 899 | E35: =D35/100*A35 -> 80.91 | H35: =IF(E35=0,A35,A35/E35*J35) -> 8.5457271 | I35: =B35 -> huile d'olive | J35: =E35*$M$18% -> 76.826087
A36: 30 | B36: Parmesan | C36: d | D36: 391 | E36: =D36/100*A36 -> 117.3 | H36: =IF(E36=0,A36,A36/E36*J36) -> 28.485757 | I36: =B36 -> Parmesan | J36: =E36*$M$18% -> 111.37931
A37: 25 | B37: basilic frais | C37: a | D37: 27 | E37: =D37/100*A37 -> 6.75 | H37: =IF(E37=0,A37,A37/E37*J37) -> 23.738131 | I37: =B37 -> basilic frais | J37: =E37*$M$18% -> 6.4092954
A38: 12.5 | B38: persil frais | C38: a | D38: 28 | E38: =D38/100*A38 -> 3.5 | H38: =IF(E38=0,A38,A38/E38*J38) -> 11.869065 | I38: =B38 -> persil frais | J38: =E38*$M$18% -> 3.3233383
A39: 1 | B39: sel | C39: e | D39: 0 | E39: =D39/100*A39 -> 0 | H39: =IF(E39=0,A39,A39/E39*J39) -> 1 | I39: =B39 -> sel | J39: =E39*$M$18% -> 0
A40: 0.5 | B40: poivre | C40: b | D40: 222 | E40: =D40/100*A40 -> 1.11 | H40: =IF(E40=0,A40,A40/E40*J40) -> 0.47476262 | I40: =B40 -> poivre | J40: =E40*$M$18% -> 1.053973
A41: 80 | B41: salade de crudités | C41: a | D41: 68 | E41: =D41/100*A41 -> 54.4 | H41: =IF(E41=0,A41,A41/E41*J41) -> 75.962019 | I41: =B41 -> salade de crudités | J41: =E41*$M$18% -> 51.654173
A42: 12 | B42: sauce salade italienne | C42: e | D42: 472 | E42: =D42/100*A42 -> 56.64 | H42: =IF(E42=0,A42,A42/E42*J42) -> 11.394303 | I42: =B42 -> sauce salade italienne | J42: =E42*$M$18% -> 53.781109
A43: En guise de dessert
A44: 150 | B44: pomme | C44: b | D44: 55 | E44: =D44/100*A44 -> 82.5 | H44: =IF(E44=0,A44,A44/E44*J44) -> 142.42879 | I44: =B44 -> pomme | J44: =E44*$M$18% -> 78.335832
E45: TOTAL | F45: =SUM(E33:E44) -> 522.59 | J45: TOTAL | K45: =SUM(J33:J44) -> 496.21239
...

Sheet jour_2
A1: JOURNEE 2 | I1: Couleur Pan Metron | J1: b
A3: Apport calorique du jour (sans alcool) | D3: =ROUND(F81,0) -> 1988 | E3: kcal/jour
A4: (cf. menus Pan Metron ci-dessous)
A5: Consommation de vin | C5: ^ | D5: non | E5: =IF(D5="non","",IF(D5=1,d!B22,d!B23))
A6: Activités supplémentaires | D6: 0 | E6: kcal/jour | G6: >>>> | H6: calculateur des dépenses énergétiques
A7: Mon objectif | D7: =jour_1!D7 -> 1700 | E7: kcal/jour | H7: sous www.bonasavoir.ch/panmetron
D8: =IF(D5="non","",d!A24)
B10: Pour atteindre votre objectif, en tenant compte de votre activité physique supplémentaire,
B11: vous pouvez absorber | D11: =D7+D6 -> 1700 | E11: kcal
B12: soit | D12: =ABS(M13) -> 288 | E12: kcal | F12: =IF(M13>0,d!A44,d!A45) -> de moins que les menus Pan Metron du jour | M12: différence
F13: =IF(D5="non","",d!A46) | M13: =D3+E79-D11 -> 288
B15: =IF(M13<-50,d!A48,IF(M13<0,d!A49,IF(M13=0,d!A50,IF(M13>50,d!A52,d!A51)))) -> Il faut donc agir:_x000D_> Vous pouvez augmenter encore votre activité physique._x000D_> Ou/et diminuer la quantité de certains ingrédients des recettes du jour dans la première colonne, jusqu'à atteindre votre objectif. Visez de préférence les aliments rouge et orange, de façon à ne pas prétériter l'équilibre nutritionnel de la journée._x000D_> Si cela ne suffit toujours pas à atteindre votre objectif, le programme adapte proportionnellement les quantités pour y parvenir, sauf celles des boissons non caloriques (eau, café, etc.)
A17: Menus Pan Metron du jour | H17: Personnalisation | M17: pondération
A18: g/cl | B18: Ingrédients | D18: kcal | H18: =A18 -> g/cl | I18: Ingrédients | J18: kcal | M18: =100-(D12/((D11+D12)/100)) -> 85.513078
D19: pr 100 g | E19: réels | J19: réels
A21: PETIT DEJEUNER AVEC ŒUF
A22: 60 | B22: œuf à la coque | C22: a | D22: 134 | E22: =D22/100*A22 -> 80.4 | H22: =IF(E22=0,A22,A22/E22*J22) -> 51.307847 | I22: =B22 -> œuf à la coque | J22: =E22*$M$18% -> 68.752515
A23: 0.5 | B23: sel | C23: e | D23: 0 | E23: =D23/100*A23 -> 0 | H23: =IF(E23=0,A23,A23/E23*J23) -> 0.5 | I23: =B23 -> sel | J23: =E23*$M$18% -> 0
A24: 40 | B24: pain complet | C24: c | D24: 229 | E24: =D24/100*A24 -> 91.6 | H24: =IF(E24=0,A24,A24/E24*J24) -> 34.205231 | I24: =B24 -> pain complet | J24: =E24*$M$18% -> 78.32998
A25: 125 | B25: fromage blanc 20% | C25: a | D25: 71 | E25: =D25/100*A25 -> 88.75 | H25: =IF(E25=0,A25,A25/E25*J25) -> 106.89135 | I25: =B25 -> fromage blanc 20% | J25: =E25*$M$18% -> 75.892857
A26: 100 | B26: salade de fruits frais | C26: b | D26: 67 | E26: =D26/100*A26 -> 67 | H26: =IF(E26=0,A26,A26/E26*J26) -> 85.513078 | I26: =B26 -> salade de fruits frais | J26: =E26*$M$18% -> 57.293763
A27: 150 | B27: thé | D27: 0 | E27: =D27/100*A27 -> 0 | H27: =IF(E27=0,A27,A27/E27*J27) -> 150 | I27: =B27 -> thé | J27: =E27*$M$18% -> 0
A28: 12 | B28: sucre | C28: e | D28: 400 | E28: =D28/100*A28 -> 48 | H28: =IF(E28=0,A28,A28/E28*J28) -> 10.261569 | I28: =B28 -> sucre | J28: =E28*$M$18% -> 41.046278
E29: TOTAL | F29: =SUM(E22:E28) -> 375.75 | J29: TOTAL | K29: =SUM(J22:J28) -> 321.31539
A30: MIDI
A31: Quiche au légumes et aux lardons
A32: 62.5 | B32: pâte à gâteau | C32: d | D32: 325 | E32: =D32/100*A32 -> 203.125 | H32: =IF(E32=0,A32,A32/E32*J32) -> 53.445674 | I32: =B32 -> pâte à gâteau | J32: =E32*$M$18% -> 173.69844
A33: 37.5 | B33: lardons | C33: d | D33: 269 | E33: =D33/100*A33 -> 100.875 | H33: =IF(E33=0,A33,A33/E33*J33) -> 32.067404 | I33: =B33 -> lardons | J33: =E33*$M$18% -> 86.261318
A34: 12.5 | B34: fromage râpé | C34: d | D34: 396 | E34: =D34/100*A34 -> 49.5 | H34: =IF(E34=0,A34,A34/E34*J34) -> 10.689135 | I34: =B34 -> fromage râpé | J34: =E34*$M$18% -> 42.328974
A35: 37.5 | B35: poireau | C35: a | D35: 30 | E35: =D35/100*A35 -> 11.25 | H35: =IF(E35=0,A35,A35/E35*J35) -> 32.067404 | I35: =B35 -> poireau | J35: =E35*$M$18% -> 9.6202213
A36: 18.5 | B36: poivron jaune | C36: a | D36: 16 | E36: =D36/100*A36 -> 2.96 | H36: =IF(E36=0,A36,A36/E36*J36) -> 15.81992 | I36: =B36 -> poivron jaune | J36: =E36*$M$18% -> 2.5311871
A37: 62.5 | B37: carottes | C37: a | D37: 30 | E37: =D37/100*A37 -> 18.75 | H37: =IF(E37=0,A37,A37/E37*J37) -> 53.445674 | I37: =B37 -> carottes | J37: =E37*$M$18% -> 16.033702
A38: 62.5 | B38: céleri-rave | C38: a | D38: 17 | E38: =D38/100*A38 -> 10.625 | H38: =IF(E38=0,A38,A38/E38*J38) -> 53.445674 | I38: =B38 -> céleri-rave | J38: =E38*$M$18% -> 9.0857646
A39: 31.5 | B39: courgette | C39: a | D39: 19 | E39: =D39/100*A39 -> 5.985 | H39: =IF(E39=0,A39,A39/E39*J39) -> 26.93662 | I39: =B39 -> courgette | J39: =E39*$M$18% -> 5.1179577
A40: 12.5 | B40: persil | C40: a | D40: 28 | E40: =D40/100*A40 -> 3.5 | H40: =IF(E40=0,A40,A40/E40*J40) -> 10.689135 | I40: =B40 -> persil | J40: =E40*$M$18% -> 2.9929577
A41: 37.5 | B41: crème | C41: e | D41: 252 | E41: =D41/100*A41 -> 94.5 | H41: =IF(E41=0,A41,A41/E41*J41) -> 32.067404 | I41: =B41 -> crème | J41: =E41*$M$18% -> 80.809859
A42: 25 | B42: lait | C42: a | D42: 62 | E42: =D42/100*A42 -> 15.5 | H42: =IF(E42=0,A42,A42/E42*J42) -> 21.37827 | I42: =B42 -> lait | J42: =E42*$M$18% -> 13.254527
A43: 30 | B43: œuf | C43: a | D43: 146 | E43: =D43/100*A43 -> 43.8 | H43: =IF(E43=0,A43,A43/E43*J43) -> 25.653924 | J43: =E43*$M$18% -> 37.454728
A44: 1 | B44: muscade | C44: e | D44: 507 | E44: =D44/100*A44 -> 5.07 | H44: =IF(E44=0,A44,A44/E44*J44) -> 0.85513078 | I44: =B44 -> muscade | J44: =E44*$M$18% -> 4.3355131
A45: 1 | B45: poivre | C45: b | D45: 222 | E45: =D45/100*A45 -> 2.22 | H45: =IF(E45=0,A45,A45/E45*J45) -> 0.85513078 | I45: =B45 -> poivre | J45: =E45*$M$18% -> 1.8983903
...

Sheet jour_3
A1: JOURNEE 3 | I1: Couleur Pan Metron | J1: b
A3: Apport calorique du jour (sans alcool) | D3: =ROUND(F80,0) -> 1998 | E3: kcal/jour
A4: (cf. menus Pan Metron ci-dessous)
A5: Consommation de vin | C5: ^ | D5: non | E5: =IF(D5="non","",IF(D5=1,d!B22,d!B23))
A6: Activités supplémentaires | D6: 0 | E6: kcal/jour | G6: >>>> | H6: calculateur des dépenses énergétiques
A7: Mon objectif | D7: =jour_1!D7 -> 1700 | E7: kcal/jour | H7: sous www.bonasavoir.ch/panmetron
D8: =IF(D5="non","",d!A24)
B10: Pour atteindre votre objectif, en tenant compte de votre activité physique supplémentaire,
B11: vous pouvez absorber | D11: =D7+D6 -> 1700 | E11: kcal
B12: soit | D12: =ABS(M13) -> 298 | E12: kcal | F12: =IF(M13>0,d!A44,d!A45) -> de moins que les menus Pan Metron du jour | M12: différence
F13: =IF(D5="non","",d!A46) | M13: =D3+E78-D11 -> 298
B15: =IF(M13<-50,d!A48,IF(M13<0,d!A49,IF(M13=0,d!A50,IF(M13>50,d!A52,d!A51)))) -> Il faut donc agir:_x000D_> Vous pouvez augmenter encore votre activité physique._x000D_> Ou/et diminuer la quantité de certains ingrédients des recettes du jour dans la première colonne, jusqu'à atteindre votre objectif. Visez de préférence les aliments rouge et orange, de façon à ne pas prétériter l'équilibre nutritionnel de la journée._x000D_> Si cela ne suffit toujours pas à atteindre votre objectif, le programme adapte proportionnellement les quantités pour y parvenir, sauf celles des boissons non caloriques (eau, café, etc.)
A17: Menus Pan Metron du jour | H17: Personnalisation | M17: pondération
A18: g/cl | B18: Ingrédients | D18: kcal | H18: =A18 -> g/cl | I18: Ingrédients | J18: kcal | M18: =100-(D12/((D11+D12)/100)) -> 85.085085
D19: pr 100 g | E19: réels | J19: réels
A21: PETIT DEJEUNER CEREALES
A22: 50 | B22: céréales au miel | C22: c | D22: 382 | E22: =D22/100*A22 -> 191 | H22: =IF(E22=0,A22,A22/E22*J22) -> 42.542543 | I22: =B22 -> céréales au miel | J22: =E22*$M$18% -> 162.51251
A23: 150 | B23: café | D23: 0 | E23: =D23/100*A23 -> 0 | H23: =IF(E23=0,A23,A23/E23*J23) -> 150 | I23: =B23 -> café | J23: =E23*$M$18% -> 0
A24: 4 | B24: sucre | C24: e | D24: 400 | E24: =D24/100*A24 -> 16 | H24: =IF(E24=0,A24,A24/E24*J24) -> 3.4034034 | I24: =B24 -> sucre | J24: =E24*$M$18% -> 13.613614
A25: 12 | B25: crème à café | C25: c | D25: 161 | E25: =D25/100*A25 -> 19.32 | H25: =IF(E25=0,A25,A25/E25*J25) -> 10.21021 | I25: =B25 -> crème à café | J25: =E25*$M$18% -> 16.438438
A26: 125 | B26: yogourt aux fruits | C26: b | D26: 87 | E26: =D26/100*A26 -> 108.75 | H26: =IF(E26=0,A26,A26/E26*J26) -> 106.35636 | I26: =B26 -> yogourt aux fruits | J26: =E26*$M$18% -> 92.53003
A27: 150 | B27: jus d'orange maison | C27: b | D27: 45 | E27: =D27/100*A27 -> 67.5 | H27: =IF(E27=0,A27,A27/E27*J27) -> 127.62763 | I27: =B27 -> jus d'orange maison | J27: =E27*$M$18% -> 57.432432
F28: =SUM(E22:E27) -> 402.57 | J28: TOTAL | K28: =SUM(J22:J27) -> 342.52703
A29: MIDI
A30: Croque-Madame au chèvre avec salade
A31: 80 | B31: pain de mie | C31: d | D31: 269 | E31: =D31/100*A31 -> 215.2 | H31: =IF(E31=0,A31,A31/E31*J31) -> 68.068068 | I31: =B31 -> pain de mie | J31: =E31*$M$18% -> 183.1031
A32: 60 | B32: œufs | C32: a | D32: 146 | E32: =D32/100*A32 -> 87.6 | H32: =IF(E32=0,A32,A32/E32*J32) -> 51.051051 | I32: =B32 -> œufs | J32: =E32*$M$18% -> 74.534535
A33: 50 | B33: jambon | C33: c | D33: 125 | E33: =D33/100*A33 -> 62.5 | H33: =IF(E33=0,A33,A33/E33*J33) -> 42.542543 | I33: =B33 -> jambon | J33: =E33*$M$18% -> 53.178178
A34: 30 | B34: chèvre crémeux | C34: d | D34: 292 | E34: =D34/100*A34 -> 87.6 | H34: =IF(E34=0,A34,A34/E34*J34) -> 25.525526 | I34: =B34 -> chèvre crémeux | J34: =E34*$M$18% -> 74.534535
A35: 50 | B35: salade | C35: a | D35: 18 | E35: =D35/100*A35 -> 9 | H35: =IF(E35=0,A35,A35/E35*J35) -> 42.542543 | I35: =B35 -> salade | J35: =E35*$M$18% -> 7.6576577
A36: 50 | B36: tomates | C36: a | D36: 19 | E36: =D36/100*A36 -> 9.5 | H36: =IF(E36=0,A36,A36/E36*J36) -> 42.542543 | I36: =B36 -> tomates | J36: =E36*$M$18% -> 8.0830831
A37: 12 | B37: sauce française | C37: e | D37: 446 | E37: =D37/100*A37 -> 53.52 | H37: =IF(E37=0,A37,A37/E37*J37) -> 10.21021 | I37: =B37 -> sauce française | J37: =E37*$M$18% -> 45.537538
A38: En guise de dessert
A39: 125 | B39: yogourt mocca | C39: c | D39: 100 | E39: =D39/100*A39 -> 125 | H39: =IF(E39=0,A39,A39/E39*J39) -> 106.35636 | I39: =B39 -> yogourt mocca | J39: =E39*$M$18% -> 106.35636
E40: TOTAL | F40: =SUM(E31:E39) -> 649.92 | J40: TOTAL | K40: =SUM(J31:J39) -> 552.98498
A42: QUATRE HEURES
A43: 150 | B43: pomme | C43: b | D43: 55 | E43: =D43/100*A43 -> 82.5 | H43: =IF(E43=0,A43,A43/E43*J43) -> 127.62763 | I43: =B43 -> pomme | J43: =E43*$M$18% -> 70.195195
E44: TOTAL | F44: =SUM(E43:E43) -> 82.5 | J44: TOTAL | K44: =J43 -> 70.195195
A46: SOIR
A47: Blanc de poulet tandoori, riz basmati, légumes
...

Sheet jour_4
A1: JOURNEE 4 | I1: Couleur Pan Metron | J1: a
A3: Apport calorique du jour (sans alcool) | D3: =ROUND(F76,0) -> 1987 | E3: kcal/jour
A4: (cf. menus Pan Metron ci-dessous)
A5: Consommation de vin | C5: ^ | D5: non | E5: =IF(D5="non","",IF(D5=1,d!B22,d!B23))
A6: Activités supplémentaires | D6: 0 | E6: kcal/jour | G6: >>>> | H6: calculateur des dépenses énergétiques
A7: Mon objectif | D7: =jour_1!D7 -> 1700 | E7: kcal/jour | H7: sous www.bonasavoir.ch/panmetron
D8: =IF(D5="non","",d!A24)
B10: Pour atteindre votre objectif, en tenant compte de votre activité physique supplémentaire,
B11: vous pouvez absorber | D11: =D7+D6 -> 1700 | E11: kcal
B12: soit | D12: =ABS(M13) -> 287 | E12: kcal | F12: =IF(M13>0,d!A44,d!A45) -> de moins que les menus Pan Metron du jour | M12: différence
F13: =IF(D5="non","",d!A46) | M13: =D3+E74-D11 -> 287
B15: =IF(M13<-50,d!A48,IF(M13<0,d!A49,IF(M13=0,d!A50,IF(M13>50,d!A52,d!A51)))) -> Il faut donc agir:_x000D_> Vous pouvez augmenter encore votre activité physique._x000D_> Ou/et diminuer la quantité de certains ingrédients des recettes du jour dans la première colonne, jusqu'à atteindre votre objectif. Visez de préférence les aliments rouge et orange, de façon à ne pas prétériter l'équilibre nutritionnel de la journée._x000D_> Si cela ne suffit toujours pas à atteindre votre objectif, le programme adapte proportionnellement les quantités pour y parvenir, sauf celles des boissons non caloriques (eau, café, etc.)
A17: PETIT DEJEUNER CLASSIQUE
A18: Menus Pan Metron du jour | H18: Personnalisation | M18: pondération
A19: g/cl | B19: Ingrédients | D19: kcal | H19: =A19 -> g/cl | I19: Ingrédients | J19: kcal | M19: =100-(D12/((D11+D12)/100)) -> 85.556115
D20: pr 100 g | E20: réels | J20: réels
A21: 30 | B21: pain complet | C21: #c | D21: 229 | E21: =D21/100*A21 -> 68.7 | H21: =IF(E21=0,A21,A21/E21*J21) -> 25.666834 | I21: =B21 -> pain complet | J21: =E21*$M$19% -> 58.777051
A22: 5 | B22: beurre | C22: #e | D22: 747.3 | E22: =D22/100*A22 -> 37.365 | H22: =IF(E22=0,A22,A22/E22*J22) -> 4.2778057 | I22: =B22 -> beurre | J22: =E22*$M$19% -> 31.968042
A23: 10 | B23: confiture | C23: #e | D23: 246 | E23: =D23/100*A23 -> 24.6 | H23: =IF(E23=0,A23,A23/E23*J23) -> 8.5556115 | I23: =B23 -> confiture | J23: =E23*$M$19% -> 21.046804
A24: 150 | B24: café | D24: 0 | E24: =D24/100*A24 -> 0 | H24: =IF(E24=0,A24,A24/E24*J24) -> 150 | I24: =B24 -> café | J24: =E24*$M$19% -> 0
A25: 4 | B25: sucre | C25: #e | D25: 400 | E25: =D25/100*A25 -> 16 | H25: =IF(E25=0,A25,A25/E25*J25) -> 3.4222446 | I25: =B25 -> sucre | J25: =E25*$M$19% -> 13.688978
A26: 12 | B26: crème à café | C26: #c | D26: 161 | E26: =D26/100*A26 -> 19.32 | H26: =IF(E26=0,A26,A26/E26*J26) -> 10.266734 | I26: =B26 -> crème à café | J26: =E26*$M$19% -> 16.529441
A27: 125 | B27: yogourt aux fruits | C27: #b | D27: 87 | E27: =D27/100*A27 -> 108.75 | H27: =IF(E27=0,A27,A27/E27*J27) -> 106.94514 | I27: =B27 -> yogourt aux fruits | J27: =E27*$M$19% -> 93.042275
A28: 150 | B28: jus d'orange maison | C28: #b | D28: 45 | E28: =D28/100*A28 -> 67.5 | H28: =IF(E28=0,A28,A28/E28*J28) -> 128.33417 | I28: =B28 -> jus d'orange maison | J28: =E28*$M$19% -> 57.750377
F29: =SUM(E21:E28) -> 342.235 | J29: TOTAL | K29: =SUM(J21:J28) -> 292.80297
A30: MIDI
A31: Gnochi au jambon cru et salade crudités
A32: 125 | B32: pommes de terre | C32: #a | D32: 76 | E32: =D32/100*A32 -> 95 | H32: =IF(E32=0,A32,A32/E32*J32) -> 106.94514 | I32: =B32 -> pommes de terre | J32: =E32*$M$19% -> 81.278309
A33: 60 | B33: jambon | C33: #c | D33: 125 | E33: =D33/100*A33 -> 75 | H33: =IF(E33=0,A33,A33/E33*J33) -> 51.333669 | I33: =B33 -> jambon | J33: =E33*$M$19% -> 64.167086
A34: 37.5 | B34: farine | C34: #c | D34: 338 | E34: =D34/100*A34 -> 126.75 | H34: =IF(E34=0,A34,A34/E34*J34) -> 32.083543 | I34: =B34 -> farine | J34: =E34*$M$19% -> 108.44238
A35: 30 | B35: œufs | C35: #a | D35: 146 | E35: =D35/100*A35 -> 43.8 | H35: =IF(E35=0,A35,A35/E35*J35) -> 25.666834 | I35: =B35 -> œufs | J35: =E35*$M$19% -> 37.473578
A36: 12.5 | B36: parmesan | C36: #d | D36: 391 | E36: =D36/100*A36 -> 48.875 | H36: =IF(E36=0,A36,A36/E36*J36) -> 10.694514 | I36: =B36 -> parmesan | J36: =E36*$M$19% -> 41.815551
A37: 6 | B37: huile d'olive | C37: #e | D37: 899 | E37: =D37/100*A37 -> 53.94 | H37: =IF(E37=0,A37,A37/E37*J37) -> 5.1333669 | I37: =B37 -> huile d'olive | J37: =E37*$M$19% -> 46.148968
A38: 5 | B38: persil plat | C38: #a | D38: 28 | E38: =D38/100*A38 -> 1.4 | H38: =IF(E38=0,A38,A38/E38*J38) -> 4.2778057 | I38: =B38 -> persil plat | J38: =E38*$M$19% -> 1.1977856
A39: 0.5 | B39: sel | C39: #e | D39: 0 | E39: =D39/100*A39 -> 0 | H39: =IF(E39=0,A39,A39/E39*J39) -> 0.5 | I39: =B39 -> sel | J39: =E39*$M$19% -> 0
A40: 0.5 | B40: poivre | C40: #b | D40: 222 | E40: =D40/100*A40 -> 1.11 | H40: =IF(E40=0,A40,A40/E40*J40) -> 0.42778057 | I40: =B40 -> poivre | J40: =E40*$M$19% -> 0.94967287
A41: 80 | B41: saladade de crudités | C41: #a | D41: 68 | E41: =D41/100*A41 -> 54.4 | H41: =IF(E41=0,A41,A41/E41*J41) -> 68.444892 | I41: =B41 -> saladade de crudités | J41: =E41*$M$19% -> 46.542526
A42: 12 | B42: sauce salade au yogourt | C42: #b | D42: 68 | E42: =D42/100*A42 -> 8.16 | H42: =IF(E42=0,A42,A42/E42*J42) -> 10.266734 | I42: =B42 -> sauce salade au yogourt | J42: =E42*$M$19% -> 6.981379
A43: En guise de dessert
A44: 140 | B44: pamplemousse rose | C44: #a | D44: 32 | E44: =D44/100*A44 -> 44.8 | H44: =IF(E44=0,A44,A44/E44*J44) -> 119.77856 | I44: =B44 -> pamplemousse rose | J44: =E44*$M$19% -> 38.329139
...

Sheet jour_5
A1: JOURNEE 5 | I1: Couleur Pan Metron | J1: a
A3: Apport calorique du jour (sans alcool) | D3: =ROUND(F77,0) -> 1990 | E3: kcal/jour
A4: (cf. menus Pan Metron ci-dessous)
A5: Consommation de vin | C5: ^ | D5: non | E5: =IF(D5="non","",IF(D5=1,d!B22,d!B23))
A6: Activités supplémentaires | D6: 0 | E6: kcal/jour | G6: >>>> | H6: calculateur des dépenses énergétiques
A7: Mon objectif | D7: =jour_1!D7 -> 1700 | E7: kcal/jour | H7: sous www.bonasavoir.ch/panmetron
D8: =IF(D5="non","",d!A24)
B10: Pour atteindre votre objectif, en tenant compte de votre activité physique supplémentaire,
B11: vous pouvez absorber | D11: =D7+D6 -> 1700 | E11: kcal
B12: soit | D12: =ABS(M13) -> 290 | E12: kcal | F12: =IF(M13>0,d!A44,d!A45) -> de moins que les menus Pan Metron du jour | M12: différence
F13: =IF(D5="non","",d!A46) | M13: =D3+E75-D11 -> 290
B15: =IF(M13<-50,d!A48,IF(M13<0,d!A49,IF(M13=0,d!A50,IF(M13>50,d!A52,d!A51)))) -> Il faut donc agir:_x000D_> Vous pouvez augmenter encore votre activité physique._x000D_> Ou/et diminuer la quantité de certains ingrédients des recettes du jour dans la première colonne, jusqu'à atteindre votre objectif. Visez de préférence les aliments rouge et orange, de façon à ne pas prétériter l'équilibre nutritionnel de la journée._x000D_> Si cela ne suffit toujours pas à atteindre votre objectif, le programme adapte proportionnellement les quantités pour y parvenir, sauf celles des boissons non caloriques (eau, café, etc.)
A17: Menus Pan Metron du jour | H17: Personnalisation | M17: pondération
A18: g/cl | B18: Ingrédients | D18: kcal | H18: =A18 -> g/cl | I18: Ingrédients | J18: kcal | M18: =100-(D12/((D11+D12)/100)) -> 85.427136
D19: pr 100 g | E19: réels | J19: réels
A21: PETIT DEJEUNER AVEC ŒUF
A22: 60 | B22: œuf à la coque | C22: #a | D22: 134 | E22: =D22/100*A22 -> 80.4 | H22: =IF(E22=0,A22,A22/E22*J22) -> 51.256281 | I22: =B22 -> œuf à la coque | J22: =E22*$M$18% -> 68.683417
A23: 0.5 | B23: sel | C23: #e | D23: 0 | E23: =D23/100*A23 -> 0 | H23: =IF(E23=0,A23,A23/E23*J23) -> 0.5 | I23: =B23 -> sel | J23: =E23*$M$18% -> 0
A24: 40 | B24: pain complet | C24: #c | D24: 229 | E24: =D24/100*A24 -> 91.6 | H24: =IF(E24=0,A24,A24/E24*J24) -> 34.170854 | I24: =B24 -> pain complet | J24: =E24*$M$18% -> 78.251256
A25: 125 | B25: fromage blanc 20% | C25: #a | D25: 71 | E25: =D25/100*A25 -> 88.75 | H25: =IF(E25=0,A25,A25/E25*J25) -> 106.78392 | I25: =B25 -> fromage blanc 20% | J25: =E25*$M$18% -> 75.816583
A26: 100 | B26: salade de fruits frais | C26: #b | D26: 67 | E26: =D26/100*A26 -> 67 | H26: =IF(E26=0,A26,A26/E26*J26) -> 85.427136 | I26: =B26 -> salade de fruits frais | J26: =E26*$M$18% -> 57.236181
A27: 150 | B27: thé | D27: 0 | E27: =D27/100*A27 -> 0 | H27: =IF(E27=0,A27,A27/E27*J27) -> 150 | I27: =B27 -> thé | J27: =E27*$M$18% -> 0
A28: 12 | B28: sucre | C28: #e | D28: 400 | E28: =D28/100*A28 -> 48 | H28: =IF(E28=0,A28,A28/E28*J28) -> 10.251256 | I28: =B28 -> sucre | J28: =E28*$M$18% -> 41.005025
F29: =SUM(E22:E28) -> 375.75 | J29: TOTAL | K29: =SUM(J22:J28) -> 320.99246
A30: MIDI
A31: Penne all'arrabatia + mesclun
A32: 100 | B32: penne | C32: #b | D32: 116 | E32: =D32/100*A32 -> 116 | H32: =IF(E32=0,A32,A32/E32*J32) -> 85.427136 | I32: =B32 -> penne | J32: =E32*$M$18% -> 99.095477
A33: 2.5 | B33: piment rouge frais | C33: #a | D33: 45 | E33: =D33/100*A33 -> 1.125 | H33: =IF(E33=0,A33,A33/E33*J33) -> 2.1356784 | I33: =B33 -> piment rouge frais | J33: =E33*$M$18% -> 0.96105528
A34: 50 | B34: oignons | C34: #a | D34: 29 | E34: =D34/100*A34 -> 14.5 | H34: =IF(E34=0,A34,A34/E34*J34) -> 42.713568 | I34: =B34 -> oignons | J34: =E34*$M$18% -> 12.386935
A35: 1.5 | B35: aïl | C35: #a | D35: 131 | E35: =D35/100*A35 -> 1.965 | H35: =IF(E35=0,A35,A35/E35*J35) -> 1.281407 | I35: =B35 -> aïl | J35: =E35*$M$18% -> 1.6786432
A36: =150/4 -> 37.5 | B36: dés de jambon | C36: #c | D36: 125 | E36: =D36/100*A36 -> 46.875 | H36: =IF(E36=0,A36,A36/E36*J36) -> 32.035176 | I36: =B36 -> dés de jambon | J36: =E36*$M$18% -> 40.04397
A37: 50 | B37: sauce tomate | C37: #b | D37: 58 | E37: =D37/100*A37 -> 29 | H37: =IF(E37=0,A37,A37/E37*J37) -> 42.713568 | I37: =B37 -> sauce tomate | J37: =E37*$M$18% -> 24.773869
A38: 25 | B38: filets d'anchois | C38: #e | D38: 182 | E38: =D38/100*A38 -> 45.5 | H38: =IF(E38=0,A38,A38/E38*J38) -> 21.356784 | I38: =B38 -> filets d'anchois | J38: =E38*$M$18% -> 38.869347
A39: 15 | B39: olives noires | C39: #e | D39: 294 | E39: =D39/100*A39 -> 44.1 | H39: =IF(E39=0,A39,A39/E39*J39) -> 12.81407 | I39: =B39 -> olives noires | J39: =E39*$M$18% -> 37.673367
A40: 25 | B40: parmesan | C40: #d | D40: 391 | E40: =D40/100*A40 -> 97.75 | H40: =IF(E40=0,A40,A40/E40*J40) -> 21.356784 | I40: =B40 -> parmesan | J40: =E40*$M$18% -> 83.505025
A41: 6 | B41: huile d'olive | C41: #e | D41: 899 | E41: =D41/100*A41 -> 53.94 | H41: =IF(E41=0,A41,A41/E41*J41) -> 5.1256281 | I41: =B41 -> huile d'olive | J41: =E41*$M$18% -> 46.079397
A42: 1 | B42: sel | C42: #e | D42: 0 | E42: =D42/100*A42 -> 0 | H42: =IF(E42=0,A42,A42/E42*J42) -> 1 | I42: =B42 -> sel | J42: =E42*$M$18% -> 0
A43: 0.5 | B43: poivre | C43: #b | D43: 222 | E43: =D43/100*A43 -> 1.11 | H43: =IF(E43=0,A43,A43/E43*J43) -> 0.42713568 | I43: =B43 -> poivre | J43: =E43*$M$18% -> 0.94824121
A44: 50 | B44: mesclun | C44: #a | D44: 18 | E44: =D44/100*A44 -> 9 | H44: =IF(E44=0,A44,A44/E44*J44) -> 42.713568 | I44: =B44 -> mesclun | J44: =E44*$M$18% -> 7.6884422
A45: 12 | B45: sauce salade italienne | C45: #e | D45: 472 | E45: =D45/100*A45 -> 56.64 | H45: =IF(E45=0,A45,A45/E45*J45) -> 10.251256 | I45: =B45 -> sauce salade italienne | J45: =E45*$M$18% -> 48.38593
...

Sheet jour_6
A1: JOURNEE 6 | I1: Couleur Pan Metron | J1: a
A3: Apport calorique du jour (sans alcool) | D3: =ROUND(F73,0) -> 1992 | E3: kcal/jour
A4: (cf. menus Pan Metron ci-dessous)
A5: Consommation de vin | C5: ^ | D5: non | E5: =IF(D5="non","",IF(D5=1,d!B22,d!B23))
A6: Activités supplémentaires | D6: 0 | E6: kcal/jour | G6: >>>> | H6: calculateur des dépenses énergétiques
A7: Mon objectif | D7: =jour_1!D7 -> 1700 | E7: kcal/jour | H7: sous www.bonasavoir.ch/panmetron
D8: =IF(D5="non","",d!A24)
B10: Pour atteindre votre objectif, en tenant compte de votre activité physique supplémentaire,
B11: vous pouvez absorber | D11: =D7+D6 -> 1700 | E11: kcal
B12: soit | D12: =ABS(M13) -> 292 | E12: kcal | F12: =IF(M13>0,d!A44,d!A45) -> de moins que les menus Pan Metron du jour | M12: différence
F13: =IF(D5="non","",d!A46) | M13: =D3+E71-D11 -> 292
B15: =IF(M13<0,d!A48,d!A52) -> Il faut donc agir:_x000D_> Vous pouvez augmenter encore votre activité physique._x000D_> Ou/et diminuer la quantité de certains ingrédients des recettes du jour dans la première colonne, jusqu'à atteindre votre objectif. Visez de préférence les aliments rouge et orange, de façon à ne pas prétériter l'équilibre nutritionnel de la journée._x000D_> Si cela ne suffit toujours pas à atteindre votre objectif, le programme adapte proportionnellement les quantités pour y parvenir, sauf celles des boissons non caloriques (eau, café, etc.)
A17: Menus Pan Metron du jour | H17: Personnalisation | M17: pondération
A18: g/cl | B18: Ingrédients | D18: kcal | H18: =A18 -> g/cl | I18: Ingrédients | J18: kcal | M18: =100-(D12/((D11+D12)/100)) -> 85.341365
D19: pr 100 g | E19: réels | J19: réels
A21: PETIT DEJEUNER CEREALES
A22: 50 | B22: céréales au miel | C22: c | D22: 382 | E22: =D22/100*A22 -> 191 | H22: =IF(E22=0,A22,A22/E22*J22) -> 42.670683 | I22: =B22 -> céréales au miel | J22: =E22*$M$18% -> 163.00201
A23: 150 | B23: café | D23: 0 | E23: =D23/100*A23 -> 0 | H23: =IF(E23=0,A23,A23/E23*J23) -> 150 | I23: =B23 -> café | J23: =E23*$M$18% -> 0
A24: 4 | B24: sucre | C24: e | D24: 400 | E24: =D24/100*A24 -> 16 | H24: =IF(E24=0,A24,A24/E24*J24) -> 3.4136546 | I24: =B24 -> sucre | J24: =E24*$M$18% -> 13.654618
A25: 12 | B25: crème à café | C25: c | D25: 161 | E25: =D25/100*A25 -> 19.32 | H25: =IF(E25=0,A25,A25/E25*J25) -> 10.240964 | I25: =B25 -> crème à café | J25: =E25*$M$18% -> 16.487952
A26: 125 | B26: yogourt aux fruits | C26: b | D26: 87 | E26: =D26/100*A26 -> 108.75 | H26: =IF(E26=0,A26,A26/E26*J26) -> 106.67671 | I26: =B26 -> yogourt aux fruits | J26: =E26*$M$18% -> 92.808735
A27: 150 | B27: jus d'orange maison | C27: b | D27: 45 | E27: =D27/100*A27 -> 67.5 | H27: =IF(E27=0,A27,A27/E27*J27) -> 128.01205 | I27: =B27 -> jus d'orange maison | J27: =E27*$M$18% -> 57.605422
F28: =SUM(E22:E27) -> 402.57 | J28: TOTAL | K28: =SUM(J22:J27) -> 343.55873
A29: MIDI
A30: Salade de couscous aux merguez
A31: 90 | B31: merguez | C31: d | D31: 300 | E31: =D31/100*A31 -> 270 | H31: =IF(E31=0,A31,A31/E31*J31) -> 76.807229 | I31: =B31 -> merguez | J31: =E31*$M$18% -> 230.42169
A32: 50 | B32: semoule de couscous | C32: c | D32: 361 | E32: =D32/100*A32 -> 180.5 | H32: =IF(E32=0,A32,A32/E32*J32) -> 42.670683 | I32: =B32 -> semoule de couscous | J32: =E32*$M$18% -> 154.04116
A33: 62.5 | B33: bouillon de légumes | C33: a | D33: 6 | E33: =D33/100*A33 -> 3.75 | H33: =IF(E33=0,A33,A33/E33*J33) -> 53.338353 | I33: =B33 -> bouillon de légumes | J33: =E33*$M$18% -> 3.2003012
A34: =250/4 -> 62.5 | B34: aubergine | C34: a | D34: 17 | E34: =D34/100*A34 -> 10.625 | H34: =IF(E34=0,A34,A34/E34*J34) -> 53.338353 | I34: =B34 -> aubergine | J34: =E34*$M$18% -> 9.0675201
A35: 25 | B35: oignon | C35: a | D35: 29 | E35: =D35/100*A35 -> 7.25 | H35: =IF(E35=0,A35,A35/E35*J35) -> 21.335341 | I35: =B35 -> oignon | J35: =E35*$M$18% -> 6.187249
A36: 2.5 | B36: piment | C36: a | D36: 45 | E36: =D36/100*A36 -> 1.125 | H36: =IF(E36=0,A36,A36/E36*J36) -> 2.1335341 | I36: =B36 -> piment | J36: =E36*$M$18% -> 0.96009036
A37: 6 | B37: pignons | C37: d | D37: 594 | E37: =D37/100*A37 -> 35.64 | H37: =IF(E37=0,A37,A37/E37*J37) -> 5.1204819 | I37: =B37 -> pignons | J37: =E37*$M$18% -> 30.415663
A38: 4 | B38: huile d'olive | C38: e | D38: 899 | E38: =D38/100*A38 -> 35.96 | H38: =IF(E38=0,A38,A38/E38*J38) -> 3.4136546 | I38: =B38 -> huile d'olive | J38: =E38*$M$18% -> 30.688755
A39: 16 | B39: abricots secs | C39: d | D39: 275 | E39: =D39/100*A39 -> 44 | H39: =IF(E39=0,A39,A39/E39*J39) -> 13.654618 | I39: =B39 -> abricots secs | J39: =E39*$M$18% -> 37.550201
A40: 25 | B40: feta | C40: d | D40: 262 | E40: =D40/100*A40 -> 65.5 | H40: =IF(E40=0,A40,A40/E40*J40) -> 21.335341 | I40: =B40 -> feta | J40: =E40*$M$18% -> 55.898594
A41: 2 | B41: menthe | C41: a | D41: 49 | E41: =D41/100*A41 -> 0.98 | H41: =IF(E41=0,A41,A41/E41*J41) -> 1.7068273 | I41: =B41 -> menthe | J41: =E41*$M$18% -> 0.83634538
A42: 1 | B42: sel | C42: e | D42: 0 | E42: =D42/100*A42 -> 0 | H42: =IF(E42=0,A42,A42/E42*J42) -> 1 | I42: =B42 -> sel | J42: =E42*$M$18% -> 0
A43: 0.5 | B43: poivre | C43: b | D43: 222 | E43: =D43/100*A43 -> 1.11 | H43: =IF(E43=0,A43,A43/E43*J43) -> 0.42670683 | I43: =B43 -> poivre | J43: =E43*$M$18% -> 0.94728916
A44: En guise de dessert
A45: 150 | B45: poire | C45: b | D45: 53 | E45: =D45/100*A45 -> 79.5 | H45: =IF(E45=0,A45,A45/E45*J45) -> 128.01205 | I45: =B45 -> poire | J45: =E45*$M$18% -> 67.846386
...

Sheet jour_7
A1: JOURNEE 7 | I1: Couleur Pan Metron | J1: a
A3: Apport calorique du jour (sans alcool) | D3: =ROUND(F78,0) -> 1969 | E3: kcal/jour
A4: (cf. menus Pan Metron ci-dessous)
A5: Consommation de vin | C5: ^ | D5: non | E5: =IF(D5="non","",IF(D5=1,d!B22,d!B23))
A6: Activités supplémentaires | D6: 0 | E6: kcal/jour | G6: >>>> | H6: calculateur des dépenses énergétiques
A7: Mon objectif | D7: =jour_1!D7 -> 1700 | E7: kcal/jour | H7: sous www.bonasavoir.ch/panmetron
D8: =IF(D5="non","",d!A24)
B10: Pour atteindre votre objectif, en tenant compte de votre activité physique supplémentaire,
B11: vous pouvez absorber | D11: =D7+D6 -> 1700 | E11: kcal
B12: soit | D12: =ABS(M13) -> 269 | E12: kcal | F12: =IF(M13>0,d!A44,d!A45) -> de moins que les menus Pan Metron du jour
F13: =IF(D5="non","",d!A46) | M13: =D3+E76-D11 -> 269
B15: =IF(M13<-50,d!A48,IF(M13<0,d!A49,IF(M13=0,d!A50,IF(M13>50,d!A52,d!A51)))) -> Il faut donc agir:_x000D_> Vous pouvez augmenter encore votre activité physique._x000D_> Ou/et diminuer la quantité de certains ingrédients des recettes du jour dans la première colonne, jusqu'à atteindre votre objectif. Visez de préférence les aliments rouge et orange, de façon à ne pas prétériter l'équilibre nutritionnel de la journée._x000D_> Si cela ne suffit toujours pas à atteindre votre objectif, le programme adapte proportionnellement les quantités pour y parvenir, sauf celles des boissons non caloriques (eau, café, etc.)
A17: Menus Pan Metron du jour | H17: Personnalisation | M17: pondération (M18)
A18: g/cl | B18: Ingrédients | D18: kcal | H18: =A18 -> g/cl | I18: =B18 -> Ingrédients | J18: kcal | M18: =100-(D12/((D11+D12)/100)) -> 86.338243
D19: pr 100 g | E19: réels | J19: réels
A21: PETIT DEJEUNER CLASSIQUE
A22: 30 | B22: pain complet | C22: c | D22: 229 | E22: =D22/100*A22 -> 68.7 | H22: =IF(E22=0,A22,A22/E22*J22) -> 25.901473 | I22: =B22 -> pain complet | J22: =E22*$M$18% -> 59.314373
A23: 5 | B23: beurre | C23: e | D23: 747.3 | E23: =D23/100*A23 -> 37.365 | H23: =IF(E23=0,A23,A23/E23*J23) -> 4.3169121 | I23: =B23 -> beurre | J23: =E23*$M$18% -> 32.260284
A24: 10 | B24: confiture | C24: e | D24: 246 | E24: =D24/100*A24 -> 24.6 | H24: =IF(E24=0,A24,A24/E24*J24) -> 8.6338243 | I24: =B24 -> confiture | J24: =E24*$M$18% -> 21.239208
A25: 150 | B25: café | D25: 0 | E25: =D25/100*A25 -> 0 | H25: =IF(E25=0,A25,A25/E25*J25) -> 150 | I25: =B25 -> café | J25: =E25*$M$18% -> 0
A26: 4 | B26: sucre | C26: e | D26: 400 | E26: =D26/100*A26 -> 16 | H26: =IF(E26=0,A26,A26/E26*J26) -> 3.4535297 | I26: =B26 -> sucre | J26: =E26*$M$18% -> 13.814119
A27: 12 | B27: crème à café | C27: c | D27: 161 | E27: =D27/100*A27 -> 19.32 | H27: =IF(E27=0,A27,A27/E27*J27) -> 10.360589 | I27: =B27 -> crème à café | J27: =E27*$M$18% -> 16.680549
A28: 125 | B28: yogourt aux fruits | C28: b | D28: 87 | E28: =D28/100*A28 -> 108.75 | H28: =IF(E28=0,A28,A28/E28*J28) -> 107.9228 | I28: =B28 -> yogourt aux fruits | J28: =E28*$M$18% -> 93.892839
A29: 150 | B29: jus d'orange maison | C29: b | D29: 45 | E29: =D29/100*A29 -> 67.5 | H29: =IF(E29=0,A29,A29/E29*J29) -> 129.50736 | I29: =B29 -> jus d'orange maison | J29: =E29*$M$18% -> 58.278314
E30: TOTAL | F30: =SUM(E22:E29) -> 342.235 | J30: TOTAL | K30: =SUM(J22:J29) -> 295.47969
A31: MIDI
A32: Tarte au bleu et aux endives
A33: 30 | B33: oeufs | C33: a | D33: 146 | E33: =D33/100*A33 -> 43.8 | H33: =IF(E33=0,A33,A33/E33*J33) -> 25.901473 | I33: =B33 -> oeufs | J33: =E33*$M$18% -> 37.81615
A34: 3 | B34: farine | C34: c | D34: 338 | E34: =D34/100*A34 -> 10.14 | H34: =IF(E34=0,A34,A34/E34*J34) -> 2.5901473 | I34: =B34 -> farine | J34: =E34*$M$18% -> 8.7546978
A35: 50 | B35: crème liquide | C35: e | D35: 252 | E35: =D35/100*A35 -> 126 | H35: =IF(E35=0,A35,A35/E35*J35) -> 43.169121 | I35: =B35 -> crème liquide | J35: =E35*$M$18% -> 108.78619
A36: 50 | B36: tomate | C36: a | D36: 19 | E36: =D36/100*A36 -> 9.5 | H36: =IF(E36=0,A36,A36/E36*J36) -> 43.169121 | I36: =B36 -> tomate | J36: =E36*$M$18% -> 8.2021331
A37: 25 | B37: oignon | C37: a | D37: 29 | E37: =D37/100*A37 -> 7.25 | H37: =IF(E37=0,A37,A37/E37*J37) -> 21.584561 | I37: =B37 -> oignon | J37: =E37*$M$18% -> 6.2595226
A38: 50 | B38: endive | C38: a | D38: 10 | E38: =D38/100*A38 -> 5 | H38: =IF(E38=0,A38,A38/E38*J38) -> 43.169121 | I38: =B38 -> endive | J38: =E38*$M$18% -> 4.3169121
A39: 62 | B39: pâte feuilletée abaissée | C39: e | D39: 384 | E39: =D39/100*A39 -> 238.08 | H39: =IF(E39=0,A39,A39/E39*J39) -> 53.529711 | I39: =B39 -> pâte feuilletée abaissée | J39: =E39*$M$18% -> 205.55409
A40: 3 | B40: moutarde | C40: c | D40: 134 | E40: =D40/100*A40 -> 4.02 | H40: =IF(E40=0,A40,A40/E40*J40) -> 2.5901473 | I40: =B40 -> moutarde | J40: =E40*$M$18% -> 3.4707974
A41: 6 | B41: chapelure | C41: e | D41: 370 | E41: =D41/100*A41 -> 22.2 | H41: =IF(E41=0,A41,A41/E41*J41) -> 5.1802946 | I41: =B41 -> chapelure | J41: =E41*$M$18% -> 19.16709
A42: 12 | B42: fromage bleu | C42: e | D42: 342 | E42: =D42/100*A42 -> 41.04 | H42: =IF(E42=0,A42,A42/E42*J42) -> 10.360589 | I42: =B42 -> fromage bleu | J42: =E42*$M$18% -> 35.433215
A43: 2.5 | B43: cerfeuil | C43: a | D43: 44 | E43: =D43/100*A43 -> 1.1 | H43: =IF(E43=0,A43,A43/E43*J43) -> 2.1584561 | I43: =B43 -> cerfeuil | J43: =E43*$M$18% -> 0.94972067
A44: 50 | B44: salade | C44: a | D44: 18 | E44: =D44/100*A44 -> 9 | H44: =IF(E44=0,A44,A44/E44*J44) -> 43.169121 | I44: =B44 -> salade | J44: =E44*$M$18% -> 7.7704418
... A47: 0.5 | B47: poivre | C47: b | D47: 222 | E47: =D47/100*A47 -> 1.11 | H47: =IF(E47=0,A47,A47/E47*J47) -> 0.43169121 | I47: =B47 -> poivre | J47: =E47*$M$18% -> 0.95835449
...

Sheet jour_8
A1: JOURNEE 8 | I1: Couleur Pan Metron | J1: a
A3: Apport calorique du jour (sans alcool) | D3: =ROUND(F80,0) -> 1993 | E3: kcal/jour
A4: (cf. menus Pan Metron ci-dessous)
A5: Consommation de vin | C5: ^ | D5: non | E5: =IF(D5="non","",IF(D5=1,d!B22,d!B23))
A6: Activités supplémentaires | D6: 0 | E6: kcal/jour | G6: >>>> | H6: calculateur des dépenses énergétiques
A7: Mon objectif | D7: =jour_1!D7 -> 1700 | E7: kcal/jour | H7: sous www.bonasavoir.ch/panmetron
D8: =IF(D5="non","",d!A24)
B10: Pour atteindre votre objectif, en tenant compte de votre activité physique supplémentaire,
B11: vous pouvez absorber | D11: =D7+D6 -> 1700 | E11: kcal
B12: soit | D12: =ABS(M13) -> 293 | E12: kcal | F12: =IF(M13>0,d!A44,d!A45) -> de moins que les menus Pan Metron du jour
F13: =IF(D5="non","",d!A46) | M13: =D3+E78-D11 -> 293
B15: =IF(M13<-50,d!A48,IF(M13<0,d!A49,IF(M13=0,d!A50,IF(M13>50,d!A52,d!A51)))) -> Il faut donc agir:_x000D_> Vous pouvez augmenter encore votre activité physique._x000D_> Ou/et diminuer la quantité de certains ingrédients des recettes du jour dans la première colonne, jusqu'à atteindre votre objectif. Visez de préférence les aliments rouge et orange, de façon à ne pas prétériter l'équilibre nutritionnel de la journée._x000D_> Si cela ne suffit toujours pas à atteindre votre objectif, le programme adapte proportionnellement les quantités pour y parvenir, sauf celles des boissons non caloriques (eau, café, etc.)
A17: Menus Pan Metron du jour | H17: Personnalisation | M17: pondération (M18)
A18: g/cl | B18: Ingrédients | D18: kcal | H18: =A18 -> g/cl | I18: =B18 -> Ingrédients | J18: kcal | M18: =100-(D12/((D11+D12)/100)) -> 85.298545
D19: pr 100 g | E19: réels | J19: réels
A21: PETIT DEJEUNER AVEC ŒUF
A22: 60 | B22: œuf à la coque | C22: a | D22: 134 | E22: =D22/100*A22 -> 80.4 | H22: =IF(E22=0,A22,A22/E22*J22) -> 51.179127 | I22: =B22 -> œuf à la coque | J22: =E22*$M$18% -> 68.58003
A23: 0.5 | B23: sel | C23: e | D23: 0 | E23: =D23/100*A23 -> 0 | H23: =IF(E23=0,A23,A23/E23*J23) -> 0.5 | I23: =B23 -> sel | J23: =E23*$M$18% -> 0
A24: 40 | B24: pain complet | C24: c | D24: 229 | E24: =D24/100*A24 -> 91.6 | H24: =IF(E24=0,A24,A24/E24*J24) -> 34.119418 | I24: =B24 -> pain complet | J24: =E24*$M$18% -> 78.133467
A25: 125 | B25: fromage blanc 20% | C25: a | D25: 71 | E25: =D25/100*A25 -> 88.75 | H25: =IF(E25=0,A25,A25/E25*J25) -> 106.62318 | I25: =B25 -> fromage blanc 20% | J25: =E25*$M$18% -> 75.702459
A26: 100 | B26: salade de fruits frais | C26: b | D26: 67 | E26: =D26/100*A26 -> 67 | H26: =IF(E26=0,A26,A26/E26*J26) -> 85.298545 | I26: =B26 -> salade de fruits frais | J26: =E26*$M$18% -> 57.150025
A27: 150 | B27: thé | D27: 0 | E27: =D27/100*A27 -> 0 | H27: =IF(E27=0,A27,A27/E27*J27) -> 150 | I27: =B27 -> thé | J27: =E27*$M$18% -> 0
A28: 12 | B28: sucre | C28: e | D28: 400 | E28: =D28/100*A28 -> 48 | H28: =IF(E28=0,A28,A28/E28*J28) -> 10.235825 | I28: =B28 -> sucre | J28: =E28*$M$18% -> 40.943302
E29: TOTAL | F29: =SUM(E22:E28) -> 375.75 | J29: TOTAL | K29: =SUM(J22:J28) -> 320.50928
A30: MIDI
A31: Emincé de veau aux petits légumes
A32: =(125*6)/4 -> 187.5 | B32: 6 carottes | C32: a | D32: 30 | E32: =D32/100*A32 -> 56.25 | H32: =IF(E32=0,A32,A32/E32*J32) -> 159.93477 | I32: =B32 -> 6 carottes | J32: =E32*$M$18% -> 47.980432
A33: =165/4 -> 41.25 | B33: 1 poireau | C33: a | D33: 30 | E33: =D33/100*A33 -> 12.375 | H33: =IF(E33=0,A33,A33/E33*J33) -> 35.18565 | I33: =B33 -> 1 poireau | J33: =E33*$M$18% -> 10.555695
A34: 25 | B34: 1 oignon | C34: a | D34: 29 | E34: =D34/100*A34 -> 7.25 | H34: =IF(E34=0,A34,A34/E34*J34) -> 21.324636 | I34: =B34 -> 1 oignon | J34: =E34*$M$18% -> 6.1841445
A35: 150 | B35: 600 g. d'émincé de veau | C35: a | D35: 98 | E35: =D35/100*A35 -> 147 | H35: =IF(E35=0,A35,A35/E35*J35) -> 127.94782 | I35: =B35 -> 600 g. d'émincé de veau | J35: =E35*$M$18% -> 125.38886
A36: 4.5 | B36: 1 c.s. d'huile de tournesol | C36: d | D36: 899 | E36: =D36/100*A36 -> 40.455 | H36: =IF(E36=0,A36,A36/E36*J36) -> 3.8384345 | I36: =B36 -> 1 c.s. d'huile de tournesol | J36: =E36*$M$18% -> 34.507526
A37: 2.5 | B37: 1 cube de bouillon boeuf | C37: e | D37: 240 | E37: =D37/100*A37 -> 6 | H37: =IF(E37=0,A37,A37/E37*J37) -> 2.1324636 | I37: =B37 -> 1 cube de bouillon boeuf | J37: =E37*$M$18% -> 5.1179127
A38: 12.5 | B38: 0.5 dl de vin blanc | E38: =D38/100*A38 -> 0 | H38: =IF(E38=0,A38,A38/E38*J38) -> 12.5 | I38: =B38 -> 0.5 dl de vin blanc | J38: =E38*$M$18% -> 0
A39: 12 | B39: 4 c.s. de crème | C39: e | D39: 252 | E39: =D39/100*A39 -> 30.24 | H39: =IF(E39=0,A39,A39/E39*J39) -> 10.235825 | I39: =B39 -> 4 c.s. de crème | J39: =E39*$M$18% -> 25.79428
A40: 62.5 | B40: riz (sec) | C40: c | D40: 349 | E40: =D40/100*A40 -> 218.125 | H40: =IF(E40=0,A40,A40/E40*J40) -> 53.311591 | I40: =B40 -> riz (sec) | J40: =E40*$M$18% -> 186.05745
A41: En guise de dessert
A42: 80 | B42: sorbet aux fruits | C42: d | D42: 135 | E42: =D42/100*A42 -> 108 | H42: =IF(E42=0,A42,A42/E42*J42) -> 68.238836 | I42: =B42 -> sorbet aux fruits | J42: =E42*$M$18% -> 92.122428
E43: TOTAL | F43: =SUM(E32:E42) -> 625.695 | J43: TOTAL | K43: =SUM(J32:J42) -> 533.70873
A45: QUATRE HEURES
A46: 150 | B46: orange | C46: a | D46: 40 | E46: =D46/100*A46 -> 60 | H46: =IF(E46=0,A46,A46/E46*J46) -> 127.94782 | I46: =B46 -> orange | J46: =E46*$M$18% -> 51.179127
...

Sheet jour_9
A1: JOURNEE 9 | I1: Couleur Pan Metron | J1: a
A3: Apport calorique du jour (sans alcool) | D3: =ROUND(F78,0) -> 1998 | E3: kcal/jour
A4: (cf. menus Pan Metron ci-dessous)
A5: Consommation de vin | C5: ^ | D5: non | E5: =IF(D5="non","",IF(D5=1,d!B22,d!B23))
A6: Activités supplémentaires | D6: 0 | E6: kcal/jour | G6: >>>> | H6: calculateur des dépenses énergétiques
A7: Mon objectif | D7: =jour_1!D7 -> 1700 | E7: kcal/jour | H7: sous www.bonasavoir.ch/panmetron
D8: =IF(D5="non","",d!A24)
B10: Pour atteindre votre objectif, en tenant compte de votre activité physique supplémentaire,
B11: vous pouvez absorber | D11: =D7+D6 -> 1700 | E11: kcal
B12: soit | D12: =ABS(M13) -> 298 | E12: kcal | F12: =IF(M13>0,d!A44,d!A45) -> de moins que les menus Pan Metron du jour
F13: =IF(D5="non","",d!A46) | M13: =D3+E76-D11 -> 298
B15: =IF(M13<-50,d!A48,IF(M13<0,d!A49,IF(M13=0,d!A50,IF(M13>50,d!A52,d!A51)))) -> Il faut donc agir:_x000D_> Vous pouvez augmenter encore votre activité physique._x000D_> Ou/et diminuer la quantité de certains ingrédients des recettes du jour dans la première colonne, jusqu'à atteindre votre objectif. Visez de préférence les aliments rouge et orange, de façon à ne pas prétériter l'équilibre nutritionnel de la journée._x000D_> Si cela ne suffit toujours pas à atteindre votre objectif, le programme adapte proportionnellement les quantités pour y parvenir, sauf celles des boissons non caloriques (eau, café, etc.)
A17: Menus Pan Metron du jour | H17: Personnalisation | M17: pondération (M18)
A18: g/cl | B18: Ingrédients | D18: kcal | H18: =A18 -> g/cl | I18: =B18 -> Ingrédients | J18: kcal | M18: =100-(D12/((D11+D12)/100)) -> 85.085085
D19: pr 100 g | E19: réels | J19: réels
A21: PETIT DEJEUNER CEREALES
A22: 50 | B22: céréales au miel | C22: c | D22: 382 | E22: =D22/100*A22 -> 191 | H22: =IF(E22=0,A22,A22/E22*J22) -> 42.542543 | I22: =B22 -> céréales au miel | J22: =E22*$M$18% -> 162.51251
A23: 150 | B23: café | D23: 0 | E23: =D23/100*A23 -> 0 | H23: =IF(E23=0,A23,A23/E23*J23) -> 150 | I23: =B23 -> café | J23: =E23*$M$18% -> 0
A24: 4 | B24: sucre | C24: e | D24: 400 | E24: =D24/100*A24 -> 16 | H24: =IF(E24=0,A24,A24/E24*J24) -> 3.4034034 | I24: =B24 -> sucre | J24: =E24*$M$18% -> 13.613614
