Workbook

Sheet sommaire
A1: Gardez la ligne
A2: Le guide pratique
A4: Début de l'exercice (premier jour où vous suivrez les menus) | F4: 43586 | G4: (JJ/MM/AA)
G5: attention: utiliser les barres transversales!
A6: Commencer par calculer vos besoins énegrétiques | H6: repas sans viande ni poisson
A7: >>> Faites le point sur vos dépenses et vos besoins caloriques | H7: repas avec poisson
H8: repas avec viande
A9: Puis suivez nos recettes durant un mois
D10: PETIT DEJEUNER | E10: MIDI | F10: GOÛTER | G10: SOIR | H10: DESSERT
A11: >> | B11: Journée 1 | C11: =F4 -> 43586 | D11: classique | E11: =jour_1!A32 -> Linguine au citron et au basilic, salade de crudités | F11: =jour_1!B48 -> cookie aux pépites chocolat | G11: =jour_1!A51 -> Côtes de veau au curry avec riz | H11: =jour_1!A63 -> Flan à la noix de coco
A12: >> | B12: Journée 2 | C12: =DATE(YEAR(C11),MONTH(C11),DAY(C11)+1) -> 43587 | D12: avec œuf | E12: =jour_2!A31 -> Quiche au légumes et aux lardons | F12: =jour_2!B49 -> yogourt grec de brebis | G12: =jour_2!A54 -> Dos de cabillaud au chorizo, purée et endives | H12: =jour_2!A68 -> Clafoutis à la rhubarbe et à la canelle
A13: >> | B13: Journée 3 | C13: =DATE(YEAR(C12),MONTH(C12),DAY(C12)+1) -> 43588 | D13: céréales | E13: =jour_3!A30 -> Croque-Madame au chèvre avec salade | F13: =jour_3!B43 -> pomme | G13: =jour_3!A47 -> Blanc de poulet tandoori, riz basmati, légumes | H13: =jour_3!A67 -> Tarte à la ricotta et aux fruits rouges
A14: >> | B14: Journée 4 | C14: =DATE(YEAR(C13),MONTH(C13),DAY(C13)+1) -> 43589 | D14: classique | E14: =jour_4!A31 -> Gnochi au jambon cru et salade crudités | F14: =jour_4!B49 -> banane | G14: =jour_4!A52 -> Rouleau deux saumons et chou , boulgour | H14: =jour_4!A67 -> Mousse au café
A15: >> | B15: Journée 5 | C15: =DATE(YEAR(C14),MONTH(C14),DAY(C14)+1) -> 43590 | D15: avec œuf | E15: =jour_5!A31 -> Penne all'arrabatia + mesclun | F15: =jour_5!B51 -> yogourt grec | G15: =jour_5!A55 -> Bavette à la Lyonnaise , pommes de terre sautées et thian de légumes | H15: =jour_5!A67 -> Cake au citron
A16: >> | B16: Journée 6 | C16: =DATE(YEAR(C15),MONTH(C15),DAY(C15)+1) -> 43591 | D16: céréales | E16: =jour_6!A30 -> Salade de couscous aux merguez | F16: =jour_6!B49 -> petit-suisse | G16: =jour_6!A54 -> Truite aux lentilles | H16: =jour_6!B68 -> glace
A17: >> | B17: Journée 7 | C17: =DATE(YEAR(C16),MONTH(C16),DAY(C16)+1) -> 43592 | D17: classique | E17: Tarte au bleu et aux endives | F17: =jour_7!B49 -> yogourt aux fruits | G17: =jour_7!A56 -> Lapin aux amandes, purée, épinards | H17: =jour_7!B74 -> pomme
A18: >> | B18: Journée 8 | C18: =DATE(YEAR(C17),MONTH(C17),DAY(C17)+1) -> 43593 | D18: avec œuf | E18: =jour_8!A31 -> Emincé de veau aux petits légumes | F18: =jour_8!B46 -> orange | G18: =jour_8!A49 -> Boulettes végétariennes et salade mixte | H18: =jour_8!A69 -> Verrine aux pommes et noisettes
A19: >> | B19: Journée 9 | C19: =DATE(YEAR(C18),MONTH(C18),DAY(C18)+1) -> 43594 | D19: céréales | E19: =jour_9!A30 -> Brochettes de lotte marinée, riz blanc et piperade | F19: =jour_9!B54 -> yogourt nature | G19: =jour_9!A58 -> Choix de fromages, pommes de terre vapeur, salade verte | H19: =jour_9!A67 -> Salade de fruits
A20: >> | B20: Journée 10 | C20: =DATE(YEAR(C19),MONTH(C19),DAY(C19)+1) -> 43595 | D20: classique | E20: =jour_10!A32 -> Spaghetti à la crème d'aubergines, salade de carottes orange | F20: =jour_10!B49 -> cookie aux pépites chocolat | G20: =jour_10!A52 -> Cuisses de poulet chasseur, endives au soja | H20: =jour_10!A69 -> Verrine de ricotta au citron
A21: >> | B21: Journée 11 | C21: =DATE(YEAR(C20),MONTH(C20),DAY(C20)+1) -> 43596 | D21: avec œuf | E21: =jour_11!A31 -> Chili végétarien, blé Ebly, salade | F21: =jour_11!B50 -> pain de seigle | G21: =jour_11!A54 -> Foie de veau au bacon, pdt nouvelles, carottes au cumin | H21: =jour_11!A68 -> Mousse au chocolat
A22: >> | B22: Journée 12 | C22: =DATE(YEAR(C21),MONTH(C21),DAY(C21)+1) -> 43597 | D22: céréales | E22: =jour_12!A30 -> Risotto forestier à la sauge, salade de rampon | F22: =jour_12!B49 -> yogourt grec de brebis | G22: =jour_12!A53 -> Saucisson de Morteau et poireau en croûte, salade de tomates
A23: >> | B23: Journée 13 | C23: =DATE(YEAR(C22),MONTH(C22),DAY(C22)+1) -> 43598 | D23: classique | E23: =jour_13!A32 -> Salade de crevette, avocats et fenouils | F23: =jour_13!B50 -> barre de céréales aux fruits | G23: =jour_13!A53 -> Bœuf haché aux poivrons, pommes de terre au four
A24: >> | B24: Journée 14 | C24: =DATE(YEAR(C23),MONTH(C23),DAY(C23)+1) -> 43599 | D24: avec œuf | E24: =jour_14!A31 -> Jambon à la crème | F24: =jour_14!B48 -> pomme | G24: =jour_14!A52 -> Couscous aux légumes | H24: =jour_14!A74 -> Poire au yogourt à la menthe
A25: >> | B25: Journée 15 | C25: =DATE(YEAR(C24),MONTH(C24),DAY(C24)+1) -> 43600 | D25: céréales | E25: =jour_15!A30 -> Tarte aux légumes et au jambon sec | F25: =jour_15!B43 -> orange | G25: =jour_15!A51 -> Filet de cabillaud à la tapenade, pâtes au basilic | H25: =jour_15!A63 -> Salade de fruits
A26: >> | B26: Journée 16 | C26: =DATE(YEAR(C25),MONTH(C25),DAY(C25)+1) -> 43601 | D26: classique | E26: =jour_16!A32 -> Galettes de pommes de terre au Gruyères | F26: =jour_16!B50 -> banane | G26: =jour_16!A53 -> Filet d'agneau aux épices et son chou frisé | H26: =jour_16!A67 -> Mousse au citron sur genoise
A27: >> | B27: Journée 17 | C27: =DATE(YEAR(C26),MONTH(C26),DAY(C26)+1) -> 43602 | D27: avec œuf | E27: =jour_17!A31 -> Riz en salade à l'italienne | F27: =jour_17!B48 -> pomme | G27: =jour_17!A52 -> Spaghetti à la mode d'Ascona | H27: =jour_17!A68 -> Pommes au four et fruits secs
A28: >> | B28: Journée 18 | C28: =DATE(YEAR(C27),MONTH(C27),DAY(C27)+1) -> 43603 | D28: céréales | E28: =jour_18!A30 -> Samosas aux légumes | F28: =jour_18!B55 -> petit-suisse | G28: =jour_18!A59 -> Baudroie au curry et pommes vertes | H28: =jour_18!A74 -> Litchis et gelée de rose
A29: >> | B29: Journée 19 | C29: =DATE(YEAR(C28),MONTH(C28),DAY(C28)+1) -> 43604 | D29: avec œuf | E29: =jour_19!A31 -> Salade de chèvre chaud aux noix | F29: =jour_19!B41 -> yogourt grec | G29: =jour_19!A49 -> Entrecôte de boeuf mariné, frites, tomates provençales | H29: =jour_19!A61 -> Délice à la mangue et à l’ananas
A30: >> | B30: Journée 20 | C30: =DATE(YEAR(C29),MONTH(C29),DAY(C29)+1) -> 43605 | D30: classique | E30: =jour_20!A32 -> Cocos blancs en sauce au potiron épicée | F30: =jour_20!B55 -> barre de céréales aux fruits | G30: =jour_20!A58 -> Risotto au saumon fumé, parfumé au chardonnay | H30: =jour_20!A72 -> Tartelette aux framboises
A31: >> | B31: Journée 21 | C31: =DATE(YEAR(C30),MONTH(C30),DAY(C30)+1) -> 43606 | D31: céréales | E31: =jour_21!A30 -> Burger de röstis aux légumes grillés | F31: =jour_21!B46 -> yogourt mocca | G31: =jour_21!A49 -> Porc au lait de coco , fusili et choux-fleur | H31: =jour_21!A62 -> Tarte légère aux pommes
A32: >> | B32: Journée 22 | C32: =DATE(YEAR(C31),MONTH(C31),DAY(C31)+1) -> 43607 | D32: classique | E32: =jour_22!A32 -> Salade asiatique de vermicelles aux crevettes | F32: =jour_22!B52 -> meringues de Gruyères | G32: =jour_22!A57 -> Lasagne de la rivière au lac | H32: =jour_22!A74 -> Yogourt glacé aux myrtilles
A33: >> | B33: Journée 23 | C33: =DATE(YEAR(C32),MONTH(C32),DAY(C32)+1) -> 43608 | D33: avec œuf | E33: =jour_23!A31 -> Pizza aux courgettes et au lard | F33: =jour_23!B47 -> yogourt aux fruits | G33: =jour_23!A50 -> Cuisses de lapin sauce moutarde, polenta nera | H33: =jour_23!A67 -> Mousse de fromage blanc aux framboises
A34: >> | B34: Journée 24 | C34: =DATE(YEAR(C33),MONTH(C33),DAY(C33)+1) -> 43609 | D34: céréales | E34: =jour_24!A30 -> Dorade à la purée de laitue et d'oseille | F34: =jour_24!B46 -> petit-suisse | G34: =jour_24!A50 -> Betteraves et pommes de terre façon raclette
A35: >> | B35: Journée 25 | C35: =DATE(YEAR(C34),MONTH(C34),DAY(C34)+1) -> 43610 | D35: classique | E35: =jour_25!A32 -> Gratin de pâtes au safran et aux bolets | F35: =jour_25!B51 -> baton de glace enrobé de chocolat (75 g) | G35: =jour_25!A54 -> Brochettes de poulet au couscous | H35: =jour_25!A68 -> Mousse d'orange
A36: >> | B36: Journée 26 | C36: =DATE(YEAR(C35),MONTH(C35),DAY(C35)+1) -> 43611 | D36: avec œuf | E36: =jour_26!A31 -> Gratin de poireau et lentilles rouges | F36: =jour_26!B42 -> pamplemousse rose | G36: =jour_26!A46 -> Choucroute de poisson neptune crème au cerfeuil | H36: =jour_26!A60 -> Tartelette de vermicelles à la crème de marron
A37: >> | B37: Journée 27 | C37: =DATE(YEAR(C36),MONTH(C36),DAY(C36)+1) -> 43612 | D37: céréales | E37: =jour_27!A30 -> Omelette au poivron et mozzarella | F37: =jour_27!B46 -> yogourt grec | G37: =jour_27!A50 -> Emincé de veau à la zurichoise avec ses röstis | H37: =jour_27!A70 -> Panna cotta au lime et compote de pêches
A38: >> | B38: Journée 28 | C38: =DATE(YEAR(C37),MONTH(C37),DAY(C37)+1) -> 43613 | D38: classique | E38: =jour_28!A32 -> Spaghetti aux calamars | F38: =jour_28!B49 -> nougat glacé | G38: =jour_28!A52 -> Côtes d'agneau et légumes toutes saveurs | H38: =jour_28!A68 -> Gâteau confit de pommes

Sheet bilan
A1: Faites le point sur vos dépenses et vos besoins caloriques
A2: L’estimation, bien plus précise que la formule approximative de Blank*, se fonde sur 14 jours d’observation de votre alimentation et de vos activités physiques. Instruisez toutes les cellules oranges (si vous n'indiquez rien, la valeur retenue est égale à 0). 1) Notez, le matin du premier jour, la date et votre poids à jeun. 2) Puis, chaque jour, notez, dans la colonne «Alimentation» la quantité de calories que contenait votre alimentation. Pour la mesurer, utilisez notre calculateur «Bilan journalier»*. 3) Ajoutez votre éventuelle consommation d’alcool, exprimée en dl. Un verre de vin représente environ 1,25 dl, un cognac ou une eau de vie entre 0,2 et 0,4 dl.* 4) Notez également le nombre de pas effectués lors vos déplacement réguliers, ceux que vous faites inévitablement (par exemple lors du trajet domicile-travail aller et retour), mais pas ceux que vous faites exceptionnellement (voir point suivant). Pour ce faire, utilisez un podomètre*. 5) Notez aussi les dépenses énergétiques dues à des activités physiques ponctuelles (marche hors routine, footing, vélo, fitness, etc.). Elles dépendent non seulement de l’activité pratiquée, mais aussi de votre poids. Pour les mesurer, utilisez notre calculateur «Dépenses énergétiques»*.
A3: 6) En fin de bilan, notez votre poids, toujours à jeun, le matin du 15e jour. Le programme calcule automatiquement votre consommation énergétique moyenne et ce que vous devriez stocker en moins ou en plus pour maintenir votre poids. Vous pouvez aussi indiquer si vous souhaitez perdre du poids (entre 1 et 2 kilos) dans le mois à venir et le programme estimera quel doit être, à cette fin, l’apport calorique journalier à ne pas dépasser. Ce résultat est automatiquement reporté (sans possibilité de modification) dans les pages suivantes. Attention: dans un premier temps, les estimations pour maintenir ou perdre du poids ne tiennent pas compte de la consommation d'alcool et des activités physiques. Ne vous inquiétez pas: lors de la phase d'action, vous aurez l'occasion de les intégrer dans chaque bilan journalier, comme vous le verrez dans les feuille suivantes.
G4: * Retrouvez les calculateurs sous www.bonasavoir.ch/panmetron
A5: Début du bilan
A6: Date | B6: 43539 | C6: (JJ/MM/AA)
A7: Poids | B7: 78 | C7: kg (poids le matin du premier jour, à jeun)
A9: 14 jours de bilan
C11: Alimentation | D11: Alcool (en dl) | F11: Déplacements | G11: Activité physiques
C12: (en kcal) | D12: vin | E12: schnaps | F12: réguliers (en pas) | G12: (en kcal)
A13: Première semaine
A14: Jour 1 | B14: =B6 -> 43539 | C14: 2200 | D14: 2 | F14: 4200 | G14: 500
A15: Jour 2 | B15: =DATE(YEAR(B14),MONTH(B14),DAY(B14)+1) -> 43540 | C15: 2300 | E15: 0.4 | F15: 4500
A16: Jour 3 | B16: =DATE(YEAR(B15),MONTH(B15),DAY(B15)+1) -> 43541 | C16: 2300 | D16: 2.5 | F16: 3600
A17: Jour 4 | B17: =DATE(YEAR(B16),MONTH(B16),DAY(B16)+1) -> 43542 | C17: 2300 | D17: 3 | F17: 5200 | G17: 200
A18: Jour 5 | B18: =DATE(YEAR(B17),MONTH(B17),DAY(B17)+1) -> 43543 | C18: 2100 | F18: 5500
A19: Jour 6 | B19: =DATE(YEAR(B18),MONTH(B18),DAY(B18)+1) -> 43544 | C19: 2100 | D19: 2 | F19: 3800 | G19: 300
A20: Jour 7 | B20: =DATE(YEAR(B19),MONTH(B19),DAY(B19)+1) -> 43545 | C20: 2200 | D20: 3.5 | E20: 0.4 | F20: 2500 | G20: 200
A21: Deuxième semaine
A22: Jour 8 | B22: =DATE(YEAR(B20),MONTH(B20),DAY(B20)+1) -> 43546 | C22: 2300 | F22: 4000 | G22: 500
A23: Jour 9 | B23: =DATE(YEAR(B22),MONTH(B22),DAY(B22)+1) -> 43547 | C23: 2500 | D23: 2 | E23: 0.2 | F23: 4500
A24: Jour 10 | B24: =DATE(YEAR(B23),MONTH(B23),DAY(B23)+1) -> 43548 | C24: 1950 | D24: 2.5 | F24: 6200
A25: Jour 11 | B25: =DATE(YEAR(B24),MONTH(B24),DAY(B24)+1) -> 43549 | C25: 2300 | E25: 0.2 | F25: 4800 | G25: 200
A26: Jour 12 | B26: =DATE(YEAR(B25),MONTH(B25),DAY(B25)+1) -> 43550 | C26: 2200 | F26: 3000
A27: Jour 13 | B27: =DATE(YEAR(B26),MONTH(B26),DAY(B26)+1) -> 43551 | C27: 2200 | D27: 2 | F27: 4100 | G27: 300
A28: Jour 14 | B28: =DATE(YEAR(B27),MONTH(B27),DAY(B27)+1) -> 43552 | C28: 2400 | F28: 3500 | G28: 200
A30: Poids final | B30: 78.5 | C30: kg (poids le matin du 15e jour, à jeun )
A32: Bilan général
A34: EN MOYENNE
A35: > vous avez mangé l'équivalent de | D35: =SUM(C14:C28)/14 -> 2239.2857 | E35: kcal/jour
A36: > vous avez bu l'équivalent de | D36: =((SUM(D14:D28)*90)+(SUM(E14:E28)*280))/14 -> 149.35714 | E36: kcal/jour sous forme d'alcool
A37: > vous avez dépensé (activités phys. ponctuelles) | D37: =SUM(G14:G28)/14 -> 171.42857 | E37: kcal/jour
A39: Sans tenir compte de l'alcool et des activités physiques hors routine, votre consommation
B40: énergétique a donc été de | C40: =D35+D36-D37 -> 2217.2143 | D40: kcal/jour
A41: et elle vous a fait | B41: =IF(B30>B7,"prendre","perdre") -> prendre | C41: =ABS(I41) -> 0.5 | D41: kg en 14 jours | I41: =B30-B7 -> 0.5
B42: ce qui correspond à | C42: =ABS(I42) -> 1 | D42: kg en un mois. | I42: =I41*2 -> 1
C43: Pour stabiliser votre poids, vous devriez donc | D43: =IF(B30>B7,"réduire","augmenter") -> réduire | E43: l'apport calorique
D44: de votre alimentation de | E44: =ABS(I42*7000)/28 -> 250 | F44: kcal/jour*
C45: Si c'est votre but, il se monterait alors à | D45: =C40-E44 -> 1967.2143 | E45: kcal/jour*
B47: Si vous souhaitez aussi perdre | C47: 1 | D47: kg dans le mois à venir
C48: votre alimentationt ne devrait pas dépasser | D48: =D45-(C47*250) -> 1717.2143 | E48: kcal/jour*
F49: * calcul très approximatif fondé sur l'estimation que 1 kilo de graisse est égal à environ 7000 kcal
A50: <<<<<<< | B50: RETOUR AU SOMMAIRE

Sheet jour_1
A1: JOURNEE 1 | I1: Couleur Pan Metron | J1: a
A3: Apport calorique du jour (sans alcool) | D3: =ROUND(F72,0) -> 2001 | E3: kcal/jour
A4: (cf. menus Pan Metron ci-dessous)
A5: Consommation de vin | C5: ^ | D5: non | E5: =IF(D5="non","",IF(D5="1 verre",d!B22,d!B23))
A6: Activités supplémentaires | D6: 200 | E6: kcal/jour | G6: >>>> | H6: calculateur des dépenses énergétiques
A7: Mon objectif | C7: ^ | D7: 1700 | E7: kcal/jour | H7: sous www.bonasavoir.ch/panmetron
D8: =IF(D5="non","",d!A24)
B10: Pour atteindre votre objectif, en tenant compte de votre activité physique supplémentaire,
B11: vous pouvez absorber | D11: =D7+D6-E70 -> 1900 | E11: kcal
B12: soit | D12: =ABS(M13) -> 101 | E12: kcal | F12: =IF(M13>0,d!A44,d!A45) -> de moins que les menus Pan Metron du jour
F13: =IF(D5="non","",d!A46) | M13: =D3+E70-D11 -> 101
B15: =IF(M13<-50,d!A48,IF(M13<0,d!A49,IF(M13=0,d!A50,IF(M13>50,d!A52,d!A51)))) -> Il faut donc agir:_x000D_> Vous pouvez augmenter encore votre activité physique._x000D_> Ou/et diminuer la quantité de certains ingrédients des recettes du jour dans la première colonne, jusqu'à atteindre votre objectif. Visez de préférence les aliments rouge et orange, de façon à ne pas prétériter l'équilibre nutritionnel de la journée._x000D_> Si cela ne suffit toujours pas à atteindre votre objectif, le programme adapte proportionnellement les quantités pour y parvenir, sauf celles des boissons non caloriques (eau, café, etc.)
A17: Menus Pan Metron du jour | H17: Personnalisation | M17: pondération (M18)
A18: g/cl | B18: Ingrédients | D18: kcal | H18: =A18 -> g/cl | I18: =B18 -> Ingrédients | J18: kcal | M18: =100-(D12/((D11+D12)/100)) -> 94.952524
D19: pr 100 g | E19: réels | J19: réels
A21: PETIT DEJEUNER CLASSIQUE
A22: 30 | B22: pain complet | C22: c | D22: 229 | E22: =D22/100*A22 -> 68.7 | H22: =IF(E22=0,A22,A22/E22*J22) -> 28.485757 | I22: =B22 -> pain complet | J22: =E22*$M$18% -> 65.232384
A23: 5 | B23: beurre | C23: e | D23: 747.3 | E23: =D23/100*A23 -> 37.365 | H23: =IF(E23=0,A23,A23/E23*J23) -> 4.7476262 | I23: =B23 -> beurre | J23: =E23*$M$18% -> 35.47901
A24: 10 | B24: confiture | C24: e | D24: 246 | E24: =D24/100*A24 -> 24.6 | H24: =IF(E24=0,A24,A24/E24*J24) -> 9.4952524 | I24: =B24 -> confiture | J24: =E24*$M$18% -> 23.358321
A25: 150 | B25: café | D25: 0 | E25: =D25/100*A25 -> 0 | H25: =IF(E25=0,A25,A25/E25*J25) -> 150 | I25: =B25 -> café | J25: =E25*$M$18% -> 0
A26: 4 | B26: sucre | C26: e | D26: 400 | E26: =D26/100*A26 -> 16 | H26: =IF(E26=0,A26,A26/E26*J26) -> 3.7981009 | I26: =B26 -> sucre | J26: =E26*$M$18% -> 15.192404
A27: 12 | B27: crème à café | C27: c | D27: 161 | E27: =D27/100*A27 -> 19.32 | H27: =IF(E27=0,A27,A27/E27*J27) -> 11.394303 | I27: =B27 -> crème à café | J27: =E27*$M$18% -> 18.344828
A28: 125 | B28: yogourt aux fruits | C28: b | D28: 87 | E28: =D28/100*A28 -> 108.75 | H28: =IF(E28=0,A28,A28/E28*J28) -> 118.69065 | I28: =B28 -> yogourt aux fruits | J28: =E28*$M$18% -> 103.26087
A29: 150 | B29: jus d'orange maison | C29: b | D29: 45 | E29: =D29/100*A29 -> 67.5 | H29: =IF(E29=0,A29,A29/E29*J29) -> 142.42879 | I29: =B29 -> jus d'orange maison | J29: =E29*$M$18% -> 64.092954
E30: TOTAL | F30: =SUM(E22:E29) -> 342.235 | J30: TOTAL | K30: =SUM(J22:J29) -> 324.96077
A31: MIDI
A32: Linguine au citron et au basilic, salade de crudités
A33: 100 | B33: pâtes (crues) | C33: b | D33: 116 | E33: =D33/100*A33 -> 116 | H33: =IF(E33=0,A33,A33/E33*J33) -> 94.952524 | I33: =B33 -> pâtes (crues) | J33: =E33*$M$18% -> 110.14493
A34: 12 | B34: jus de citron maison | C34: b | D34: 29 | E34: =D34/100*A34 -> 3.48 | H34: =IF(E34=0,A34,A34/E34*J34) -> 11.394303 | I34: =B34 -> jus de citron maison | J34: =E34*$M$18% -> 3.3043478
A35: 9 | B35: huile d'olive | C35: e | D35: 899 | E35: =D35/100*A35 -> 80.91 | H35: =IF(E35=0,A35,A35/E35*J35) -> 8.5457271 | I35: =B35 -> huile d'olive | J35: =E35*$M$18% -> 76.826087
A36: 30 | B36: Parmesan | C36: d | D36: 391 | E36: =D36/100*A36 -> 117.3 | H36: =IF(E36=0,A36,A36/E36*J36) -> 28.485757 | I36: =B36 -> Parmesan | J36: =E36*$M$18% -> 111.37931
A37: 25 | B37: basilic frais | C37: a | D37: 27 | E37: =D37/100*A37 -> 6.75 | H37: =IF(E37=0,A37,A37/E37*J37) -> 23.738131 | I37: =B37 -> basilic frais | J37: =E37*$M$18% -> 6.4092954
A38: 12.5 | B38: persil frais | C38: a | D38: 28 | E38: =D38/100*A38 -> 3.5 | H38: =IF(E38=0,A38,A38/E38*J38) -> 11.869065 | I38: =B38 -> persil frais | J38: =E38*$M$18% -> 3.3233383
A39: 1 | B39: sel | C39: e | D39: 0 | E39: =D39/100*A39 -> 0 | H39: =IF(E39=0,A39,A39/E39*J39) -> 1 | I39: =B39 -> sel | J39: =E39*$M$18% -> 0
A40: 0.5 | B40: poivre | C40: b | D40: 222 | E40: =D40/100*A40 -> 1.11 | H40: =IF(E40=0,A40,A40/E40*J40) -> 0.47476262 | I40: =B40 -> poivre | J40: =E40*$M$18% -> 1.053973
A41: 80 | B41: salade de crudités | C41: a | D41: 68 | E41: =D41/100*A41 -> 54.4 | H41: =IF(E41=0,A41,A41/E41*J41) -> 75.962019 | I41: =B41 -> salade de crudités | J41: =E41*$M$18% -> 51.654173
A42: 12 | B42: sauce salade italienne | C42: e | D42: 472 | E42: =D42/100*A42 -> 56.64 | H42: =IF(E42=0,A42,A42/E42*J42) -> 11.394303 | I42: =B42 -> sauce salade italienne | J42: =E42*$M$18% -> 53.781109
A43: En guise de dessert
A44: 150 | B44: pomme | C44: b | D44: 55 | E44: =D44/100*A44 -> 82.5 | H44: =IF(E44=0,A44,A44/E44*J44) -> 142.42879 | I44: =B44 -> pomme | J44: =E44*$M$18% -> 78.335832
E45: TOTAL | F45: =SUM(E33:E44) -> 522.59 | J45: TOTAL | K45: =SUM(J33:J44) -> 496.21239
A47: QUATRE HEURES
A48: 50 | B48: cookie aux pépites chocolat | C48: e | D48: 502 | E48: =D48/100*A48 -> 251 | H48: =IF(E48=0,A48,A48/E48*J48) -> 47.476262 | I48: =B48 -> cookie aux pépites chocolat | J48: =E48*$M$18% -> 238.33083
E49: TOTAL | F49: =E48 -> 251 | J49: TOTAL | K49: =J48 -> 238.33083
A50: SOIR
A51: Côtes de veau au curry avec riz
A52: 200 | B52: côte de veau | C52: c | D52: 193 | E52: =D52/100*A52 -> 386 | H52: =IF(E52=0,A52,A52/E52*J52) -> 189.90505 | I52: =B52 -> côte de veau | J52: =E52*$M$18% -> 366.51674
A53: 62.5 | B53: riz basmati (sec) | C53: c | D53: 357 | E53: =D53/100*A53 -> 223.125 | H53: =IF(E53=0,A53,A53/E53*J53) -> 59.345327 | I53: =B53 -> riz basmati (sec) | J53: =E53*$M$18% -> 211.86282
A54: 200 | B54: épinards frais | C54: a | D54: 17 | E54: =D54/100*A54 -> 34 | H54: =IF(E54=0,A54,A54/E54*J54) -> 189.90505 | I54: =B54 -> épinards frais | J54: =E54*$M$18% -> 32.283858
A55: 5 | B55: beurre | C55: e | D55: 747 | E55: =D55/100*A55 -> 37.35 | H55: =IF(E55=0,A55,A55/E55*J55) -> 4.7476262 | I55: =B55 -> beurre | J55: =E55*$M$18% -> 35.464768
A56: 0.025 | B56: safran | C56: d | D56: 352 | E56: =D56/100*A56 -> 0.088 | H56: =IF(E56=0,A56,A56/E56*J56) -> 0.023738131 | I56: =B56 -> safran | J56: =E56*$M$18% -> 0.083558221
A57: 125 | B57: bouillon de légumes | C57: a | D57: 5 | E57: =D57/100*A57 -> 6.25 | H57: =IF(E57=0,A57,A57/E57*J57) -> 118.69065 | I57: =B57 -> bouillon de légumes | J57: =E57*$M$18% -> 5.9345327
A58: 3 | B58: farine | C58: c | D58: 338 | E58: =D58/100*A58 -> 10.14 | H58: =IF(E58=0,A58,A58/E58*J58) -> 2.8485757 | I58: =B58 -> farine | J58: =E58*$M$18% -> 9.6281859
A59: 2 | B59: curry | C59: b | D59: 284 | E59: =D59/100*A59 -> 5.68 | H59: =IF(E59=0,A59,A59/E59*J59) -> 1.8990505 | I59: =B59 -> curry | J59: =E59*$M$18% -> 5.3933033
A60: 1 | B60: sel | C60: e | D60: 0 | E60: =D60/100*A60 -> 0 | H60: =IF(E60=0,A60,A60/E60*J60) -> 1 | I60: =B60 -> sel | J60: =E60*$M$18% -> 0
A61: 0.5 | B61: poivre | C61: b | D61: 222 | E61: =D61/100*A61 -> 1.11 | H61: =IF(E61=0,A61,A61/E61*J61) -> 0.47476262 | I61: =B61 -> poivre | J61: =E61*$M$18% -> 1.053973
E62: TOTAL | F62: =SUM(E52:E59) -> 702.633 | J62: TOTAL | K62: =SUM(J52:J59) -> 667.16777
A63: Flan à la noix de coco
A64: 84 | B64: lait écrémé UHT | C64: a | D64: 33 | E64: =D64/100*A64 -> 27.72 | H64: =IF(E64=0,A64,A64/E64*J64) -> 79.76012 | I64: =B64 -> lait écrémé UHT | J64: =E64*$M$18% -> 26.32084
A65: 8.5 | B65: noix de coco râpée | C65: e | D65: 594 | E65: =D65/100*A65 -> 50.49 | H65: =IF(E65=0,A65,A65/E65*J65) -> 8.0709645 | I65: =B65 -> noix de coco râpée | J65: =E65*$M$18% -> 47.941529
A66: 30 | B66: œuf | C66: a | D66: 146 | E66: =D66/100*A66 -> 43.8 | H66: =IF(E66=0,A66,A66/E66*J66) -> 28.485757 | I66: =B66 -> œuf | J66: =E66*$M$18% -> 41.589205
A67: 1 | B67: gousse vanille | C67: c | D67: 58 | E67: =D67/100*A67 -> 0.58 | H67: =IF(E67=0,A67,A67/E67*J67) -> 0.94952524 | I67: =B67 -> gousse vanille | J67: =E67*$M$18% -> 0.55072464
A68: 15 | B68: sucre | C68: e | D68: 400 | E68: =D68/100*A68 -> 60 | H68: =IF(E68=0,A68,A68/E68*J68) -> 14.242879 | I68: =B68 -> sucre | J68: =E68*$M$18% -> 56.971514
E69: TOTAL | F69: =SUM(E64:E68) -> 182.59 | J69: TOTAL | K69: =SUM(J64:J68) -> 173.37381
A70: =IF(D5="non",0,IF(D5="1 verre",125,250)) -> 0 | B70: =IF(A70=0,"","vin") | D70: 80 | E70: =D70/100*A70 -> 0 | H70: =IF(E70=0,A70,A70/E70*J70) -> 0 | I70: =B70 | J70: =E70*$M$18% -> 0
D72: TOTAL du jour | F72: =SUM(F22:F69) -> 2001.048 | I72: TOTAL du jour | K72: =SUM(K22:K70) -> 1900.0456
D73: avec vin | F73: =F72+E70 -> 2001.048 | I73: avec vin | K73: =K72+J70 -> 1900.0456
A75: <<<< | B75: RETOUR AU SOMMAIRE

Sheet jour_2
A1: JOURNEE 2 | I1: Couleur Pan Metron | J1: b
A3: Apport calorique du jour (sans alcool) | D3: =ROUND(F81,0) -> 1988 | E3: kcal/jour
A4: (cf. menus Pan Metron ci-dessous)
A5: Consommation de vin | C5: ^ | D5: non | E5: =IF(D5="non","",IF(D5=1,d!B22,d!B23))
A6: Activités supplémentaires | D6: 0 | E6: kcal/jour | G6: >>>> | H6: calculateur des dépenses énergétiques
A7: Mon objectif | D7: =jour_1!D7 -> 1700 | E7: kcal/jour | H7: sous www.bonasavoir.ch/panmetron
D8: =IF(D5="non","",d!A24)
B10: Pour atteindre votre objectif, en tenant compte de votre activité physique supplémentaire,
B11: vous pouvez absorber | D11: =D7+D6 -> 1700 | E11: kcal
B12: soit | D12: =ABS(M13) -> 288 | E12: kcal | F12: =IF(M13>0,d!A44,d!A45) -> de moins que les menus Pan Metron du jour | M12: différence
F13: =IF(D5="non","",d!A46) | M13: =D3+E79-D11 -> 288
B15: =IF(M13<-50,d!A48,IF(M13<0,d!A49,IF(M13=0,d!A50,IF(M13>50,d!A52,d!A51)))) -> Il faut donc agir:_x000D_> Vous pouvez augmenter encore votre activité physique._x000D_> Ou/et diminuer la quantité de certains ingrédients des recettes du jour dans la première colonne, jusqu'à atteindre votre objectif. Visez de préférence les aliments rouge et orange, de façon à ne pas prétériter l'équilibre nutritionnel de la journée._x000D_> Si cela ne suffit toujours pas à atteindre votre objectif, le programme adapte proportionnellement les quantités pour y parvenir, sauf celles des boissons non caloriques (eau, café, etc.)
A17: Menus Pan Metron du jour | H17: Personnalisation | M17: pondération
A18: g/cl | B18: Ingrédients | D18: kcal | H18: =A18 -> g/cl | I18: Ingrédients | J18: kcal | M18: =100-(D12/((D11+D12)/100)) -> 85.513078
D19: pr 100 g | E19: réels | J19: réels
A21: PETIT DEJEUNER AVEC ŒUF
A22: 60 | B22: œuf à la coque | C22: a | D22: 134 | E22: =D22/100*A22 -> 80.4 | H22: =IF(E22=0,A22,A22/E22*J22) -> 51.307847 | I22: =B22 -> œuf à la coque | J22: =E22*$M$18% -> 68.752515
A23: 0.5 | B23: sel | C23: e | D23: 0 | E23: =D23/100*A23 -> 0 | H23: =IF(E23=0,A23,A23/E23*J23) -> 0.5 | I23: =B23 -> sel | J23: =E23*$M$18% -> 0
A24: 40 | B24: pain complet | C24: c | D24: 229 | E24: =D24/100*A24 -> 91.6 | H24: =IF(E24=0,A24,A24/E24*J24) -> 34.205231 | I24: =B24 -> pain complet | J24: =E24*$M$18% -> 78.32998
A25: 125 | B25: fromage blanc 20% | C25: a | D25: 71 | E25: =D25/100*A25 -> 88.75 | H25: =IF(E25=0,A25,A25/E25*J25) -> 106.89135 | I25: =B25 -> fromage blanc 20% | J25: =E25*$M$18% -> 75.892857
A26: 100 | B26: salade de fruits frais | C26: b | D26: 67 | E26: =D26/100*A26 -> 67 | H26: =IF(E26=0,A26,A26/E26*J26) -> 85.513078 | I26: =B26 -> salade de fruits frais | J26: =E26*$M$18% -> 57.293763
A27: 150 | B27: thé | D27: 0 | E27: =D27/100*A27 -> 0 | H27: =IF(E27=0,A27,A27/E27*J27) -> 150 | I27: =B27 -> thé | J27: =E27*$M$18% -> 0
A28: 12 | B28: sucre | C28: e | D28: 400 | E28: =D28/100*A28 -> 48 | H28: =IF(E28=0,A28,A28/E28*J28) -> 10.261569 | I28: =B28 -> sucre | J28: =E28*$M$18% -> 41.046278
E29: TOTAL | F29: =SUM(E22:E28) -> 375.75 | J29: TOTAL | K29: =SUM(J22:J28) -> 321.31539
A30: MIDI
A31: Quiche au légumes et aux lardons
A32: 62.5 | B32: pâte à gâteau | C32: d | D32: 325 | E32: =D32/100*A32 -> 203.125 | H32: =IF(E32=0,A32,A32/E32*J32) -> 53.445674 | I32: =B32 -> pâte à gâteau | J32: =E32*$M$18% -> 173.69844
A33: 37.5 | B33: lardons | C33: d | D33: 269 | E33: =D33/100*A33 -> 100.875 | H33: =IF(E33=0,A33,A33/E33*J33) -> 32.067404 | I33: =B33 -> lardons | J33: =E33*$M$18% -> 86.261318
A34: 12.5 | B34: fromage râpé | C34: d | D34: 396 | E34: =D34/100*A34 -> 49.5 | H34: =IF(E34=0,A34,A34/E34*J34) -> 10.689135 | I34: =B34 -> fromage râpé | J34: =E34*$M$18% -> 42.328974
A35: 37.5 | B35: poireau | C35: a | D35: 30 | E35: =D35/100*A35 -> 11.25 | H35: =IF(E35=0,A35,A35/E35*J35) -> 32.067404 | I35: =B35 -> poireau | J35: =E35*$M$18% -> 9.6202213
A36: 18.5 | B36: poivron jaune | C36: a | D36: 16 | E36: =D36/100*A36 -> 2.96 | H36: =IF(E36=0,A36,A36/E36*J36) -> 15.81992 | I36: =B36 -> poivron jaune | J36: =E36*$M$18% -> 2.5311871
A37: 62.5 | B37: carottes | C37: a | D37: 30 | E37: =D37/100*A37 -> 18.75 | H37: =IF(E37=0,A37,A37/E37*J37) -> 53.445674 | I37: =B37 -> carottes | J37: =E37*$M$18% -> 16.033702
A38: 62.5 | B38: céleri-rave | C38: a | D38: 17 | E38: =D38/100*A38 -> 10.625 | H38: =IF(E38=0,A38,A38/E38*J38) -> 53.445674 | I38: =B38 -> céleri-rave | J38: =E38*$M$18% -> 9.0857646
A39: 31.5 | B39: courgette | C39: a | D39: 19 | E39: =D39/100*A39 -> 5.985 | H39: =IF(E39=0,A39,A39/E39*J39) -> 26.93662 | I39: =B39 -> courgette | J39: =E39*$M$18% -> 5.1179577
A40: 12.5 | B40: persil | C40: a | D40: 28 | E40: =D40/100*A40 -> 3.5 | H40: =IF(E40=0,A40,A40/E40*J40) -> 10.689135 | I40: =B40 -> persil | J40: =E40*$M$18% -> 2.9929577
A41: 37.5 | B41: crème | C41: e | D41: 252 | E41: =D41/100*A41 -> 94.5 | H41: =IF(E41=0,A41,A41/E41*J41) -> 32.067404 | I41: =B41 -> crème | J41: =E41*$M$18% -> 80.809859
A42: 25 | B42: lait | C42: a | D42: 62 | E42: =D42/100*A42 -> 15.5 | H42: =IF(E42=0,A42,A42/E42*J42) -> 21.37827 | I42: =B42 -> lait | J42: =E42*$M$18% -> 13.254527
A43: 30 | B43: œuf | C43: a | D43: 146 | E43: =D43/100*A43 -> 43.8 | H43: =IF(E43=0,A43,A43/E43*J43) -> 25.653924 | J43: =E43*$M$18% -> 37.454728
A44: 1 | B44: muscade | C44: e | D44: 507 | E44: =D44/100*A44 -> 5.07 | H44: =IF(E44=0,A44,A44/E44*J44) -> 0.85513078 | I44: =B44 -> muscade | J44: =E44*$M$18% -> 4.3355131
A45: 1 | B45: poivre | C45: b | D45: 222 | E45: =D45/100*A45 -> 2.22 | H45: =IF(E45=0,A45,A45/E45*J45) -> 0.85513078 | I45: =B45 -> poivre | J45: =E45*$M$18% -> 1.8983903
A46: 1 | B46: sel | C46: e | D46: 0 | E46: =D46/100*A46 -> 0 | H46: =IF(E46=0,A46,A46/E46*J46) -> 1 | I46: =B46 -> sel | J46: =E46*$M$18% -> 0
E47: TOTAL | F47: =SUM(E32:E46) -> 567.66 | J47: TOTAL | K47: =SUM(J32:J46) -> 485.42354
A48: QUATRE HEURES
A49: 125 | B49: yogourt grec de brebis | C49: c | D49: 127 | E49: =D49/100*A49 -> 158.75 | H49: =IF(E49=0,A49,A49/E49*J49) -> 106.89135 | I49: =B49 -> yogourt grec de brebis | J49: =E49*$M$18% -> 135.75201
A50: 6 | B50: sucre | C50: e | D50: 400 | E50: =D50/100*A50 -> 24 | H50: =IF(E50=0,A50,A50/E50*J50) -> 5.1307847 | I50: =B50 -> sucre | J50: =E50*$M$18% -> 20.523139
E51: TOTAL | F51: =SUM(E49:E50) -> 182.75 | J51: TOTAL | K51: =J49+J50 -> 156.27515
A53: SOIR
A54: Dos de cabillaud au chorizo, purée et endives
A55: 150 | B55: dos de cabillaud | C55: a | D55: 78 | E55: =D55/100*A55 -> 117 | H55: =IF(E55=0,A55,A55/E55*J55) -> 128.26962 | I55: =B55 -> dos de cabillaud | J55: =E55*$M$18% -> 100.0503
A56: 30 | B56: chorizo | C56: e | D56: 454 | E56: =D56/100*A56 -> 136.2 | H56: =IF(E56=0,A56,A56/E56*J56) -> 25.653924 | I56: =B56 -> chorizo | J56: =E56*$M$18% -> 116.46881
A57: 10 | B57: thym | C57: a | D57: 52 | E57: =D57/100*A57 -> 5.2 | H57: =IF(E57=0,A57,A57/E57*J57) -> 8.5513078 | I57: =B57 -> thym | J57: =E57*$M$18% -> 4.4466801
A58: 6 | B58: huille d'olive | C58: e | D58: 899 | E58: =D58/100*A58 -> 53.94 | H58: =IF(E58=0,A58,A58/E58*J58) -> 5.1307847 | I58: =B58 -> huille d'olive | J58: =E58*$M$18% -> 46.125755
A59: 100 | B59: endives | C59: a | D59: 10 | E59: =D59/100*A59 -> 10 | H59: =IF(E59=0,A59,A59/E59*J59) -> 85.513078 | I59: =B59 -> endives | J59: =E59*$M$18% -> 8.5513078
A60: 6 | B60: sucre | C60: e | D60: 400 | E60: =D60/100*A60 -> 24 | H60: =IF(E60=0,A60,A60/E60*J60) -> 5.1307847 | I60: =B60 -> sucre | J60: =E60*$M$18% -> 20.523139
A61: 150 | B61: pommes de terre | C61: a | D61: 76 | E61: =D61/100*A61 -> 114 | H61: =IF(E61=0,A61,A61/E61*J61) -> 128.26962 | I61: =B61 -> pommes de terre | J61: =E61*$M$18% -> 97.484909
A62: =200/4 -> 50 | B62: lait | C62: b | D62: 62 | E62: =D62/100*A62 -> 31 | H62: =IF(E62=0,A62,A62/E62*J62) -> 42.756539 | I62: =B62 -> lait | J62: =E62*$M$18% -> 26.509054
A63: 6 | B63: beurre | C63: e | D63: 747.3 | E63: =D63/100*A63 -> 44.838 | H63: =IF(E63=0,A63,A63/E63*J63) -> 5.1307847 | I63: =B63 -> beurre | J63: =E63*$M$18% -> 38.342354
A64: =(45*40%/4) -> 4.5 | B64: jus de citron vert | C64: a | D64: 10 | E64: =D64/100*A64 -> 0.45 | H64: =IF(E64=0,A64,A64/E64*J64) -> 3.8480885 | I64: =B64 -> jus de citron vert | J64: =E64*$M$18% -> 0.38480885
A65: 1 | B65: sel | C65: e | D65: 0 | E65: =D65/100*A65 -> 0 | H65: =IF(E65=0,A65,A65/E65*J65) -> 1 | I65: =B65 -> sel | J65: =E65*$M$18% -> 0
A66: 0.5 | B66: poivre | C66: b | D66: 222 | E66: =D66/100*A66 -> 1.11 | H66: =IF(E66=0,A66,A66/E66*J66) -> 0.42756539 | I66: =B66 -> poivre | J66: =E66*$M$18% -> 0.94919517
E67: TOTAL | F67: =SUM(E55:E66) -> 537.738 | J67: TOTAL | K67: =SUM(J55:J66) -> 459.83632
A68: Clafoutis à la rhubarbe et à la canelle
A69: 83.5 | B69: rhubarbe | C69: a | D69: 7 | E69: =D69/100*A69 -> 5.845 | H69: =IF(E69=0,A69,A69/E69*J69) -> 71.403421 | I69: =B69 -> rhubarbe | J69: =E69*$M$18% -> 4.9982394
A70: 25 | B70: sucre | C70: e | D70: 400 | E70: =D70/100*A70 -> 100 | H70: =IF(E70=0,A70,A70/E70*J70) -> 21.37827 | I70: =B70 -> sucre | J70: =E70*$M$18% -> 85.513078
A71: 10 | B71: farine | C71: c | D71: 338 | E71: =D71/100*A71 -> 33.8 | H71: =IF(E71=0,A71,A71/E71*J71) -> 8.5513078 | I71: =B71 -> farine | J71: =E71*$M$18% -> 28.903421
A72: 30 | B72: œuf | C72: a | D72: 146 | E72: =D72/100*A72 -> 43.8 | H72: =IF(E72=0,A72,A72/E72*J72) -> 25.653924 | I72: =B72 -> œuf | J72: =E72*$M$18% -> 37.454728
A73: 33 | B73: crème épaisse | C73: e | D73: 323 | E73: =D73/100*A73 -> 106.59 | H73: =IF(E73=0,A73,A73/E73*J73) -> 28.219316 | I73: =B73 -> crème épaisse | J73: =E73*$M$18% -> 91.14839
A74: 33 | B74: lait | C74: a | D74: 62 | E74: =D74/100*A74 -> 20.46 | H74: =IF(E74=0,A74,A74/E74*J74) -> 28.219316 | I74: =B74 -> lait | J74: =E74*$M$18% -> 17.495976
A75: 0.6 | B75: vanille | C75: c | D75: 58 | E75: =D75/100*A75 -> 0.348 | H75: =IF(E75=0,A75,A75/E75*J75) -> 0.51307847 | I75: =B75 -> vanille | J75: =E75*$M$18% -> 0.29758551
A76: 0.7 | B76: cannelle | C76: b | D76: 243 | E76: =D76/100*A76 -> 1.701 | H76: =IF(E76=0,A76,A76/E76*J76) -> 0.59859155 | I76: =B76 -> cannelle | J76: =E76*$M$18% -> 1.4545775
A77: 3 | B77: sucre glace | C77: e | D77: 400 | E77: =D77/100*A77 -> 12 | H77: =IF(E77=0,A77,A77/E77*J77) -> 2.5653924 | I77: =B77 -> sucre glace | J77: =E77*$M$18% -> 10.261569
E78: TOTAL | F78: =SUM(E69:E77) -> 324.544 | J78: TOTAL | K78: =SUM(J69:J77) -> 277.52757
A79: =IF(D5="non",0,IF(D5="1 verre",125,250)) -> 0 | B79: =IF(A79=0,"","vin") | D79: 80 | E79: =D79/100*A79 -> 0 | H79: =IF(E79=0,A79,A79/E79*J79) -> 0 | I79: =B79 | J79: =E79*$M$18% -> 0
D81: TOTAL du jour | F81: =SUM(F22:F79) -> 1988.442 | I81: TOTAL du jour | K81: =SUM(K22:K79) -> 1700.378
D82: avec vin | F82: =F81+E79 -> 1988.442 | I82: avec vin | K82: =K81+J79 -> 1700.378
A84: >>>> | B84: RETOUR AU SOMMAIRE

Sheet jour_3
A1: JOURNEE 3 | I1: Couleur Pan Metron | J1: b
A3: Apport calorique du jour (sans alcool) | D3: =ROUND(F80,0) -> 1998 | E3: kcal/jour
A4: (cf. menus Pan Metron ci-dessous)
A5: Consommation de vin | C5: ^ | D5: non | E5: =IF(D5="non","",IF(D5=1,d!B22,d!B23))
A6: Activités supplémentaires | D6: 0 | E6: kcal/jour | G6: >>>> | H6: calculateur des dépenses énergétiques
A7: Mon objectif | D7: =jour_1!D7 -> 1700 | E7: kcal/jour | H7: sous www.bonasavoir.ch/panmetron
D8: =IF(D5="non","",d!A24)
B10: Pour atteindre votre objectif, en tenant compte de votre activité physique supplémentaire,
B11: vous pouvez absorber | D11: =D7+D6 -> 1700 | E11: kcal
B12: soit | D12: =ABS(M13) -> 298 | E12: kcal | F12: =IF(M13>0,d!A44,d!A45) -> de moins que les menus Pan Metron du jour | M12: différence
F13: =IF(D5="non","",d!A46) | M13: =D3+E78-D11 -> 298
B15: =IF(M13<-50,d!A48,IF(M13<0,d!A49,IF(M13=0,d!A50,IF(M13>50,d!A52,d!A51)))) -> Il faut donc agir:_x000D_> Vous pouvez augmenter encore votre activité physique._x000D_> Ou/et diminuer la quantité de certains ingrédients des recettes du jour dans la première colonne, jusqu'à atteindre votre objectif. Visez de préférence les aliments rouge et orange, de façon à ne pas prétériter l'équilibre nutritionnel de la journée._x000D_> Si cela ne suffit toujours pas à atteindre votre objectif, le programme adapte proportionnellement les quantités pour y parvenir, sauf celles des boissons non caloriques (eau, café, etc.)
A17: Menus Pan Metron du jour | H17: Personnalisation | M17: pondération
A18: g/cl | B18: Ingrédients | D18: kcal | H18: =A18 -> g/cl | I18: Ingrédients | J18: kcal | M18: =100-(D12/((D11+D12)/100)) -> 85.085085
D19: pr 100 g | E19: réels | J19: réels
A21: PETIT DEJEUNER CEREALES
A22: 50 | B22: céréales au miel | C22: c | D22: 382 | E22: =D22/100*A22 -> 191 | H22: =IF(E22=0,A22,A22/E22*J22) -> 42.542543 | I22: =B22 -> céréales au miel | J22: =E22*$M$18% -> 162.51251
A23: 150 | B23: café | D23: 0 | E23: =D23/100*A23 -> 0 | H23: =IF(E23=0,A23,A23/E23*J23) -> 150 | I23: =B23 -> café | J23: =E23*$M$18% -> 0
A24: 4 | B24: sucre | C24: e | D24: 400 | E24: =D24/100*A24 -> 16 | H24: =IF(E24=0,A24,A24/E24*J24) -> 3.4034034 | I24: =B24 -> sucre | J24: =E24*$M$18% -> 13.613614
A25: 12 | B25: crème à café | C25: c | D25: 161 | E25: =D25/100*A25 -> 19.32 | H25: =IF(E25=0,A25,A25/E25*J25) -> 10.21021 | I25: =B25 -> crème à café | J25: =E25*$M$18% -> 16.438438
A26: 125 | B26: yogourt aux fruits | C26: b | D26: 87 | E26: =D26/100*A26 -> 108.75 | H26: =IF(E26=0,A26,A26/E26*J26) -> 106.35636 | I26: =B26 -> yogourt aux fruits | J26: =E26*$M$18% -> 92.53003
A27: 150 | B27: jus d'orange maison | C27: b | D27: 45 | E27: =D27/100*A27 -> 67.5 | H27: =IF(E27=0,A27,A27/E27*J27) -> 127.62763 | I27: =B27 -> jus d'orange maison | J27: =E27*$M$18% -> 57.432432
F28: =SUM(E22:E27) -> 402.57 | J28: TOTAL | K28: =SUM(J22:J27) -> 342.52703
A29: MIDI
A30: Croque-Madame au chèvre avec salade
A31: 80 | B31: pain de mie | C31: d | D31: 269 | E31: =D31/100*A31 -> 215.2 | H31: =IF(E31=0,A31,A31/E31*J31) -> 68.068068 | I31: =B31 -> pain de mie | J31: =E31*$M$18% -> 183.1031
A32: 60 | B32: œufs | C32: a | D32: 146 | E32: =D32/100*A32 -> 87.6 | H32: =IF(E32=0,A32,A32/E32*J32) -> 51.051051 | I32: =B32 -> œufs | J32: =E32*$M$18% -> 74.534535
A33: 50 | B33: jambon | C33: c | D33: 125 | E33: =D33/100*A33 -> 62.5 | H33: =IF(E33=0,A33,A33/E33*J33) -> 42.542543 | I33: =B33 -> jambon | J33: =E33*$M$18% -> 53.178178
A34: 30 | B34: chèvre crémeux | C34: d | D34: 292 | E34: =D34/100*A34 -> 87.6 | H34: =IF(E34=0,A34,A34/E34*J34) -> 25.525526 | I34: =B34 -> chèvre crémeux | J34: =E34*$M$18% -> 74.534535
A35: 50 | B35: salade | C35: a | D35: 18 | E35: =D35/100*A35 -> 9 | H35: =IF(E35=0,A35,A35/E35*J35) -> 42.542543 | I35: =B35 -> salade | J35: =E35*$M$18% -> 7.6576577
A36: 50 | B36: tomates | C36: a | D36: 19 | E36: =D36/100*A36 -> 9.5 | H36: =IF(E36=0,A36,A36/E36*J36) -> 42.542543 | I36: =B36 -> tomates | J36: =E36*$M$18% -> 8.0830831
A37: 12 | B37: sauce française | C37: e | D37: 446 | E37: =D37/100*A37 -> 53.52 | H37: =IF(E37=0,A37,A37/E37*J37) -> 10.21021 | I37: =B37 -> sauce française | J37: =E37*$M$18% -> 45.537538
A38: En guise de dessert
A39: 125 | B39: yogourt mocca | C39: c | D39: 100 | E39: =D39/100*A39 -> 125 | H39: =IF(E39=0,A39,A39/E39*J39) -> 106.35636 | I39: =B39 -> yogourt mocca | J39: =E39*$M$18% -> 106.35636
E40: TOTAL | F40: =SUM(E31:E39) -> 649.92 | J40: TOTAL | K40: =SUM(J31:J39) -> 552.98498
A42: QUATRE HEURES
A43: 150 | B43: pomme | C43: b | D43: 55 | E43: =D43/100*A43 -> 82.5 | H43: =IF(E43=0,A43,A43/E43*J43) -> 127.62763 | I43: =B43 -> pomme | J43: =E43*$M$18% -> 70.195195
E44: TOTAL | F44: =SUM(E43:E43) -> 82.5 | J44: TOTAL | K44: =J43 -> 70.195195
A46: SOIR
A47: Blanc de poulet tandoori, riz basmati, légumes
A48: 150 | B48: blanc de poulet | C48: a | D48: 108 | E48: =D48/100*A48 -> 162 | H48: =IF(E48=0,A48,A48/E48*J48) -> 127.62763 | I48: =B48 -> blanc de poulet | J48: =E48*$M$18% -> 137.83784
A49: 2 | B49: paprika | C49: c | D49: 319 | E49: =D49/100*A49 -> 6.38 | H49: =IF(E49=0,A49,A49/E49*J49) -> 1.7017017 | I49: =B49 -> paprika | J49: =E49*$M$18% -> 5.4284284
A50: 150 | B50: yogourt nature | C50: a | D50: 46 | E50: =D50/100*A50 -> 69 | H50: =IF(E50=0,A50,A50/E50*J50) -> 127.62763 | I50: =B50 -> yogourt nature | J50: =E50*$M$18% -> 58.708709
A51: 2.5 | B51: piment | C51: a | D51: 45 | E51: =D51/100*A51 -> 1.125 | H51: =IF(E51=0,A51,A51/E51*J51) -> 2.1271271 | I51: =B51 -> piment | J51: =E51*$M$18% -> 0.95720721
A52: 1.25 | B52: gingembre | C52: a | D52: 82 | E52: =D52/100*A52 -> 1.025 | H52: =IF(E52=0,A52,A52/E52*J52) -> 1.0635636 | I52: =B52 -> gingembre | J52: =E52*$M$18% -> 0.87212212
A53: 4 | B53: aïl | C53: a | D53: 131 | E53: =D53/100*A53 -> 5.24 | H53: =IF(E53=0,A53,A53/E53*J53) -> 3.4034034 | I53: =B53 -> aïl | J53: =E53*$M$18% -> 4.4584585
A54: 0.25 | B54: safran | C54: d | D54: 352 | E54: =D54/100*A54 -> 0.88 | H54: =IF(E54=0,A54,A54/E54*J54) -> 0.21271271 | I54: =B54 -> safran | J54: =E54*$M$18% -> 0.74874875
A55: 0.5 | B55: canelle | C55: b | D55: 243 | E55: =D55/100*A55 -> 1.215 | H55: =IF(E55=0,A55,A55/E55*J55) -> 0.42542543 | I55: =B55 -> canelle | J55: =E55*$M$18% -> 1.0337838
A56: 7.5 | B56: jus de citron vert | C56: a | D56: 10 | E56: =D56/100*A56 -> 0.75 | H56: =IF(E56=0,A56,A56/E56*J56) -> 6.3813814 | I56: =B56 -> jus de citron vert | J56: =E56*$M$18% -> 0.63813814
A57: 7.5 | B57: menthe | C57: a | D57: 49 | E57: =D57/100*A57 -> 3.675 | H57: =IF(E57=0,A57,A57/E57*J57) -> 6.3813814 | I57: =B57 -> menthe | J57: =E57*$M$18% -> 3.1268769
A58: 25 | B58: courgette | C58: a | D58: 13 | E58: =D58/100*A58 -> 3.25 | H58: =IF(E58=0,A58,A58/E58*J58) -> 21.271271 | I58: =B58 -> courgette | J58: =E58*$M$18% -> 2.7652653
A59: 25 | B59: poivron | C59: a | D59: 16 | E59: =D59/100*A59 -> 4 | H59: =IF(E59=0,A59,A59/E59*J59) -> 21.271271 | I59: =B59 -> poivron | J59: =E59*$M$18% -> 3.4034034
... A65: 50 | B65: riz | C65: c | D65: 357 | E65: =D65/100*A65 -> 178.5 | H65: =IF(E65=0,A65,A65/E65*J65) -> 42.542543 | I65: =B65 -> riz | J65: =E65*$M$18% -> 151.87688
E66: TOTAL | F66: =SUM(E48:E65) -> 522.935 | I66: =B66 -> 0 | J66: TOTAL | K66: =SUM(J48:J65) -> 444.93969
A67: Tarte à la ricotta et aux fruits rouges
A68: 12 | B68: margarine | C68: e | D68: 724 | E68: =D68/100*A68 -> 86.88 | H68: =IF(E68=0,A68,A68/E68*J68) -> 10.21021 | I68: =B68 -> margarine | J68: =E68*$M$18% -> 73.921922
A69: 32 | B69: farine de blé | C69: c | D69: 344 | E69: =D69/100*A69 -> 110.08 | H69: =IF(E69=0,A69,A69/E69*J69) -> 27.227227 | I69: =B69 -> farine de blé | J69: =E69*$M$18% -> 93.661662
A70: 3 | B70: sucre blanc | C70: e | D70: 400 | E70: =D70/100*A70 -> 12 | H70: =IF(E70=0,A70,A70/E70*J70) -> 2.5525526 | I70: =B70 -> sucre blanc | J70: =E70*$M$18% -> 10.21021
A71: 32 | B71: fruits rouges | C71: a | D71: 49 | E71: =D71/100*A71 -> 15.68 | H71: =IF(E71=0,A71,A71/E71*J71) -> 27.227227 | I71: =B71 -> fruits rouges | J71: =E71*$M$18% -> 13.341341
A72: 23 | B72: œufs | C72: a | D72: 146 | E72: =D72/100*A72 -> 33.58 | H72: =IF(E72=0,A72,A72/E72*J72) -> 19.56957 | I72: =B72 -> œufs | J72: =E72*$M$18% -> 28.571572
A73: 30 | B73: ricotta | C73: c | D73: 158 | E73: =D73/100*A73 -> 47.4 | H73: =IF(E73=0,A73,A73/E73*J73) -> 25.525526 | I73: =B73 -> ricotta | J73: =E73*$M$18% -> 40.33033
A74: 6 | B74: sucre roux | C74: e | D74: 389 | E74: =D74/100*A74 -> 23.34 | H74: =IF(E74=0,A74,A74/E74*J74) -> 5.1051051 | I74: =B74 -> sucre roux | J74: =E74*$M$18% -> 19.858859
A75: 1 | B75: sucre vanillé | C75: e | D75: 400 | E75: =D75/100*A75 -> 4 | H75: =IF(E75=0,A75,A75/E75*J75) -> 0.85085085 | I75: =B75 -> sucre vanillé | J75: =E75*$M$18% -> 3.4034034
A76: 2 | B76: maïzena | C76: c | D76: 353 | E76: =D76/100*A76 -> 7.06 | H76: =IF(E76=0,A76,A76/E76*J76) -> 1.7017017 | I76: =B76 -> maïzena | J76: =E76*$M$18% -> 6.007007
E77: TOTAL | F77: =SUM(E68:E76) -> 340.02 | J77: TOTAL | K77: =SUM(J68:J76) -> 289.30631
A78: =IF(D5="non",0,IF(D5="1 verre",125,250)) -> 0 | B78: =IF(A78=0,"","vin") | D78: 80 | E78: =D78/100*A78 -> 0 | H78: =IF(E78=0,A78,A78/E78*J78) -> 0 | I78: =B78 | J78: =E78*$M$18% -> 0
D80: TOTAL du jour | F80: =SUM(F22:F78) -> 1997.945 | I80: TOTAL du jour | K80: =SUM(K22:K78) -> 1699.9532
D81: avec vin | F81: =F80+E78 -> 1997.945 | I81: avec vin | K81: =K80+J78 -> 1699.9532
A83: >>>> | B83: RETOUR AU SOMMAIRE

Sheet jour_4
A1: JOURNEE 4 | I1: Couleur Pan Metron | J1: a
A3: Apport calorique du jour (sans alcool) | D3: =ROUND(F76,0) -> 1987 | E3: kcal/jour
A4: (cf. menus Pan Metron ci-dessous)
A5: Consommation de vin | C5: ^ | D5: non | E5: =IF(D5="non","",IF(D5=1,d!B22,d!B23))
A6: Activités supplémentaires | D6: 0 | E6: kcal/jour | G6: >>>> | H6: calculateur des dépenses énergétiques
A7: Mon objectif | D7: =jour_1!D7 -> 1700 | E7: kcal/jour | H7: sous www.bonasavoir.ch/panmetron
D8: =IF(D5="non","",d!A24)
B10: Pour atteindre votre objectif, en tenant compte de votre activité physique supplémentaire,
B11: vous pouvez absorber | D11: =D7+D6 -> 1700 | E11: kcal
B12: soit | D12: =ABS(M13) -> 287 | E12: kcal | F12: =IF(M13>0,d!A44,d!A45) -> de moins que les menus Pan Metron du jour | M12: différence
F13: =IF(D5="non","",d!A46) | M13: =D3+E74-D11 -> 287
B15: =IF(M13<-50,d!A48,IF(M13<0,d!A49,IF(M13=0,d!A50,IF(M13>50,d!A52,d!A51)))) -> Il faut donc agir:_x000D_> Vous pouvez augmenter encore votre activité physique._x000D_> Ou/et diminuer la quantité de certains ingrédients des recettes du jour dans la première colonne, jusqu'à atteindre votre objectif. Visez de préférence les aliments rouge et orange, de façon à ne pas prétériter l'équilibre nutritionnel de la journée._x000D_> Si cela ne suffit toujours pas à atteindre votre objectif, le programme adapte proportionnellement les quantités pour y parvenir, sauf celles des boissons non caloriques (eau, café, etc.)
A17: PETIT DEJEUNER CLASSIQUE
A18: Menus Pan Metron du jour | H18: Personnalisation | M18: pondération
A19: g/cl | B19: Ingrédients | D19: kcal | H19: =A19 -> g/cl | I19: Ingrédients | J19: kcal | M19: =100-(D12/((D11+D12)/100)) -> 85.556115
D20: pr 100 g | E20: réels | J20: réels
A21: 30 | B21: pain complet | C21: #c | D21: 229 | E21: =D21/100*A21 -> 68.7 | H21: =IF(E21=0,A21,A21/E21*J21) -> 25.666834 | I21: =B21 -> pain complet | J21: =E21*$M$19% -> 58.777051
A22: 5 | B22: beurre | C22: #e | D22: 747.3 | E22: =D22/100*A22 -> 37.365 | H22: =IF(E22=0,A22,A22/E22*J22) -> 4.2778057 | I22: =B22 -> beurre | J22: =E22*$M$19% -> 31.968042
A23: 10 | B23: confiture | C23: #e | D23: 246 | E23: =D23/100*A23 -> 24.6 | H23: =IF(E23=0,A23,A23/E23*J23) -> 8.5556115 | I23: =B23 -> confiture | J23: =E23*$M$19% -> 21.046804
A24: 150 | B24: café | D24: 0 | E24: =D24/100*A24 -> 0 | H24: =IF(E24=0,A24,A24/E24*J24) -> 150 | I24: =B24 -> café | J24: =E24*$M$19% -> 0
A25: 4 | B25: sucre | C25: #e | D25: 400 | E25: =D25/100*A25 -> 16 | H25: =IF(E25=0,A25,A25/E25*J25) -> 3.4222446 | I25: =B25 -> sucre | J25: =E25*$M$19% -> 13.688978
A26: 12 | B26: crème à café | C26: #c | D26: 161 | E26: =D26/100*A26 -> 19.32 | H26: =IF(E26=0,A26,A26/E26*J26) -> 10.266734 | I26: =B26 -> crème à café | J26: =E26*$M$19% -> 16.529441
A27: 125 | B27: yogourt aux fruits | C27: #b | D27: 87 | E27: =D27/100*A27 -> 108.75 | H27: =IF(E27=0,A27,A27/E27*J27) -> 106.94514 | I27: =B27 -> yogourt aux fruits | J27: =E27*$M$19% -> 93.042275
A28: 150 | B28: jus d'orange maison | C28: #b | D28: 45 | E28: =D28/100*A28 -> 67.5 | H28: =IF(E28=0,A28,A28/E28*J28) -> 128.33417 | I28: =B28 -> jus d'orange maison | J28: =E28*$M$19% -> 57.750377
F29: =SUM(E21:E28) -> 342.235 | J29: TOTAL | K29: =SUM(J21:J28) -> 292.80297
A30: MIDI
A31: Gnochi au jambon cru et salade crudités
A32: 125 | B32: pommes de terre | C32: #a | D32: 76 | E32: =D32/100*A32 -> 95 | H32: =IF(E32=0,A32,A32/E32*J32) -> 106.94514 | I32: =B32 -> pommes de terre | J32: =E32*$M$19% -> 81.278309
A33: 60 | B33: jambon | C33: #c | D33: 125 | E33: =D33/100*A33 -> 75 | H33: =IF(E33=0,A33,A33/E33*J33) -> 51.333669 | I33: =B33 -> jambon | J33: =E33*$M$19% -> 64.167086
A34: 37.5 | B34: farine | C34: #c | D34: 338 | E34: =D34/100*A34 -> 126.75 | H34: =IF(E34=0,A34,A34/E34*J34) -> 32.083543 | I34: =B34 -> farine | J34: =E34*$M$19% -> 108.44238
A35: 30 | B35: œufs | C35: #a | D35: 146 | E35: =D35/100*A35 -> 43.8 | H35: =IF(E35=0,A35,A35/E35*J35) -> 25.666834 | I35: =B35 -> œufs | J35: =E35*$M$19% -> 37.473578
A36: 12.5 | B36: parmesan | C36: #d | D36: 391 | E36: =D36/100*A36 -> 48.875 | H36: =IF(E36=0,A36,A36/E36*J36) -> 10.694514 | I36: =B36 -> parmesan | J36: =E36*$M$19% -> 41.815551
A37: 6 | B37: huile d'olive | C37: #e | D37: 899 | E37: =D37/100*A37 -> 53.94 | H37: =IF(E37=0,A37,A37/E37*J37) -> 5.1333669 | I37: =B37 -> huile d'olive | J37: =E37*$M$19% -> 46.148968
A38: 5 | B38: persil plat | C38: #a | D38: 28 | E38: =D38/100*A38 -> 1.4 | H38: =IF(E38=0,A38,A38/E38*J38) -> 4.2778057 | I38: =B38 -> persil plat | J38: =E38*$M$19% -> 1.1977856
A39: 0.5 | B39: sel | C39: #e | D39: 0 | E39: =D39/100*A39 -> 0 | H39: =IF(E39=0,A39,A39/E39*J39) -> 0.5 | I39: =B39 -> sel | J39: =E39*$M$19% -> 0
A40: 0.5 | B40: poivre | C40: #b | D40: 222 | E40: =D40/100*A40 -> 1.11 | H40: =IF(E40=0,A40,A40/E40*J40) -> 0.42778057 | I40: =B40 -> poivre | J40: =E40*$M$19% -> 0.94967287
A41: 80 | B41: saladade de crudités | C41: #a | D41: 68 | E41: =D41/100*A41 -> 54.4 | H41: =IF(E41=0,A41,A41/E41*J41) -> 68.444892 | I41: =B41 -> saladade de crudités | J41: =E41*$M$19% -> 46.542526
A42: 12 | B42: sauce salade au yogourt | C42: #b | D42: 68 | E42: =D42/100*A42 -> 8.16 | H42: =IF(E42=0,A42,A42/E42*J42) -> 10.266734 | I42: =B42 -> sauce salade au yogourt | J42: =E42*$M$19% -> 6.981379
A43: En guise de dessert
A44: 140 | B44: pamplemousse rose | C44: #a | D44: 32 | E44: =D44/100*A44 -> 44.8 | H44: =IF(E44=0,A44,A44/E44*J44) -> 119.77856 | I44: =B44 -> pamplemousse rose | J44: =E44*$M$19% -> 38.329139
A45: 8 | B45: sucre | C45: #e | D45: 400 | E45: =D45/100*A45 -> 32 | H45: =IF(E45=0,A45,A45/E45*J45) -> 6.8444892 | I45: =B45 -> sucre | J45: =E45*$M$19% -> 27.377957
E46: TOTAL | F46: =SUM(E32:E45) -> 585.235 | J46: TOTAL | K46: =SUM(J32:J45) -> 500.70433
A48: QUATRE HEURES
A49: 100 | B49: banane | C49: #b | D49: 91 | E49: =D49/100*A49 -> 91 | H49: =IF(E49=0,A49,A49/E49*J49) -> 85.556115 | I49: =B49 -> banane | J49: =E49*$M$19% -> 77.856064
E50: TOTAL | F50: =SUM(E49:E49) -> 91 | J50: TOTAL | K50: =J49 -> 77.856064
A51: SOIR
A52: Rouleau deux saumons et chou , boulgour
A53: 120 | B53: dos de saumon | C53: #a | D53: 180 | E53: =D53/100*A53 -> 216 | H53: =IF(E53=0,A53,A53/E53*J53) -> 102.66734 | I53: =B53 -> dos de saumon | J53: =E53*$M$19% -> 184.80121
A54: 40 | B54: saumon fumé | C54: #c | D54: 184 | E54: =D54/100*A54 -> 73.6 | H54: =IF(E54=0,A54,A54/E54*J54) -> 34.222446 | I54: =B54 -> saumon fumé | J54: =E54*$M$19% -> 62.9693
A55: 200 | B55: chou vert frisé | C55: #a | D55: 31 | E55: =D55/100*A55 -> 62 | H55: =IF(E55=0,A55,A55/E55*J55) -> 171.11223 | I55: =B55 -> chou vert frisé | J55: =E55*$M$19% -> 53.044791
A56: 8 | B56: fromage tartare | C56: #e | D56: 359 | E56: =D56/100*A56 -> 28.72 | H56: =IF(E56=0,A56,A56/E56*J56) -> 6.8444892 | I56: =B56 -> fromage tartare | J56: =E56*$M$19% -> 24.571716
A57: 3 | B57: huile de colza | C57: #c | D57: 899 | E57: =D57/100*A57 -> 26.97 | H57: =IF(E57=0,A57,A57/E57*J57) -> 2.5666834 | I57: =B57 -> huile de colza | J57: =E57*$M$19% -> 23.074484
A58: 3 | B58: huile d'olive | C58: #e | D58: 899 | E58: =D58/100*A58 -> 26.97 | H58: =IF(E58=0,A58,A58/E58*J58) -> 2.5666834 | I58: =B58 -> huile d'olive | J58: =E58*$M$19% -> 23.074484
A59: 1.5 | B59: sauce soja | C59: #d | D59: 58 | E59: =D59/100*A59 -> 0.87 | H59: =IF(E59=0,A59,A59/E59*J59) -> 1.2833417 | I59: =B59 -> sauce soja | J59: =E59*$M$19% -> 0.7443382
A60: 1.5 | B60: aneth | C60: #a | D60: 43 | E60: =D60/100*A60 -> 0.645 | H60: =IF(E60=0,A60,A60/E60*J60) -> 1.2833417 | I60: =B60 -> aneth | J60: =E60*$M$19% -> 0.55183694
A61: 2 | B61: gingembre | C61: #a | D61: 82 | E61: =D61/100*A61 -> 1.64 | H61: =IF(E61=0,A61,A61/E61*J61) -> 1.7111223 | I61: =B61 -> gingembre | J61: =E61*$M$19% -> 1.4031203
A62: 1 | B62: sel | C62: #e | D62: 0 | E62: =D62/100*A62 -> 0 | H62: =IF(E62=0,A62,A62/E62*J62) -> 1 | I62: =B62 -> sel | J62: =E62*$M$19% -> 0
A63: 0.5 | B63: poivre | C63: #b | D63: 222 | E63: =D63/100*A63 -> 1.11 | H63: =IF(E63=0,A63,A63/E63*J63) -> 0.42778057 | I63: =B63 -> poivre | J63: =E63*$M$19% -> 0.94967287
A64: =250/4 -> 62.5 | B64: boulgour sec | C64: #c | D64: 351 | E64: =D64/100*A64 -> 219.375 | H64: =IF(E64=0,A64,A64/E64*J64) -> 53.472572 | I64: =B64 -> boulgour sec | J64: =E64*$M$19% -> 187.68873
A65: 8 | B65: beurre | C65: #e | D65: 747 | E65: =D65/100*A65 -> 59.76 | H65: =IF(E65=0,A65,A65/E65*J65) -> 6.8444892 | I65: =B65 -> beurre | J65: =E65*$M$19% -> 51.128334
E66: TOTAL | F66: =SUM(E53:E65) -> 717.66 | J66: TOTAL | K66: =SUM(J53:J65) -> 614.00201
A67: Mousse au café | I67: =A67 -> Mousse au café
A68: 2 | B68: café soluble | E68: =D68/100*A68 -> 0 | H68: =IF(E68=0,A68,A68/E68*J68) -> 2 | I68: =B68 -> café soluble | J68: =E68*$M$19% -> 0
A69: 1 | B69: feuilles de gélatine | C69: #c | D69: 338 | E69: =D69/100*A69 -> 3.38 | H69: =IF(E69=0,A69,A69/E69*J69) -> 0.85556115 | I69: =B69 -> feuilles de gélatine | J69: =E69*$M$19% -> 2.8917967
A70: 62.5 | B70: crème 25% | C70: #e | D70: 252 | E70: =D70/100*A70 -> 157.5 | H70: =IF(E70=0,A70,A70/E70*J70) -> 53.472572 | I70: =B70 -> crème 25% | J70: =E70*$M$19% -> 134.75088
A71: =180/4 -> 45 | B71: œufs | C71: #a | D71: 146 | E71: =D71/100*A71 -> 65.7 | H71: =IF(E71=0,A71,A71/E71*J71) -> 38.500252 | I71: =B71 -> œufs | J71: =E71*$M$19% -> 56.210367
A72: 6 | B72: sucre | C72: #e | D72: 400 | E72: =D72/100*A72 -> 24 | H72: =IF(E72=0,A72,A72/E72*J72) -> 5.1333669 | I72: =B72 -> sucre | J72: =E72*$M$19% -> 20.533468
E73: TOTAL | F73: =SUM(E68:E72) -> 250.58 | J73: TOTAL | K73: =SUM(J68:J73) -> 214.38651
A74: =IF(D5="non",0,IF(D5="1 verre",125,250)) -> 0 | B74: =IF(A74=0,"","vin") | D74: 80 | E74: =D74/100*A74 -> 0 | H74: =IF(E74=0,A74,A74/E74*J74) -> 0 | I74: =B74 | J74: =E74*$M$19% -> 0
D76: TOTAL du jour | F76: =SUM(F21:F73) -> 1986.71 | I76: TOTAL du jour | K76: =SUM(K21:K74) -> 1699.7519
D77: avec vin | F77: =F76+E74 -> 1986.71 | I77: avec vin | K77: =K76+J74 -> 1699.7519
A79: >>>> | B79: RETOUR AU SOMMAIRE

Sheet jour_5
A1: JOURNEE 5 | I1: Couleur Pan Metron | J1: a
A3: Apport calorique du jour (sans alcool) | D3: =ROUND(F77,0) -> 1990 | E3: kcal/jour
A4: (cf. menus Pan Metron ci-dessous)
A5: Consommation de vin | C5: ^ | D5: non | E5: =IF(D5="non","",IF(D5=1,d!B22,d!B23))
A6: Activités supplémentaires | D6: 0 | E6: kcal/jour | G6: >>>> | H6: calculateur des dépenses énergétiques
A7: Mon objectif | D7: =jour_1!D7 -> 1700 | E7: kcal/jour | H7: sous www.bonasavoir.ch/panmetron
D8: =IF(D5="non","",d!A24)
B10: Pour atteindre votre objectif, en tenant compte de votre activité physique supplémentaire,
B11: vous pouvez absorber | D11: =D7+D6 -> 1700 | E11: kcal
B12: soit | D12: =ABS(M13) -> 290 | E12: kcal | F12: =IF(M13>0,d!A44,d!A45) -> de moins que les menus Pan Metron du jour | M12: différence
F13: =IF(D5="non","",d!A46) | M13: =D3+E75-D11 -> 290
B15: =IF(M13<-50,d!A48,IF(M13<0,d!A49,IF(M13=0,d!A50,IF(M13>50,d!A52,d!A51)))) -> Il faut donc agir:_x000D_> Vous pouvez augmenter encore votre activité physique._x000D_> Ou/et diminuer la quantité de certains ingrédients des recettes du jour dans la première colonne, jusqu'à atteindre votre objectif. Visez de préférence les aliments rouge et orange, de façon à ne pas prétériter l'équilibre nutritionnel de la journée._x000D_> Si cela ne suffit toujours pas à atteindre votre objectif, le programme adapte proportionnellement les quantités pour y parvenir, sauf celles des boissons non caloriques (eau, café, etc.)
A17: Menus Pan Metron du jour | H17: Personnalisation | M17: pondération
A18: g/cl | B18: Ingrédients | D18: kcal | H18: =A18 -> g/cl | I18: Ingrédients | J18: kcal | M18: =100-(D12/((D11+D12)/100)) -> 85.427136
D19: pr 100 g | E19: réels | J19: réels
A21: PETIT DEJEUNER AVEC ŒUF
A22: 60 | B22: œuf à la coque | C22: #a | D22: 134 | E22: =D22/100*A22 -> 80.4 | H22: =IF(E22=0,A22,A22/E22*J22) -> 51.256281 | I22: =B22 -> œuf à la coque | J22: =E22*$M$18% -> 68.683417
A23: 0.5 | B23: sel | C23: #e | D23: 0 | E23: =D23/100*A23 -> 0 | H23: =IF(E23=0,A23,A23/E23*J23) -> 0.5 | I23: =B23 -> sel | J23: =E23*$M$18% -> 0
A24: 40 | B24: pain complet | C24: #c | D24: 229 | E24: =D24/100*A24 -> 91.6 | H24: =IF(E24=0,A24,A24/E24*J24) -> 34.170854 | I24: =B24 -> pain complet | J24: =E24*$M$18% -> 78.251256
A25: 125 | B25: fromage blanc 20% | C25: #a | D25: 71 | E25: =D25/100*A25 -> 88.75 | H25: =IF(E25=0,A25,A25/E25*J25) -> 106.78392 | I25: =B25 -> fromage blanc 20% | J25: =E25*$M$18% -> 75.816583
A26: 100 | B26: salade de fruits frais | C26: #b | D26: 67 | E26: =D26/100*A26 -> 67 | H26: =IF(E26=0,A26,A26/E26*J26) -> 85.427136 | I26: =B26 -> salade de fruits frais | J26: =E26*$M$18% -> 57.236181
A27: 150 | B27: thé | D27: 0 | E27: =D27/100*A27 -> 0 | H27: =IF(E27=0,A27,A27/E27*J27) -> 150 | I27: =B27 -> thé | J27: =E27*$M$18% -> 0
A28: 12 | B28: sucre | C28: #e | D28: 400 | E28: =D28/100*A28 -> 48 | H28: =IF(E28=0,A28,A28/E28*J28) -> 10.251256 | I28: =B28 -> sucre | J28: =E28*$M$18% -> 41.005025
F29: =SUM(E22:E28) -> 375.75 | J29: TOTAL | K29: =SUM(J22:J28) -> 320.99246
A30: MIDI
A31: Penne all'arrabatia + mesclun
A32: 100 | B32: penne | C32: #b | D32: 116 | E32: =D32/100*A32 -> 116 | H32: =IF(E32=0,A32,A32/E32*J32) -> 85.427136 | I32: =B32 -> penne | J32: =E32*$M$18% -> 99.095477
A33: 2.5 | B33: piment rouge frais | C33: #a | D33: 45 | E33: =D33/100*A33 -> 1.125 | H33: =IF(E33=0,A33,A33/E33*J33) -> 2.1356784 | I33: =B33 -> piment rouge frais | J33: =E33*$M$18% -> 0.96105528
A34: 50 | B34: oignons | C34: #a | D34: 29 | E34: =D34/100*A34 -> 14.5 | H34: =IF(E34=0,A34,A34/E34*J34) -> 42.713568 | I34: =B34 -> oignons | J34: =E34*$M$18% -> 12.386935
A35: 1.5 | B35: aïl | C35: #a | D35: 131 | E35: =D35/100*A35 -> 1.965 | H35: =IF(E35=0,A35,A35/E35*J35) -> 1.281407 | I35: =B35 -> aïl | J35: =E35*$M$18% -> 1.6786432
A36: =150/4 -> 37.5 | B36: dés de jambon | C36: #c | D36: 125 | E36: =D36/100*A36 -> 46.875 | H36: =IF(E36=0,A36,A36/E36*J36) -> 32.035176 | I36: =B36 -> dés de jambon | J36: =E36*$M$18% -> 40.04397
A37: 50 | B37: sauce tomate | C37: #b | D37: 58 | E37: =D37/100*A37 -> 29 | H37: =IF(E37=0,A37,A37/E37*J37) -> 42.713568 | I37: =B37 -> sauce tomate | J37: =E37*$M$18% -> 24.773869
A38: 25 | B38: filets d'anchois | C38: #e | D38: 182 | E38: =D38/100*A38 -> 45.5 | H38: =IF(E38=0,A38,A38/E38*J38) -> 21.356784 | I38: =B38 -> filets d'anchois | J38: =E38*$M$18% -> 38.869347
A39: 15 | B39: olives noires | C39: #e | D39: 294 | E39: =D39/100*A39 -> 44.1 | H39: =IF(E39=0,A39,A39/E39*J39) -> 12.81407 | I39: =B39 -> olives noires | J39: =E39*$M$18% -> 37.673367
A40: 25 | B40: parmesan | C40: #d | D40: 391 | E40: =D40/100*A40 -> 97.75 | H40: =IF(E40=0,A40,A40/E40*J40) -> 21.356784 | I40: =B40 -> parmesan | J40: =E40*$M$18% -> 83.505025
A41: 6 | B41: huile d'olive | C41: #e | D41: 899 | E41: =D41/100*A41 -> 53.94 | H41: =IF(E41=0,A41,A41/E41*J41) -> 5.1256281 | I41: =B41 -> huile d'olive | J41: =E41*$M$18% -> 46.079397
A42: 1 | B42: sel | C42: #e | D42: 0 | E42: =D42/100*A42 -> 0 | H42: =IF(E42=0,A42,A42/E42*J42) -> 1 | I42: =B42 -> sel | J42: =E42*$M$18% -> 0
A43: 0.5 | B43: poivre | C43: #b | D43: 222 | E43: =D43/100*A43 -> 1.11 | H43: =IF(E43=0,A43,A43/E43*J43) -> 0.42713568 | I43: =B43 -> poivre | J43: =E43*$M$18% -> 0.94824121
A44: 50 | B44: mesclun | C44: #a | D44: 18 | E44: =D44/100*A44 -> 9 | H44: =IF(E44=0,A44,A44/E44*J44) -> 42.713568 | I44: =B44 -> mesclun | J44: =E44*$M$18% -> 7.6884422
A45: 12 | B45: sauce salade italienne | C45: #e | D45: 472 | E45: =D45/100*A45 -> 56.64 | H45: =IF(E45=0,A45,A45/E45*J45) -> 10.251256 | I45: =B45 -> sauce salade italienne | J45: =E45*$M$18% -> 48.38593
B46: En guise de dessert
A47: 150 | B47: orange | C47: #a | D47: 40 | E47: =D47/100*A47 -> 60 | H47: =IF(E47=0,A47,A47/E47*J47) -> 128.1407 | I47: =D47 -> 40 | J47: =E47*$M$18% -> 51.256281
E48: TOTAL | F48: =SUM(E32:E47) -> 577.505 | J48: TOTAL | K48: =SUM(J32:J47) -> 493.34598
A50: QUATRE HEURES
A51: 125 | B51: yogourt grec | C51: #c | D51: 127 | E51: =D51/100*A51 -> 158.75 | H51: =IF(E51=0,A51,A51/E51*J51) -> 106.78392 | I51: =B51 -> yogourt grec | J51: =E51*$M$18% -> 135.61558
A52: 6 | B52: miel | C52: #c | D52: 306 | E52: =D52/100*A52 -> 18.36 | H52: =IF(E52=0,A52,A52/E52*J52) -> 5.1256281 | I52: =B52 -> miel | J52: =E52*$M$18% -> 15.684422
E53: TOTAL | F53: =SUM(E51:E52) -> 177.11 | J53: TOTAL | K53: =J51+J52 -> 151.3
A54: SOIR
A55: Bavette à la Lyonnaise , pommes de terre sautées et thian de légumes
A56: 150 | B56: pommes-de-terre | C56: #a | D56: 76 | E56: =D56/100*A56 -> 114 | H56: =IF(E56=0,A56,A56/E56*J56) -> 128.1407 | I56: =B56 -> pommes-de-terre | J56: =E56*$M$18% -> 97.386935
A57: 150 | B57: tomates | C57: #a | D57: 21 | E57: =D57/100*A57 -> 31.5 | H57: =IF(E57=0,A57,A57/E57*J57) -> 128.1407 | I57: =B57 -> tomates | J57: =E57*$M$18% -> 26.909548
A58: 125 | B58: courgette | C58: #a | D58: 19 | E58: =D58/100*A58 -> 23.75 | H58: =IF(E58=0,A58,A58/E58*J58) -> 106.78392 | I58: =B58 -> courgette | J58: =E58*$M$18% -> 20.288945
A59: 75 | B59: aubergine | C59: #a | D59: 17 | E59: =D59/100*A59 -> 12.75 | H59: =IF(E59=0,A59,A59/E59*J59) -> 64.070352 | I59: =B59 -> aubergine | J59: =E59*$M$18% -> 10.89196
A60: 9 | B60: huile d'olive | C60: #e | D60: 899 | E60: =D60/100*A60 -> 80.91 | H60: =IF(E60=0,A60,A60/E60*J60) -> 7.6884422 | I60: =B60 -> huile d'olive | J60: =E60*$M$18% -> 69.119095
A61: 150 | B61: bavette de bœuf | C61: #a | D61: 133 | E61: =D61/100*A61 -> 199.5 | H61: =IF(E61=0,A61,A61/E61*J61) -> 128.1407 | I61: =B61 -> bavette de bœuf | J61: =E61*$M$18% -> 170.42714
A62: 75 | B62: oignons | C62: #a | D62: 29 | E62: =D62/100*A62 -> 21.75 | H62: =IF(E62=0,A62,A62/E62*J62) -> 64.070352 | I62: =B62 -> oignons | J62: =E62*$M$18% -> 18.580402
A63: 5 | B63: beurre | C63: #e | D63: 747 | E63: =D63/100*A63 -> 37.35 | H63: =IF(E63=0,A63,A63/E63*J63) -> 4.2713568 | I63: =B63 -> beurre | J63: =E63*$M$18% -> 31.907035
A64: 2 | B64: sel | C64: #e | D64: 0 | E64: =D64/100*A64 -> 0 | H64: =IF(E64=0,A64,A64/E64*J64) -> 2 | I64: =B64 -> sel | J64: =E64*$M$18% -> 0
A65: 0.5 | B65: poivre | C65: #b | D65: 222 | E65: =D65/100*A65 -> 1.11 | H65: =IF(E65=0,A65,A65/E65*J65) -> 0.42713568 | I65: =B65 -> poivre | J65: =E65*$M$18% -> 0.94824121
E66: TOTAL | F66: =SUM(E56:E65) -> 522.62 | I66: =B66 -> 0 | J66: TOTAL | K66: =SUM(J56:J65) -> 446.4593
A67: Cake au citron | I67: =A67 -> Cake au citron
A68: 45 | B68: citrons | C68: #a | D68: 15 | E68: =D68/100*A68 -> 6.75 | H68: =IF(E68=0,A68,A68/E68*J68) -> 38.442211 | I68: =B68 -> citrons | J68: =E68*$M$18% -> 5.7663317
A69: 23 | B69: œuf | C69: #a | D69: 146 | E69: =D69/100*A69 -> 33.58 | H69: =IF(E69=0,A69,A69/E69*J69) -> 19.648241 | I69: =B69 -> œuf | J69: =E69*$M$18% -> 28.686432
A70: 2 | B70: sucralose | D70: 0 | E70: =D70/100*A70 -> 0 | H70: =IF(E70=0,A70,A70/E70*J70) -> 2 | I70: =B70 -> sucralose | J70: =E70*$M$18% -> 0
A71: 1 | B71: levure | C71: #d | D71: 146 | E71: =D71/100*A71 -> 1.46 | H71: =IF(E71=0,A71,A71/E71*J71) -> 0.85427136 | I71: =B71 -> levure | J71: =E71*$M$18% -> 1.2472362
A72: 32 | B72: farine | C72: #c | D72: 338 | E72: =D72/100*A72 -> 108.16 | H72: =IF(E72=0,A72,A72/E72*J72) -> 27.336683 | I72: =B72 -> farine | J72: =E72*$M$18% -> 92.39799
A73: 25 | B73: beurre | C73: #e | D73: 747 | E73: =D73/100*A73 -> 186.75 | H73: =IF(E73=0,A73,A73/E73*J73) -> 21.356784 | I73: =B73 -> beurre | J73: =E73*$M$18% -> 159.53518
E74: TOTAL | F74: =SUM(E68:E73) -> 336.7 | J74: TOTAL | K74: =SUM(J68:J73) -> 287.63317
A75: =IF(D5="non",0,IF(D5="1 verre",125,250)) -> 0 | B75: =IF(A75=0,"","vin") | D75: 80 | E75: =D75/100*A75 -> 0 | H75: =IF(E75=0,A75,A75/E75*J75) -> 0 | I75: =B75 | J75: =E75*$M$18% -> 0
D77: TOTAL du jour | F77: =SUM(F22:F75) -> 1989.685 | I77: TOTAL du jour | K77: =SUM(K22:K75) -> 1699.7309
D78: avec vin | F78: =F77+E75 -> 1989.685 | I78: avec vin | K78: =K77+J75 -> 1699.7309
A80: >>>> | B80: RETOUR AU SOMMAIRE

Sheet jour_6
A1: JOURNEE 6 | I1: Couleur Pan Metron | J1: a
A3: Apport calorique du jour (sans alcool) | D3: =ROUND(F73,0) -> 1992 | E3: kcal/jour
A4: (cf. menus Pan Metron ci-dessous)
A5: Consommation de vin | C5: ^ | D5: non | E5: =IF(D5="non","",IF(D5=1,d!B22,d!B23))
A6: Activités supplémentaires | D6: 0 | E6: kcal/jour | G6: >>>> | H6: calculateur des dépenses énergétiques
A7: Mon objectif | D7: =jour_1!D7 -> 1700 | E7: kcal/jour | H7: sous www.bonasavoir.ch/panmetron
D8: =IF(D5="non","",d!A24)
B10: Pour atteindre votre objectif, en tenant compte de votre activité physique supplémentaire,
B11: vous pouvez absorber | D11: =D7+D6 -> 1700 | E11: kcal
B12: soit | D12: =ABS(M13) -> 292 | E12: kcal | F12: =IF(M13>0,d!A44,d!A45) -> de moins que les menus Pan Metron du jour | M12: différence
F13: =IF(D5="non","",d!A46) | M13: =D3+E71-D11 -> 292
B15: =IF(M13<0,d!A48,d!A52) -> Il faut donc agir:_x000D_> Vous pouvez augmenter encore votre activité physique._x000D_> Ou/et diminuer la quantité de certains ingrédients des recettes du jour dans la première colonne, jusqu'à atteindre votre objectif. Visez de préférence les aliments rouge et orange, de façon à ne pas prétériter l'équilibre nutritionnel de la journée._x000D_> Si cela ne suffit toujours pas à atteindre votre objectif, le programme adapte proportionnellement les quantités pour y parvenir, sauf celles des boissons non caloriques (eau, café, etc.)
A17: Menus Pan Metron du jour | H17: Personnalisation | M17: pondération
A18: g/cl | B18: Ingrédients | D18: kcal | H18: =A18 -> g/cl | I18: Ingrédients | J18: kcal | M18: =100-(D12/((D11+D12)/100)) -> 85.341365
D19: pr 100 g | E19: réels | J19: réels
A21: PETIT DEJEUNER CEREALES
A22: 50 | B22: céréales au miel | C22: c | D22: 382 | E22: =D22/100*A22 -> 191 | H22: =IF(E22=0,A22,A22/E22*J22) -> 42.670683 | I22: =B22 -> céréales au miel | J22: =E22*$M$18% -> 163.00201
A23: 150 | B23: café | D23: 0 | E23: =D23/100*A23 -> 0 | H23: =IF(E23=0,A23,A23/E23*J23) -> 150 | I23: =B23 -> café | J23: =E23*$M$18% -> 0
A24: 4 | B24: sucre | C24: e | D24: 400 | E24: =D24/100*A24 -> 16 | H24: =IF(E24=0,A24,A24/E24*J24) -> 3.4136546 | I24: =B24 -> sucre | J24: =E24*$M$18% -> 13.654618
A25: 12 | B25: crème à café | C25: c | D25: 161 | E25: =D25/100*A25 -> 19.32 | H25: =IF(E25=0,A25,A25/E25*J25) -> 10.240964 | I25: =B25 -> crème à café | J25: =E25*$M$18% -> 16.487952
A26: 125 | B26: yogourt aux fruits | C26: b | D26: 87 | E26: =D26/100*A26 -> 108.75 | H26: =IF(E26=0,A26,A26/E26*J26) -> 106.67671 | I26: =B26 -> yogourt aux fruits | J26: =E26*$M$18% -> 92.808735
A27: 150 | B27: jus d'orange maison | C27: b | D27: 45 | E27: =D27/100*A27 -> 67.5 | H27: =IF(E27=0,A27,A27/E27*J27) -> 128.01205 | I27: =B27 -> jus d'orange maison | J27: =E27*$M$18% -> 57.605422
F28: =SUM(E22:E27) -> 402.57 | J28: TOTAL | K28: =SUM(J22:J27) -> 343.55873
A29: MIDI
A30: Salade de couscous aux merguez
A31: 90 | B31: merguez | C31: d | D31: 300 | E31: =D31/100*A31 -> 270 | H31: =IF(E31=0,A31,A31/E31*J31) -> 76.807229 | I31: =B31 -> merguez | J31: =E31*$M$18% -> 230.42169
A32: 50 | B32: semoule de couscous | C32: c | D32: 361 | E32: =D32/100*A32 -> 180.5 | H32: =IF(E32=0,A32,A32/E32*J32) -> 42.670683 | I32: =B32 -> semoule de couscous | J32: =E32*$M$18% -> 154.04116
A33: 62.5 | B33: bouillon de légumes | C33: a | D33: 6 | E33: =D33/100*A33 -> 3.75 | H33: =IF(E33=0,A33,A33/E33*J33) -> 53.338353 | I33: =B33 -> bouillon de légumes | J33: =E33*$M$18% -> 3.2003012
A34: =250/4 -> 62.5 | B34: aubergine | C34: a | D34: 17 | E34: =D34/100*A34 -> 10.625 | H34: =IF(E34=0,A34,A34/E34*J34) -> 53.338353 | I34: =B34 -> aubergine | J34: =E34*$M$18% -> 9.0675201
A35: 25 | B35: oignon | C35: a | D35: 29 | E35: =D35/100*A35 -> 7.25 | H35: =IF(E35=0,A35,A35/E35*J35) -> 21.335341 | I35: =B35 -> oignon | J35: =E35*$M$18% -> 6.187249
A36: 2.5 | B36: piment | C36: a | D36: 45 | E36: =D36/100*A36 -> 1.125 | H36: =IF(E36=0,A36,A36/E36*J36) -> 2.1335341 | I36: =B36 -> piment | J36: =E36*$M$18% -> 0.96009036
A37: 6 | B37: pignons | C37: d | D37: 594 | E37: =D37/100*A37 -> 35.64 | H37: =IF(E37=0,A37,A37/E37*J37) -> 5.1204819 | I37: =B37 -> pignons | J37: =E37*$M$18% -> 30.415663
A38: 4 | B38: huile d'olive | C38: e | D38: 899 | E38: =D38/100*A38 -> 35.96 | H38: =IF(E38=0,A38,A38/E38*J38) -> 3.4136546 | I38: =B38 -> huile d'olive | J38: =E38*$M$18% -> 30.688755
A39: 16 | B39: abricots secs | C39: d | D39: 275 | E39: =D39/100*A39 -> 44 | H39: =IF(E39=0,A39,A39/E39*J39) -> 13.654618 | I39: =B39 -> abricots secs | J39: =E39*$M$18% -> 37.550201
A40: 25 | B40: feta | C40: d | D40: 262 | E40: =D40/100*A40 -> 65.5 | H40: =IF(E40=0,A40,A40/E40*J40) -> 21.335341 | I40: =B40 -> feta | J40: =E40*$M$18% -> 55.898594
A41: 2 | B41: menthe | C41: a | D41: 49 | E41: =D41/100*A41 -> 0.98 | H41: =IF(E41=0,A41,A41/E41*J41) -> 1.7068273 | I41: =B41 -> menthe | J41: =E41*$M$18% -> 0.83634538
A42: 1 | B42: sel | C42: e | D42: 0 | E42: =D42/100*A42 -> 0 | H42: =IF(E42=0,A42,A42/E42*J42) -> 1 | I42: =B42 -> sel | J42: =E42*$M$18% -> 0
A43: 0.5 | B43: poivre | C43: b | D43: 222 | E43: =D43/100*A43 -> 1.11 | H43: =IF(E43=0,A43,A43/E43*J43) -> 0.42670683 | I43: =B43 -> poivre | J43: =E43*$M$18% -> 0.94728916
A44: En guise de dessert
A45: 150 | B45: poire | C45: b | D45: 53 | E45: =D45/100*A45 -> 79.5 | H45: =IF(E45=0,A45,A45/E45*J45) -> 128.01205 | I45: =B45 -> poire | J45: =E45*$M$18% -> 67.846386
E46: TOTAL | F46: =SUM(E31:E45) -> 735.94 | J46: TOTAL | K46: =SUM(J31:J45) -> 628.06124
A48: QUATRE HEURES
A49: 100 | B49: petit-suisse | C49: a | D49: 112 | E49: =D49/100*A49 -> 112 | H49: =IF(E49=0,A49,A49/E49*J49) -> 85.341365 | I49: =B49 -> petit-suisse | J49: =E49*$M$18% -> 95.582329
A50: 8 | B50: sucre | C50: e | D50: 400 | E50: =D50/100*A50 -> 32 | H50: =IF(E50=0,A50,A50/E50*J50) -> 6.8273092 | I50: =B50 -> sucre | J50: =E50*$M$18% -> 27.309237
E51: TOTAL | F51: =SUM(E49:E50) -> 144 | J51: TOTAL | K51: =SUM(J49:J50) -> 122.89157
A53: SOIR
A54: Truite aux lentilles
A55: 20 | B55: oignon | C55: a | D55: 29 | E55: =D55/100*A55 -> 5.8 | H55: =IF(E55=0,A55,A55/E55*J55) -> 17.068273 | I55: =B55 -> oignon | J55: =E55*$M$18% -> 4.9497992
A56: 30 | B56: lentilles | C56: b | D56: 332 | E56: =D56/100*A56 -> 99.6 | H56: =IF(E56=0,A56,A56/E56*J56) -> 25.60241 | I56: =B56 -> lentilles | J56: =E56*$M$18% -> 85
A57: 1 | B57: gingembre | C57: a | D57: 82 | E57: =D57/100*A57 -> 0.82 | H57: =IF(E57=0,A57,A57/E57*J57) -> 0.85341365 | I57: =B57 -> gingembre | J57: =E57*$M$18% -> 0.6997992
A58: 2.5 | B58: piment rouge | C58: a | D58: 45 | E58: =D58/100*A58 -> 1.125 | H58: =IF(E58=0,A58,A58/E58*J58) -> 2.1335341 | I58: =B58 -> piment rouge | J58: =E58*$M$18% -> 0.96009036
A59: =18/4 -> 4.5 | B59: huile d'olive | C59: e | D59: 899 | E59: =D59/100*A59 -> 40.455 | H59: =IF(E59=0,A59,A59/E59*J59) -> 3.8403614 | I59: =B59 -> huile d'olive | J59: =E59*$M$18% -> 34.524849
A60: 75 | B60: laitue romaine | C60: a | D60: 13 | E60: =D60/100*A60 -> 9.75 | H60: =IF(E60=0,A60,A60/E60*J60) -> 64.006024 | I60: =B60 -> laitue romaine | J60: =E60*$M$18% -> 8.3207831
A61: 150 | B61: chou-fleur | C61: a | D61: 26 | E61: =D61/100*A61 -> 39 | H61: =IF(E61=0,A61,A61/E61*J61) -> 128.01205 | I61: =B61 -> chou-fleur | J61: =E61*$M$18% -> 33.283133
A62: 150 | B62: filets de truite | C62: a | D62: 125 | E62: =D62/100*A62 -> 187.5 | H62: =IF(E62=0,A62,A62/E62*J62) -> 128.01205 | I62: =B62 -> filets de truite | J62: =E62*$M$18% -> 160.01506
A63: 6 | B63: sauce soja | D63: 77 | E63: =D63/100*A63 -> 4.62 | H63: =IF(E63=0,A63,A63/E63*J63) -> 5.1204819 | I63: =B63 -> sauce soja | J63: =E63*$M$18% -> 3.9427711
A64: 2 | B64: sel | C64: e | D64: 0 | E64: =D64/100*A64 -> 0 | H64: =IF(E64=0,A64,A64/E64*J64) -> 2 | I64: =B64 -> sel | J64: =E64*$M$18% -> 0
A65: 50 | B65: mâche | C65: a | D65: 20 | E65: =D65/100*A65 -> 10 | H65: =IF(E65=0,A65,A65/E65*J65) -> 42.670683 | I65: =B65 -> mâche | J65: =E65*$M$18% -> 8.5341365
A66: 12 | B66: sauce à salade française | C66: e | D66: 446 | E66: =D66/100*A66 -> 53.52 | H66: =IF(E66=0,A66,A66/E66*J66) -> 10.240964 | I66: =B66 -> sauce à salade française | J66: =E66*$M$18% -> 45.674699
B67: En guise de dessert
A68: 80 | B68: glace | C68: d | D68: 203 | E68: =D68/100*A68 -> 162.4 | H68: =IF(E68=0,A68,A68/E68*J68) -> 68.273092 | I68: =B68 -> glace | J68: =E68*$M$18% -> 138.59438
A69: 20 | B69: sablé | C69: e | D69: 475 | E69: =D69/100*A69 -> 95 | H69: =IF(E69=0,A69,A69/E69*J69) -> 17.068273 | I69: =B69 -> sablé | J69: =E69*$M$18% -> 81.074297
E70: TOTAL | F70: =SUM(E55:E69) -> 709.59 | J70: TOTAL | K70: =SUM(J55:J69) -> 605.5738
A71: =IF(D5="non",0,IF(D5="1 verre",125,250)) -> 0 | B71: =IF(A71=0,"","vin") | D71: 80 | E71: =D71/100*A71 -> 0 | H71: =IF(E71=0,A71,A71/E71*J71) -> 0 | I71: =B71 | J71: =E71*$M$18% -> 0
D73: TOTAL du jour | F73: =SUM(F17:F70) -> 1992.1 | I73: TOTAL du jour
D74: avec vin | F74: =F73+E71 -> 1992.1 | I74: avec vin | K74: =K73+J71 -> 0
A76: >>>> | B76: RETOUR AU SOMMAIRE

Sheet jour_7
A1: JOURNEE 7 | I1: Couleur Pan Metron | J1: a
A3: Apport calorique du jour (sans alcool) | D3: =ROUND(F78,0) -> 1969 | E3: kcal/jour
A4: (cf. menus Pan Metron ci-dessous)
A5: Consommation de vin | C5: ^ | D5: non | E5: =IF(D5="non","",IF(D5=1,d!B22,d!B23))
A6: Activités supplémentaires | D6: 0 | E6: kcal/jour | G6: >>>> | H6: calculateur des dépenses énergétiques
A7: Mon objectif | D7: =jour_1!D7 -> 1700 | E7: kcal/jour | H7: sous www.bonasavoir.ch/panmetron
D8: =IF(D5="non","",d!A24)
B10: Pour atteindre votre objectif, en tenant compte de votre activité physique supplémentaire,
B11: vous pouvez absorber | D11: =D7+D6 -> 1700 | E11: kcal
B12: soit | D12: =ABS(M13) -> 269 | E12: kcal | F12: =IF(M13>0,d!A44,d!A45) -> de moins que les menus Pan Metron du jour
F13: =IF(D5="non","",d!A46) | M13: =D3+E76-D11 -> 269
B15: =IF(M13<-50,d!A48,IF(M13<0,d!A49,IF(M13=0,d!A50,IF(M13>50,d!A52,d!A51)))) -> Il faut donc agir:_x000D_> Vous pouvez augmenter encore votre activité physique._x000D_> Ou/et diminuer la quantité de certains ingrédients des recettes du jour dans la première colonne, jusqu'à atteindre votre objectif. Visez de préférence les aliments rouge et orange, de façon à ne pas prétériter l'équilibre nutritionnel de la journée._x000D_> Si cela ne suffit toujours pas à atteindre votre objectif, le programme adapte proportionnellement les quantités pour y parvenir, sauf celles des boissons non caloriques (eau, café, etc.)
A17: Menus Pan Metron du jour | H17: Personnalisation | M17: pondération (M18)
A18: g/cl | B18: Ingrédients | D18: kcal | H18: =A18 -> g/cl | I18: =B18 -> Ingrédients | J18: kcal | M18: =100-(D12/((D11+D12)/100)) -> 86.338243
D19: pr 100 g | E19: réels | J19: réels
A21: PETIT DEJEUNER CLASSIQUE
A22: 30 | B22: pain complet | C22: c | D22: 229 | E22: =D22/100*A22 -> 68.7 | H22: =IF(E22=0,A22,A22/E22*J22) -> 25.901473 | I22: =B22 -> pain complet | J22: =E22*$M$18% -> 59.314373
A23: 5 | B23: beurre | C23: e | D23: 747.3 | E23: =D23/100*A23 -> 37.365 | H23: =IF(E23=0,A23,A23/E23*J23) -> 4.3169121 | I23: =B23 -> beurre | J23: =E23*$M$18% -> 32.260284
A24: 10 | B24: confiture | C24: e | D24: 246 | E24: =D24/100*A24 -> 24.6 | H24: =IF(E24=0,A24,A24/E24*J24) -> 8.6338243 | I24: =B24 -> confiture | J24: =E24*$M$18% -> 21.239208
A25: 150 | B25: café | D25: 0 | E25: =D25/100*A25 -> 0 | H25: =IF(E25=0,A25,A25/E25*J25) -> 150 | I25: =B25 -> café | J25: =E25*$M$18% -> 0
A26: 4 | B26: sucre | C26: e | D26: 400 | E26: =D26/100*A26 -> 16 | H26: =IF(E26=0,A26,A26/E26*J26) -> 3.4535297 | I26: =B26 -> sucre | J26: =E26*$M$18% -> 13.814119
A27: 12 | B27: crème à café | C27: c | D27: 161 | E27: =D27/100*A27 -> 19.32 | H27: =IF(E27=0,A27,A27/E27*J27) -> 10.360589 | I27: =B27 -> crème à café | J27: =E27*$M$18% -> 16.680549
A28: 125 | B28: yogourt aux fruits | C28: b | D28: 87 | E28: =D28/100*A28 -> 108.75 | H28: =IF(E28=0,A28,A28/E28*J28) -> 107.9228 | I28: =B28 -> yogourt aux fruits | J28: =E28*$M$18% -> 93.892839
A29: 150 | B29: jus d'orange maison | C29: b | D29: 45 | E29: =D29/100*A29 -> 67.5 | H29: =IF(E29=0,A29,A29/E29*J29) -> 129.50736 | I29: =B29 -> jus d'orange maison | J29: =E29*$M$18% -> 58.278314
E30: TOTAL | F30: =SUM(E22:E29) -> 342.235 | J30: TOTAL | K30: =SUM(J22:J29) -> 295.47969
A31: MIDI
A32: Tarte au bleu et aux endives
A33: 30 | B33: oeufs | C33: a | D33: 146 | E33: =D33/100*A33 -> 43.8 | H33: =IF(E33=0,A33,A33/E33*J33) -> 25.901473 | I33: =B33 -> oeufs | J33: =E33*$M$18% -> 37.81615
A34: 3 | B34: farine | C34: c | D34: 338 | E34: =D34/100*A34 -> 10.14 | H34: =IF(E34=0,A34,A34/E34*J34) -> 2.5901473 | I34: =B34 -> farine | J34: =E34*$M$18% -> 8.7546978
A35: 50 | B35: crème liquide | C35: e | D35: 252 | E35: =D35/100*A35 -> 126 | H35: =IF(E35=0,A35,A35/E35*J35) -> 43.169121 | I35: =B35 -> crème liquide | J35: =E35*$M$18% -> 108.78619
A36: 50 | B36: tomate | C36: a | D36: 19 | E36: =D36/100*A36 -> 9.5 | H36: =IF(E36=0,A36,A36/E36*J36) -> 43.169121 | I36: =B36 -> tomate | J36: =E36*$M$18% -> 8.2021331
A37: 25 | B37: oignon | C37: a | D37: 29 | E37: =D37/100*A37 -> 7.25 | H37: =IF(E37=0,A37,A37/E37*J37) -> 21.584561 | I37: =B37 -> oignon | J37: =E37*$M$18% -> 6.2595226
A38: 50 | B38: endive | C38: a | D38: 10 | E38: =D38/100*A38 -> 5 | H38: =IF(E38=0,A38,A38/E38*J38) -> 43.169121 | I38: =B38 -> endive | J38: =E38*$M$18% -> 4.3169121
A39: 62 | B39: pâte feuilletée abaissée | C39: e | D39: 384 | E39: =D39/100*A39 -> 238.08 | H39: =IF(E39=0,A39,A39/E39*J39) -> 53.529711 | I39: =B39 -> pâte feuilletée abaissée | J39: =E39*$M$18% -> 205.55409
A40: 3 | B40: moutarde | C40: c | D40: 134 | E40: =D40/100*A40 -> 4.02 | H40: =IF(E40=0,A40,A40/E40*J40) -> 2.5901473 | I40: =B40 -> moutarde | J40: =E40*$M$18% -> 3.4707974
A41: 6 | B41: chapelure | C41: e | D41: 370 | E41: =D41/100*A41 -> 22.2 | H41: =IF(E41=0,A41,A41/E41*J41) -> 5.1802946 | I41: =B41 -> chapelure | J41: =E41*$M$18% -> 19.16709
A42: 12 | B42: fromage bleu | C42: e | D42: 342 | E42: =D42/100*A42 -> 41.04 | H42: =IF(E42=0,A42,A42/E42*J42) -> 10.360589 | I42: =B42 -> fromage bleu | J42: =E42*$M$18% -> 35.433215
A43: 2.5 | B43: cerfeuil | C43: a | D43: 44 | E43: =D43/100*A43 -> 1.1 | H43: =IF(E43=0,A43,A43/E43*J43) -> 2.1584561 | I43: =B43 -> cerfeuil | J43: =E43*$M$18% -> 0.94972067
A44: 50 | B44: salade | C44: a | D44: 18 | E44: =D44/100*A44 -> 9 | H44: =IF(E44=0,A44,A44/E44*J44) -> 43.169121 | I44: =B44 -> salade | J44: =E44*$M$18% -> 7.7704418
... A47: 0.5 | B47: poivre | C47: b | D47: 222 | E47: =D47/100*A47 -> 1.11 | H47: =IF(E47=0,A47,A47/E47*J47) -> 0.43169121 | I47: =B47 -> poivre | J47: =E47*$M$18% -> 0.95835449
A48: En guise de dessert
A49: 125 | B49: yogourt aux fruits | C49: b | D49: 87 | E49: =D49/100*A49 -> 108.75 | H49: =IF(E49=0,A49,A49/E49*J49) -> 107.9228 | I49: =B49 -> yogourt aux fruits | J49: =E49*$M$18% -> 93.892839
E50: TOTAL | F50: =SUM(E33:E49) -> 680.51 | J50: TOTAL | K50: =SUM(J33:J49) -> 587.54038
A52: QUATRE HEURES
A53: 30 | B53: branche chocolat | C53: e | D53: 460 | E53: =D53/100*A53 -> 138 | H53: =IF(E53=0,A53,A53/E53*J53) -> 25.901473 | I53: =B53 -> branche chocolat | J53: =E53*$M$18% -> 119.14678
E54: TOTAL | F54: =SUM(E53:E53) -> 138 | J54: TOTAL | K54: =SUM(J53:J53) -> 119.14678
A55: SOIR
A56: Lapin aux amandes, purée, épinards
A57: 50 | B57: oignon | C57: a | D57: 29 | E57: =D57/100*A57 -> 14.5 | H57: =IF(E57=0,A57,A57/E57*J57) -> 43.169121 | I57: =B57 -> oignon | J57: =E57*$M$18% -> 12.519045
A58: 20 | B58: amandes grillées | C58: d | D58: 631 | E58: =D58/100*A58 -> 126.2 | H58: =IF(E58=0,A58,A58/E58*J58) -> 17.267649 | I58: =B58 -> amandes grillées | J58: =E58*$M$18% -> 108.95886
A59: 200 | B59: lapin | C59: a | D59: 133 | E59: =D59/100*A59 -> 266 | H59: =IF(E59=0,A59,A59/E59*J59) -> 172.67649 | I59: =B59 -> lapin | J59: =E59*$M$18% -> 229.65973
A60: 3 | B60: huille d'olive | C60: e | D60: 899 | E60: =D60/100*A60 -> 26.97 | H60: =IF(E60=0,A60,A60/E60*J60) -> 2.5901473 | I60: =B60 -> huille d'olive | J60: =E60*$M$18% -> 23.285424
A61: 3 | B61: beurre | C61: e | D61: 747 | E61: =D61/100*A61 -> 22.41 | H61: =IF(E61=0,A61,A61/E61*J61) -> 2.5901473 | I61: =B61 -> beurre | J61: =E61*$M$18% -> 19.3484
A62: 3 | B62: farine | C62: c | D62: 338 | E62: =D62/100*A62 -> 10.14 | H62: =IF(E62=0,A62,A62/E62*J62) -> 2.5901473 | I62: =B62 -> farine | J62: =E62*$M$18% -> 8.7546978
B63: 2 bâtons de canelle | I63: =B63 -> 2 bâtons de canelle
A64: 0.025 | B64: safran | C64: d | D64: 352 | E64: =D64/100*A64 -> 0.088 | H64: =IF(E64=0,A64,A64/E64*J64) -> 0.021584561 | I64: =B64 -> safran | J64: =E64*$M$18% -> 0.075977654
A65: 7.5 | B65: persil | C65: a | D65: 28 | E65: =D65/100*A65 -> 2.1 | H65: =IF(E65=0,A65,A65/E65*J65) -> 6.4753682 | I65: =B65 -> persil | J65: =E65*$M$18% -> 1.8131031
A66: 3 | B66: gingembre moulu | C66: e | D66: 322 | E66: =D66/100*A66 -> 9.66 | H66: =IF(E66=0,A66,A66/E66*J66) -> 2.5901473 | I66: =B66 -> gingembre moulu | J66: =E66*$M$18% -> 8.3402743
A67: 220 | B67: purée en flocons | C67: a | D67: 67 | E67: =D67/100*A67 -> 147.4 | H67: =IF(E67=0,A67,A67/E67*J67) -> 189.94413 | I67: =B67 -> purée en flocons | J67: =E67*$M$18% -> 127.26257
A68: 80 | B68: épinards surgelés | C68: a | D68: 33 | E68: =D68/100*A68 -> 26.4 | H68: =IF(E68=0,A68,A68/E68*J68) -> 69.070594 | I68: =B68 -> épinards surgelés | J68: =E68*$M$18% -> 22.793296
A69: 100 | B69: lait partiellement écrémé | C69: a | D69: 57 | E69: =D69/100*A69 -> 57 | H69: =IF(E69=0,A69,A69/E69*J69) -> 86.338243 | I69: =B69 -> lait partiellement écrémé | J69: =E69*$M$18% -> 49.212798
A70: 6 | B70: crème | C70: d | D70: 252 | E70: =D70/100*A70 -> 15.12 | H70: =IF(E70=0,A70,A70/E70*J70) -> 5.1802946 | I70: =B70 -> crème | J70: =E70*$M$18% -> 13.054342
A71: 2.5 | B71: sel | C71: e | D71: 0 | E71: =D71/100*A71 -> 0 | H71: =IF(E71=0,A71,A71/E71*J71) -> 2.5 | I71: =B71 -> sel | J71: =E71*$M$18% -> 0
A72: 1 | B72: poivre | C72: b | D72: 222 | E72: =D72/100*A72 -> 2.22 | H72: =IF(E72=0,A72,A72/E72*J72) -> 0.86338243 | I72: =B72 -> poivre | J72: =E72*$M$18% -> 1.916709
A73: En guise de dessert
A74: 150 | B74: pomme | C74: b | D74: 55 | E74: =D74/100*A74 -> 82.5 | H74: =IF(E74=0,A74,A74/E74*J74) -> 129.50736 | I74: =B74 -> pomme | J74: =E74*$M$18% -> 71.22905
E75: TOTAL | F75: =SUM(E57:E74) -> 808.708 | J75: TOTAL | K75: =SUM(J57:J74) -> 698.22428
A76: =IF(D5="non",0,IF(D5="1 verre",125,250)) -> 0 | B76: =IF(A76=0,"","vin") | D76: 80 | E76: =D76/100*A76 -> 0 | H76: =IF(E76=0,A76,A76/E76*J76) -> 0 | I76: =B76 | J76: =E76*$M$18% -> 0
D78: TOTAL du jour | F78: =SUM(F22:F75) -> 1969.453 | I78: TOTAL du jour | K78: =SUM(K22:K75) -> 1700.3911
D79: avec vin | F79: =F78+E76 -> 1969.453 | I79: avec vin | K79: =K78+J76 -> 1700.3911
A81: >>>> | B81: RETOUR AU SOMMAIRE

Sheet jour_8
A1: JOURNEE 8 | I1: Couleur Pan Metron | J1: a
A3: Apport calorique du jour (sans alcool) | D3: =ROUND(F80,0) -> 1993 | E3: kcal/jour
A4: (cf. menus Pan Metron ci-dessous)
A5: Consommation de vin | C5: ^ | D5: non | E5: =IF(D5="non","",IF(D5=1,d!B22,d!B23))
A6: Activités supplémentaires | D6: 0 | E6: kcal/jour | G6: >>>> | H6: calculateur des dépenses énergétiques
A7: Mon objectif | D7: =jour_1!D7 -> 1700 | E7: kcal/jour | H7: sous www.bonasavoir.ch/panmetron
D8: =IF(D5="non","",d!A24)
B10: Pour atteindre votre objectif, en tenant compte de votre activité physique supplémentaire,
B11: vous pouvez absorber | D11: =D7+D6 -> 1700 | E11: kcal
B12: soit | D12: =ABS(M13) -> 293 | E12: kcal | F12: =IF(M13>0,d!A44,d!A45) -> de moins que les menus Pan Metron du jour
F13: =IF(D5="non","",d!A46) | M13: =D3+E78-D11 -> 293
B15: =IF(M13<-50,d!A48,IF(M13<0,d!A49,IF(M13=0,d!A50,IF(M13>50,d!A52,d!A51)))) -> Il faut donc agir:_x000D_> Vous pouvez augmenter encore votre activité physique._x000D_> Ou/et diminuer la quantité de certains ingrédients des recettes du jour dans la première colonne, jusqu'à atteindre votre objectif. Visez de préférence les aliments rouge et orange, de façon à ne pas prétériter l'équilibre nutritionnel de la journée._x000D_> Si cela ne suffit toujours pas à atteindre votre objectif, le programme adapte proportionnellement les quantités pour y parvenir, sauf celles des boissons non caloriques (eau, café, etc.)
A17: Menus Pan Metron du jour | H17: Personnalisation | M17: pondération (M18)
A18: g/cl | B18: Ingrédients | D18: kcal | H18: =A18 -> g/cl | I18: =B18 -> Ingrédients | J18: kcal | M18: =100-(D12/((D11+D12)/100)) -> 85.298545
D19: pr 100 g | E19: réels | J19: réels
A21: PETIT DEJEUNER AVEC ŒUF
A22: 60 | B22: œuf à la coque | C22: a | D22: 134 | E22: =D22/100*A22 -> 80.4 | H22: =IF(E22=0,A22,A22/E22*J22) -> 51.179127 | I22: =B22 -> œuf à la coque | J22: =E22*$M$18% -> 68.58003
A23: 0.5 | B23: sel | C23: e | D23: 0 | E23: =D23/100*A23 -> 0 | H23: =IF(E23=0,A23,A23/E23*J23) -> 0.5 | I23: =B23 -> sel | J23: =E23*$M$18% -> 0
A24: 40 | B24: pain complet | C24: c | D24: 229 | E24: =D24/100*A24 -> 91.6 | H24: =IF(E24=0,A24,A24/E24*J24) -> 34.119418 | I24: =B24 -> pain complet | J24: =E24*$M$18% -> 78.133467
A25: 125 | B25: fromage blanc 20% | C25: a | D25: 71 | E25: =D25/100*A25 -> 88.75 | H25: =IF(E25=0,A25,A25/E25*J25) -> 106.62318 | I25: =B25 -> fromage blanc 20% | J25: =E25*$M$18% -> 75.702459
A26: 100 | B26: salade de fruits frais | C26: b | D26: 67 | E26: =D26/100*A26 -> 67 | H26: =IF(E26=0,A26,A26/E26*J26) -> 85.298545 | I26: =B26 -> salade de fruits frais | J26: =E26*$M$18% -> 57.150025
A27: 150 | B27: thé | D27: 0 | E27: =D27/100*A27 -> 0 | H27: =IF(E27=0,A27,A27/E27*J27) -> 150 | I27: =B27 -> thé | J27: =E27*$M$18% -> 0
A28: 12 | B28: sucre | C28: e | D28: 400 | E28: =D28/100*A28 -> 48 | H28: =IF(E28=0,A28,A28/E28*J28) -> 10.235825 | I28: =B28 -> sucre | J28: =E28*$M$18% -> 40.943302
E29: TOTAL | F29: =SUM(E22:E28) -> 375.75 | J29: TOTAL | K29: =SUM(J22:J28) -> 320.50928
A30: MIDI
A31: Emincé de veau aux petits légumes
A32: =(125*6)/4 -> 187.5 | B32: 6 carottes | C32: a | D32: 30 | E32: =D32/100*A32 -> 56.25 | H32: =IF(E32=0,A32,A32/E32*J32) -> 159.93477 | I32: =B32 -> 6 carottes | J32: =E32*$M$18% -> 47.980432
A33: =165/4 -> 41.25 | B33: 1 poireau | C33: a | D33: 30 | E33: =D33/100*A33 -> 12.375 | H33: =IF(E33=0,A33,A33/E33*J33) -> 35.18565 | I33: =B33 -> 1 poireau | J33: =E33*$M$18% -> 10.555695
A34: 25 | B34: 1 oignon | C34: a | D34: 29 | E34: =D34/100*A34 -> 7.25 | H34: =IF(E34=0,A34,A34/E34*J34) -> 21.324636 | I34: =B34 -> 1 oignon | J34: =E34*$M$18% -> 6.1841445
A35: 150 | B35: 600 g. d'émincé de veau | C35: a | D35: 98 | E35: =D35/100*A35 -> 147 | H35: =IF(E35=0,A35,A35/E35*J35) -> 127.94782 | I35: =B35 -> 600 g. d'émincé de veau | J35: =E35*$M$18% -> 125.38886
A36: 4.5 | B36: 1 c.s. d'huile de tournesol | C36: d | D36: 899 | E36: =D36/100*A36 -> 40.455 | H36: =IF(E36=0,A36,A36/E36*J36) -> 3.8384345 | I36: =B36 -> 1 c.s. d'huile de tournesol | J36: =E36*$M$18% -> 34.507526
A37: 2.5 | B37: 1 cube de bouillon boeuf | C37: e | D37: 240 | E37: =D37/100*A37 -> 6 | H37: =IF(E37=0,A37,A37/E37*J37) -> 2.1324636 | I37: =B37 -> 1 cube de bouillon boeuf | J37: =E37*$M$18% -> 5.1179127
A38: 12.5 | B38: 0.5 dl de vin blanc | E38: =D38/100*A38 -> 0 | H38: =IF(E38=0,A38,A38/E38*J38) -> 12.5 | I38: =B38 -> 0.5 dl de vin blanc | J38: =E38*$M$18% -> 0
A39: 12 | B39: 4 c.s. de crème | C39: e | D39: 252 | E39: =D39/100*A39 -> 30.24 | H39: =IF(E39=0,A39,A39/E39*J39) -> 10.235825 | I39: =B39 -> 4 c.s. de crème | J39: =E39*$M$18% -> 25.79428
A40: 62.5 | B40: riz (sec) | C40: c | D40: 349 | E40: =D40/100*A40 -> 218.125 | H40: =IF(E40=0,A40,A40/E40*J40) -> 53.311591 | I40: =B40 -> riz (sec) | J40: =E40*$M$18% -> 186.05745
A41: En guise de dessert
A42: 80 | B42: sorbet aux fruits | C42: d | D42: 135 | E42: =D42/100*A42 -> 108 | H42: =IF(E42=0,A42,A42/E42*J42) -> 68.238836 | I42: =B42 -> sorbet aux fruits | J42: =E42*$M$18% -> 92.122428
E43: TOTAL | F43: =SUM(E32:E42) -> 625.695 | J43: TOTAL | K43: =SUM(J32:J42) -> 533.70873
A45: QUATRE HEURES
A46: 150 | B46: orange | C46: a | D46: 40 | E46: =D46/100*A46 -> 60 | H46: =IF(E46=0,A46,A46/E46*J46) -> 127.94782 | I46: =B46 -> orange | J46: =E46*$M$18% -> 51.179127
E47: TOTAL | F47: =SUM(E46:E46) -> 60 | J47: TOTAL | K47: =SUM(J46:J46) -> 51.179127
A48: SOIR
A49: Boulettes végétariennes et salade mixte
A50: 10 | B50: échalottes | C50: a | D50: 35 | E50: =D50/100*A50 -> 3.5 | H50: =IF(E50=0,A50,A50/E50*J50) -> 8.5298545 | I50: =B50 -> échalottes | J50: =E50*$M$18% -> 2.9854491
A51: 60 | B51: poivron vert | C51: a | D51: 20 | E51: =D51/100*A51 -> 12 | H51: =IF(E51=0,A51,A51/E51*J51) -> 51.179127 | I51: =B51 -> poivron vert | J51: =E51*$M$18% -> 10.235825
A52: 100 | B52: courgette | C52: a | D52: 19 | E52: =D52/100*A52 -> 19 | H52: =IF(E52=0,A52,A52/E52*J52) -> 85.298545 | I52: =B52 -> courgette | J52: =E52*$M$18% -> 16.206724
A53: 75 | B53: flocons d'avoine | C53: c | D53: 367 | E53: =D53/100*A53 -> 275.25 | H53: =IF(E53=0,A53,A53/E53*J53) -> 63.973909 | I53: =B53 -> flocons d'avoine | J53: =E53*$M$18% -> 234.78424
A54: 30 | B54: oeuf | C54: a | D54: 146 | E54: =D54/100*A54 -> 43.8 | H54: =IF(E54=0,A54,A54/E54*J54) -> 25.589563 | I54: =B54 -> oeuf | J54: =E54*$M$18% -> 37.360763
A55: 2 | B55: paprika | C55: c | D55: 319 | E55: =D55/100*A55 -> 6.38 | H55: =IF(E55=0,A55,A55/E55*J55) -> 1.7059709 | I55: =B55 -> paprika | J55: =E55*$M$18% -> 5.4420472
A56: 1 | B56: ail en poudre | C56: b | D56: 344 | E56: =D56/100*A56 -> 3.44 | H56: =IF(E56=0,A56,A56/E56*J56) -> 0.85298545 | I56: =B56 -> ail en poudre | J56: =E56*$M$18% -> 2.9342699
A57: 1 | B57: curcuma | C57: b | D57: 291 | E57: =D57/100*A57 -> 2.91 | H57: =IF(E57=0,A57,A57/E57*J57) -> 0.85298545 | I57: =B57 -> curcuma | J57: =E57*$M$18% -> 2.4821877
A58: 1 | B58: piment doux | C58: c | D58: 376 | E58: =D58/100*A58 -> 3.76 | H58: =IF(E58=0,A58,A58/E58*J58) -> 0.85298545 | I58: =B58 -> piment doux | J58: =E58*$M$18% -> 3.2072253
A59: 12 | B59: chapelure de pain | C59: e | D59: 370 | E59: =D59/100*A59 -> 44.4 | H59: =IF(E59=0,A59,A59/E59*J59) -> 10.235825 | I59: =B59 -> chapelure de pain | J59: =E59*$M$18% -> 37.872554
A60: 6 | B60: huile d'olive | C60: e | D60: 899 | E60: =D60/100*A60 -> 53.94 | H60: =IF(E60=0,A60,A60/E60*J60) -> 5.1179127 | I60: =B60 -> huile d'olive | J60: =E60*$M$18% -> 46.010035
A61: 25 | B61: roquette ( | C61: a | D61: 28 | E61: =D61/100*A61 -> 7 | H61: =IF(E61=0,A61,A61/E61*J61) -> 21.324636 | I61: =B61 -> roquette ( | J61: =E61*$M$18% -> 5.9708981
A62: 25 | B62: mesclun ( | C62: a | D62: 18 | E62: =D62/100*A62 -> 4.5 | H62: =IF(E62=0,A62,A62/E62*J62) -> 21.324636 | I62: =B62 -> mesclun ( | J62: =E62*$M$18% -> 3.8384345
A63: 50 | B63: tomates cerises | C63: a | D63: 21 | E63: =D63/100*A63 -> 10.5 | H63: =IF(E63=0,A65,A65/E63*J63) -> 3.8384345 | I63: =B65 -> sauce à salade italienne | J63: =E63*$M$18% -> 8.9563472
A64: 25 | B64: feta | C64: d | D64: 262 | E64: =D64/100*A64 -> 65.5 | H64: =IF(E64=0,A64,A64/E64*J64) -> 21.324636 | I64: =B64 -> feta | J64: =E64*$M$18% -> 55.870547
A65: =18/4 -> 4.5 | B65: sauce à salade italienne | C65: e | D65: 472 | E65: =D65/100*A65 -> 21.24 | H65: =IF(E65=0,A65,A65/E65*J65) -> 3.8384345 | I65: =B65 -> sauce à salade italienne | J65: =E65*$M$18% -> 18.117411
A66: 0.5 | B66: sel | C66: e | D66: 0 | E66: =D66/100*A66 -> 0 | H66: =IF(E66=0,A66,A66/E66*J66) -> 0.5 | I66: =B66 -> sel | J66: =E66*$M$18% -> 0
A67: 0.5 | B67: poivre | C67: b | D67: 222 | E67: =D67/100*A67 -> 1.11 | H67: =IF(E67=0,A67,A67/E67*J67) -> 0.42649272 | I67: =B67 -> poivre | J67: =E67*$M$18% -> 0.94681385
E68: TOTAL | F68: =SUM(E50:E67) -> 578.23 | J68: TOTAL | K68: =SUM(J50:J67) -> 493.22178
A69: Verrine aux pommes et noisettes
A70: 75 | B70: pommes | C70: b | D70: 55 | E70: =D70/100*A70 -> 41.25 | H70: =IF(E70=0,A70,A70/E70*J70) -> 63.973909 | I70: =B70 -> pommes | J70: =E70*$M$18% -> 35.18565
A71: 6 | B71: miel | C71: c | D71: 306 | E71: =D71/100*A71 -> 18.36 | H71: =IF(E71=0,A71,A71/E71*J71) -> 5.1179127 | I71: =B71 -> miel | J71: =E71*$M$18% -> 15.660813
A72: 2 | B72: sucre roux | C72: e | D72: 390 | E72: =D72/100*A72 -> 7.8 | H72: =IF(E72=0,A72,A72/E72*J72) -> 1.7059709 | I72: =B72 -> sucre roux | J72: =E72*$M$18% -> 6.6532865
A73: 6 | B73: beurre | C73: e | D73: 747 | E73: =D73/100*A73 -> 44.82 | H73: =IF(E73=0,A73,A73/E73*J73) -> 5.1179127 | I73: =B73 -> beurre | J73: =E73*$M$18% -> 38.230808
A74: 0.1 | B74: cannelle | C74: b | D74: 243 | E74: =D74/100*A74 -> 0.243 | H74: =IF(E74=0,A74,A74/E74*J74) -> 0.085298545 | I74: =B74 -> cannelle | J74: =E74*$M$18% -> 0.20727546
A75: =250/4 -> 62.5 | B75: yogourt grec | C75: c | D75: 127 | E75: =D75/100*A75 -> 79.375 | H75: =IF(E75=0,A75,A75/E75*J75) -> 53.311591 | I75: =B75 -> yogourt grec | J75: =E75*$M$18% -> 67.70572
A76: 25 | B76: noisettes grillées | C76: c | D76: 646 | E76: =D76/100*A76 -> 161.5 | H76: =IF(E76=0,A76,A76/E76*J76) -> 21.324636 | I76: =B76 -> noisettes grillées | J76: =E76*$M$18% -> 137.75715
E77: TOTAL | F77: =SUM(E70:E76) -> 353.348 | J77: TOTAL | K77: =SUM(J70:J76) -> 301.4007
A78: =IF(D5="non",0,IF(D5="1 verre",125,250)) -> 0 | B78: =IF(A78=0,"","vin") | D78: 80 | E78: =D78/100*A78 -> 0 | H78: =IF(E78=0,A78,A78/E78*J78) -> 0 | I78: =B78 | J78: =E78*$M$18% -> 0
D80: TOTAL du jour | F80: =SUM(F22:F77) -> 1993.023 | I80: TOTAL du jour | K80: =SUM(K22:K77) -> 1700.0196
D81: avec vin | F81: =F80+E78 -> 1993.023 | I81: avec vin | K81: =K80+J78 -> 1700.0196
A83: >>>> | B83: RETOUR AU SOMMAIRE

Sheet jour_9
A1: JOURNEE 9 | I1: Couleur Pan Metron | J1: a
A3: Apport calorique du jour (sans alcool) | D3: =ROUND(F78,0) -> 1998 | E3: kcal/jour
A4: (cf. menus Pan Metron ci-dessous)
A5: Consommation de vin | C5: ^ | D5: non | E5: =IF(D5="non","",IF(D5=1,d!B22,d!B23))
A6: Activités supplémentaires | D6: 0 | E6: kcal/jour | G6: >>>> | H6: calculateur des dépenses énergétiques
A7: Mon objectif | D7: =jour_1!D7 -> 1700 | E7: kcal/jour | H7: sous www.bonasavoir.ch/panmetron
D8: =IF(D5="non","",d!A24)
B10: Pour atteindre votre objectif, en tenant compte de votre activité physique supplémentaire,
B11: vous pouvez absorber | D11: =D7+D6 -> 1700 | E11: kcal
B12: soit | D12: =ABS(M13) -> 298 | E12: kcal | F12: =IF(M13>0,d!A44,d!A45) -> de moins que les menus Pan Metron du jour
F13: =IF(D5="non","",d!A46) | M13: =D3+E76-D11 -> 298
B15: =IF(M13<-50,d!A48,IF(M13<0,d!A49,IF(M13=0,d!A50,IF(M13>50,d!A52,d!A51)))) -> Il faut donc agir:_x000D_> Vous pouvez augmenter encore votre activité physique._x000D_> Ou/et diminuer la quantité de certains ingrédients des recettes du jour dans la première colonne, jusqu'à atteindre votre objectif. Visez de préférence les aliments rouge et orange, de façon à ne pas prétériter l'équilibre nutritionnel de la journée._x000D_> Si cela ne suffit toujours pas à atteindre votre objectif, le programme adapte proportionnellement les quantités pour y parvenir, sauf celles des boissons non caloriques (eau, café, etc.)
A17: Menus Pan Metron du jour | H17: Personnalisation | M17: pondération (M18)
A18: g/cl | B18: Ingrédients | D18: kcal | H18: =A18 -> g/cl | I18: =B18 -> Ingrédients | J18: kcal | M18: =100-(D12/((D11+D12)/100)) -> 85.085085
D19: pr 100 g | E19: réels | J19: réels
A21: PETIT DEJEUNER CEREALES
A22: 50 | B22: céréales au miel | C22: c | D22: 382 | E22: =D22/100*A22 -> 191 | H22: =IF(E22=0,A22,A22/E22*J22) -> 42.542543 | I22: =B22 -> céréales au miel | J22: =E22*$M$18% -> 162.51251
A23: 150 | B23: café | D23: 0 | E23: =D23/100*A23 -> 0 | H23: =IF(E23=0,A23,A23/E23*J23) -> 150 | I23: =B23 -> café | J23: =E23*$M$18% -> 0
A24: 4 | B24: sucre | C24: e | D24: 400 | E24: =D24/100*A24 -> 16 | H24: =IF(E24=0,A24,A24/E24*J24) -> 3.4034034 | I24: =B24 -> sucre | J24: =E24*$M$18% -> 13.613614
A25: 12 | B25: crème à café | C25: c | D25: 161 | E25: =D25/100*A25 -> 19.32 | H25: =IF(E25=0,A25,A25/E25*J25) -> 10.21021 | I25: =B25 -> crème à café | J25: =E25*$M$18% -> 16.438438
A26: 125 | B26: yogourt aux fruits | C26: b | D26: 87 | E26: =D26/100*A26 -> 108.75 | H26: =IF(E26=0,A26,A26/E26*J26) -> 106.35636 | I26: =B26 -> yogourt aux fruits | J26: =E26*$M$18% -> 92.53003
A27: 150 | B27: jus d'orange maison | C27: b | D27: 45 | E27: =D27/100*A27 -> 67.5 | H27: =IF(E27=0,A27,A27/E27*J27) -> 127.62763 | I27: =B27 -> jus d'orange maison | J27: =E27*$M$18% -> 57.432432
E28: TOTAL | F28: =SUM(E22:E27) -> 402.57 | J28: TOTAL | K28: =SUM(J22:J27) -> 342.52703
A29: MIDI
A30: Brochettes de lotte marinée, riz blanc et piperade
A31: 150 | B31: lotte | C31: a | D31: 78 | E31: =D31/100*A31 -> 117 | H31: =IF(E31=0,A31,A31/E31*J31) -> 127.62763 | I31: =B31 -> lotte | J31: =E31*$M$18% -> 99.54955
A32: 50 | B32: lard fumé | C32: e | D32: 322 | E32: =D32/100*A32 -> 161 | H32: =IF(E32=0,A32,A32/E32*J32) -> 42.542543 | I32: =B32 -> lard fumé | J32: =E32*$M$18% -> 136.98699
A33: 14 | B33: huile d'olive | C33: e | D33: 899 | E33: =D33/100*A33 -> 125.86 | H33: =IF(E33=0,A33,A33/E33*J33) -> 11.911912 | I33: =B33 -> huile d'olive | J33: =E33*$M$18% -> 107.08809
A34: 14 | B34: vin blanc | E34: =D34/100*A34 -> 0 | H34: =IF(E34=0,A34,A34/E34*J34) -> 14 | I34: =B34 -> vin blanc | J34: =E34*$M$18% -> 0
B35: Armagnac | E35: =D35/100*A35 -> 0 | H35: =IF(E35=0,A35,A35/E35*J35) -> 0 | I35: =B35 -> Armagnac | J35: =E35*$M$18% -> 0
A36: 8 | B36: échalotes | C36: a | D36: 35 | E36: =D36/100*A36 -> 2.8 | H36: =IF(E36=0,A36,A36/E36*J36) -> 6.8068068 | I36: =B36 -> échalotes | J36: =E36*$M$18% -> 2.3823824
B37: 1 bouquet garni | E37: =D37/100*A37 -> 0 | H37: =IF(E37=0,A37,A37/E37*J37) -> 0 | I37: =B37 -> 1 bouquet garni | J37: =E37*$M$18% -> 0
A38: =250/4 -> 62.5 | B38: champignons de Paris | C38: a | D38: 25 | E38: =D38/100*A38 -> 15.625 | H38: =IF(E38=0,A38,A38/E38*J38) -> 53.178178 | I38: =B38 -> champignons de Paris | J38: =E38*$M$18% -> 13.294545
A39: 40 | B39: céleri-branche | C39: a | D39: 17 | E39: =D39/100*A39 -> 6.8 | H39: =IF(E39=0,A39,A39/E39*J39) -> 34.034034 | I39: =B39 -> céleri-branche | J39: =E39*$M$18% -> 5.7857858
A40: 75 | B40: oignons | C40: a | D40: 29 | E40: =D40/100*A40 -> 21.75 | H40: =IF(E40=0,A40,A40/E40*J40) -> 63.813814 | I40: =B40 -> oignons | J40: =E40*$M$18% -> 18.506006
A41: 3 | B41: ail | C41: a | D41: 131 | E41: =D41/100*A41 -> 3.93 | H41: =IF(E41=0,A41,A41/E41*J41) -> 2.5525526 | I41: =B41 -> ail | J41: =E41*$M$18% -> 3.3438438
A42: 35 | B42: poivron rouge | C42: a | D42: 16 | E42: =D42/100*A42 -> 5.6 | H42: =IF(E42=0,A42,A42/E42*J42) -> 29.77978 | I42: =B42 -> poivron rouge | J42: =E42*$M$18% -> 4.7647648
A43: 35 | B43: poivron vert | C43: a | D43: 16 | E43: =D43/100*A43 -> 5.6 | H43: =IF(E43=0,A43,A43/E43*J43) -> 29.77978 | I43: =B43 -> poivron vert | J43: =E43*$M$18% -> 4.7647648
A44: 35 | B44: poivron jaune | C44: a | D44: 16 | E44: =D44/100*A44 -> 5.6 | H44: =IF(E44=0,A44,A44/E44*J44) -> 29.77978 | I44: =B44 -> poivron jaune | J44: =E44*$M$18% -> 4.7647648
A45: 125 | B45: tomates | C45: a | D45: 19 | E45: =D45/100*A45 -> 23.75 | H45: =IF(E45=0,A45,A45/E45*J45) -> 106.35636 | I45: =B45 -> tomates | J45: =E45*$M$18% -> 20.207708
A46: 0.25 | B46: sucre | C46: e | D46: 400 | E46: =D46/100*A46 -> 1 | H46: =IF(E46=0,A46,A46/E46*J46) -> 0.21271271 | I46: =B46 -> sucre | J46: =E46*$M$18% -> 0.85085085
A47: 0.25 | B47: piment d'espelette | C47: c | D47: 376 | E47: =D47/100*A47 -> 0.94 | H47: =IF(E47=0,A47,A47/E47*J47) -> 0.21271271 | I47: =B47 -> piment d'espelette | J47: =E47*$M$18% -> 0.7997998
A48: 50 | B48: riz blanc | C48: c | D48: 349 | E48: =D48/100*A48 -> 174.5 | H48: =IF(E48=0,A48,A48/E48*J48) -> 42.542543 | I48: =B48 -> riz blanc | J48: =E48*$M$18% -> 148.47347
A49: 1.5 | B49: sel | C49: e | D49: 0 | E49: =D49/100*A49 -> 0 | H49: =IF(E49=0,A49,A49/E49*J49) -> 1.5 | I49: =B49 -> sel | J49: =E49*$M$18% -> 0
A50: 0.5 | B50: poivre | C50: b | D50: 222 | E50: =D50/100*A50 -> 1.11 | H50: =IF(E50=0,A50,A50/E50*J50) -> 0.42542543 | I50: =B50 -> poivre | J50: =E50*$M$18% -> 0.94444444
E51: TOTAL | F51: =SUM(E31:E50) -> 672.865 | J51: TOTAL | K51: =SUM(J31:J50) -> 572.50776
A53: QUATRE HEURES
A54: 125 | B54: yogourt nature | C54: a | D54: 69 | E54: =D54/100*A54 -> 86.25 | H54: =IF(E54=0,A54,A54/E54*J54) -> 106.35636 | I54: =B54 -> yogourt nature | J54: =E54*$M$18% -> 73.385886
A55: 4 | B55: sucre | C55: e | D55: 400 | E55: =D55/100*A55 -> 16 | H55: =IF(E55=0,A55,A55/E55*J55) -> 3.4034034 | I55: =B55 -> sucre | J55: =E55*$M$18% -> 13.613614
E56: TOTAL | F56: =SUM(E54:E55) -> 102.25 | J56: TOTAL | K56: =SUM(J54:J55) -> 86.999499
A57: SOIR
A58: Choix de fromages, pommes de terre vapeur, salade verte
A59: 40 | B59: Gruyères | C59: d | D59: 422 | E59: =D59/100*A59 -> 168.8 | H59: =IF(E59=0,A59,A59/E59*J59) -> 34.034034 | I59: =B59 -> Gruyères | J59: =E59*$M$18% -> 143.62362
A60: 40 | B60: tomme (vache) | C60: d | D60: 286 | E60: =D60/100*A60 -> 114.4 | H60: =IF(E60=0,A60,A60/E60*J60) -> 34.034034 | I60: =B60 -> tomme (vache) | J60: =E60*$M$18% -> 97.337337
A61: 40 | B61: Saint-Nectaire | C61: d | D61: 341 | E61: =D61/100*A61 -> 136.4 | H61: =IF(E61=0,A61,A61/E61*J61) -> 34.034034 | I61: =B61 -> Saint-Nectaire | J61: =E61*$M$18% -> 116.05606
A62: =700/4 -> 175 | B62: pommes de terre nouvelles | C62: a | D62: 76 | E62: =D62/100*A62 -> 133 | H62: =IF(E62=0,A62,A62/E62*J62) -> 148.8989 | I62: =B62 -> pommes de terre nouvelles | J62: =E62*$M$18% -> 113.16316
A63: 50 | B63: salade | C63: a | D63: 18 | E63: =D63/100*A63 -> 9 | H63: =IF(E63=0,A63,A63/E63*J63) -> 42.542543 | I63: =B63 -> salade | J63: =E63*$M$18% -> 7.6576577
A64: 12 | B64: sauce française | C64: e | D64: 446 | E64: =D64/100*A64 -> 53.52 | H64: =IF(E64=0,A64,A64/E64*J64) -> 10.21021 | I64: =B64 -> sauce française | J64: =E64*$M$18% -> 45.537538
A65: 0.5 | B65: sel | C65: e | D65: 0 | E65: =D65/100*A65 -> 0 | H65: =IF(E65=0,A65,A65/E65*J65) -> 0.5 | I65: =B65 -> sel | J65: =E65*$M$18% -> 0
E66: TOTAL | F66: =SUM(E59:E65) -> 615.12 | J66: TOTAL | K66: =SUM(J59:J65) -> 523.37538
A67: Salade de fruits
A68: 75 | B68: pomme | C68: b | D68: 55 | E68: =D68/100*A68 -> 41.25 | H68: =IF(E68=0,A68,A68/E68*J68) -> 63.813814 | I68: =B68 -> pomme | J68: =E68*$M$18% -> 35.097598
A69: 125 | B69: ananas | C69: a | D69: 49 | E69: =D69/100*A69 -> 61.25 | H69: =IF(E69=0,A69,A69/E69*J69) -> 106.35636 | I69: =B69 -> ananas | J69: =E69*$M$18% -> 52.114615
A70: 65 | B70: banane | C70: a | D70: 91 | E70: =D70/100*A70 -> 59.15 | H70: =IF(E70=0,A70,A70/E70*J70) -> 55.305305 | I70: =B70 -> banane | J70: =E70*$M$18% -> 50.327828
A71: 37.5 | B71: kiwi | C71: a | D71: 49 | E71: =D71/100*A71 -> 18.375 | H71: =IF(E71=0,A71,A71/E71*J71) -> 31.906907 | I71: =B71 -> kiwi | J71: =E71*$M$18% -> 15.634384
A72: 22 | B72: litchi | C72: b | D72: 64 | E72: =D72/100*A72 -> 14.08 | H72: =IF(E72=0,A72,A72/E72*J72) -> 18.718719 | I72: =B72 -> litchi | J72: =E72*$M$18% -> 11.97998
A73: 12 | B73: jus citron | C73: a | D73: 17 | E73: =D73/100*A73 -> 2.04 | H73: =IF(E73=0,A73,A73/E73*J73) -> 10.21021 | I73: =B73 -> jus citron | J73: =E73*$M$18% -> 1.7357357
A74: 3 | B74: raisins secs sultanine | C74: e | D74: 298 | E74: =D74/100*A74 -> 8.94 | H74: =IF(E74=0,A74,A74/E74*J74) -> 2.5525526 | I74: =B74 -> raisins secs sultanine | J74: =E74*$M$18% -> 7.6066066
E75: TOTAL | F75: =SUM(E68:E74) -> 205.085 | J75: TOTAL | K75: =SUM(J68:J74) -> 174.49675
A76: =IF(D5="non",0,IF(D5="1 verre",125,250)) -> 0 | B76: =IF(A76=0,"","vin") | D76: 80 | E76: =D76/100*A76 -> 0 | H76: =IF(E76=0,A76,A76/E76*J76) -> 0 | I76: =B76 | J76: =E76*$M$18% -> 0
D78: TOTAL du jour | F78: =SUM(F22:F75) -> 1997.89 | I78: TOTAL du jour | K78: =SUM(K22:K75) -> 1699.9064
D79: avec vin | F79: =F78+E76 -> 1997.89 | I79: avec vin | K79: =K78+J76 -> 1699.9064
A81: >>>> | B81: RETOUR AU SOMMAIRE

Sheet jour_10
A1: JOURNEE 10 | I1: Couleur Pan Metron | J1: a
A3: Apport calorique du jour (sans alcool) | D3: =ROUND(F77,0) -> 2004 | E3: kcal/jour
A4: (cf. menus Pan Metron ci-dessous)
A5: Consommation de vin | C5: ^ | D5: non | E5: (2,5 dl)
A6: Activités supplémentaires | D6: 0 | E6: kcal/jour | G6: >>>> | H6: calculateur des dépenses énergétiques
A7: Mon objectif | D7: =jour_1!D7 -> 1700 | E7: kcal/jour | H7: sous www.bonasavoir.ch/panmetron
D8: =IF(D5="non","",d!A24)
B10: Pour atteindre votre objectif, en tenant compte de votre activité physique supplémentaire,
B11: vous pouvez absorber | D11: =D7+D6 -> 1700 | E11: kcal
B12: soit | D12: =ABS(M13) -> 304 | E12: kcal | F12: de moins que les menus Pan Metron du jour
F13: votre consommation de vin incluse | M13: =D3+E75-D11 -> 304
B15: =IF(M13<-50,d!A48,IF(M13<0,d!A49,IF(M13=0,d!A50,IF(M13>50,d!A52,d!A51)))) -> Il faut donc agir:_x000D_> Vous pouvez augmenter encore votre activité physique._x000D_> Ou/et diminuer la quantité de certains ingrédients des recettes du jour dans la première colonne, jusqu'à atteindre votre objectif. Visez de préférence les aliments rouge et orange, de façon à ne pas prétériter l'équilibre nutritionnel de la journée._x000D_> Si cela ne suffit toujours pas à atteindre votre objectif, le programme adapte proportionnellement les quantités pour y parvenir, sauf celles des boissons non caloriques (eau, café, etc.)
A17: Menus Pan Metron du jour | H17: Personnalisation | M17: pondération (M18)
A18: g/cl | B18: Ingrédients | D18: kcal | H18: =A18 -> g/cl | I18: =B18 -> Ingrédients | J18: kcal | M18: =100-(D12/((D11+D12)/100)) -> 84.830339
D19: pr 100 g | E19: réels | J19: réels
A21: PETIT DEJEUNER CLASSIQUE
A22: 30 | B22: pain complet | C22: c | D22: 229 | E22: =D22/100*A22 -> 68.7 | H22: =IF(E22=0,A22,A22/E22*J22) -> 25.449102 | I22: =B22 -> pain complet | J22: =E22*$M$18% -> 58.278443
A23: 5 | B23: beurre | C23: e | D23: 747.3 | E23: =D23/100*A23 -> 37.365 | H23: =IF(E23=0,A23,A23/E23*J23) -> 4.241517 | I23: =B23 -> beurre | J23: =E23*$M$18% -> 31.696856
A24: 10 | B24: confiture | C24: e | D24: 246 | E24: =D24/100*A24 -> 24.6 | H24: =IF(E24=0,A24,A24/E24*J24) -> 8.4830339 | I24: =B24 -> confiture | J24: =E24*$M$18% -> 20.868263
A25: 150 | B25: café | D25: 0 | E25: =D25/100*A25 -> 0 | H25: =IF(E25=0,A25,A25/E25*J25) -> 150 | I25: =B25 -> café | J25: =E25*$M$18% -> 0
A26: 4 | B26: sucre | C26: e | D26: 400 | E26: =D26/100*A26 -> 16 | H26: =IF(E26=0,A26,A26/E26*J26) -> 3.3932136 | I26: =B26 -> sucre | J26: =E26*$M$18% -> 13.572854
A27: 12 | B27: crème à café | C27: c | D27: 161 | E27: =D27/100*A27 -> 19.32 | H27: =IF(E27=0,A27,A27/E27*J27) -> 10.179641 | I27: =B27 -> crème à café | J27: =E27*$M$18% -> 16.389222
A28: 125 | B28: yogourt aux fruits | C28: b | D28: 87 | E28: =D28/100*A28 -> 108.75 | H28: =IF(E28=0,A28,A28/E28*J28) -> 106.03792 | I28: =B28 -> yogourt aux fruits | J28: =E28*$M$18% -> 92.252994
A29: 150 | B29: jus d'orange maison | C29: b | D29: 45 | E29: =D29/100*A29 -> 67.5 | H29: =IF(E29=0,A29,A29/E29*J29) -> 127.24551 | I29: =B29 -> jus d'orange maison | J29: =E29*$M$18% -> 57.260479
E30: TOTAL | F30: =SUM(E22:E29) -> 342.235 | J30: TOTAL | K30: =SUM(J22:J29) -> 290.31911
A31: MIDI
A32: Spaghetti à la crème d'aubergines, salade de carottes orange
A33: 100 | B33: aubergines | C33: a | D33: 17 | E33: =D33/100*A33 -> 17 | H33: =IF(E33=0,A33,A33/E33*J33) -> 84.830339 | I33: =B33 -> aubergines | J33: =E33*$M$18% -> 14.421158
A34: 2 | B34: huile d'olive | C34: e | D34: 899 | E34: =D34/100*A34 -> 17.98 | H34: =IF(E34=0,A34,A34/E34*J34) -> 1.6966068 | I34: =B34 -> huile d'olive | J34: =E34*$M$18% -> 15.252495
A35: 70 | B35: tomates concasséesen boîte | C35: a | D35: 34 | E35: =D35/100*A35 -> 23.8 | H35: =IF(E35=0,A35,A35/E35*J35) -> 59.381238 | I35: =B35 -> tomates concasséesen boîte | J35: =E35*$M$18% -> 20.189621
A36: 3 | B36: ail | C36: a | D36: 131 | E36: =D36/100*A36 -> 3.93 | H36: =IF(E36=0,A36,A36/E36*J36) -> 2.5449102 | I36: =B36 -> ail | J36: =E36*$M$18% -> 3.3338323
A37: 125 | B37: crème | C37: e | D37: 252 | E37: =D37/100*A37 -> 315 | H37: =IF(E37=0,A37,A37/E37*J37) -> 106.03792 | I37: =B37 -> crème | J37: =E37*$M$18% -> 267.21557
A38: 100 | B38: spaghetti | C38: b | D38: 116 | E38: =D38/100*A38 -> 116 | H38: =IF(E38=0,A38,A38/E38*J38) -> 84.830339 | I38: =B38 -> spaghetti | J38: =E38*$M$18% -> 98.403194
A39: 150 | B39: carottes | C39: a | D39: 30 | E39: =D39/100*A39 -> 45 | H39: =IF(E39=0,A39,A39/E39*J39) -> 127.24551 | I39: =B39 -> carottes | J39: =E39*$M$18% -> 38.173653
A40: 180 | B40: chou rouge | C40: a | D40: 23 | E40: =D40/100*A40 -> 41.4 | H40: =IF(E40=0,A40,A40/E40*J40) -> 152.69461 | I40: =B40 -> chou rouge | J40: =E40*$M$18% -> 35.11976
B41: estragon | E41: =D41/100*A41 -> 0 | H41: =IF(E41=0,A41,A41/E41*J41) -> 0 | I41: =B41 -> estragon | J41: =E41*$M$18% -> 0
A42: =140/4 -> 35 | B42: orange sanguine | C42: a | D42: 40 | E42: =D42/100*A42 -> 14 | H42: =IF(E42=0,A42,A42/E42*J42) -> 29.690619 | I42: =B42 -> orange sanguine | J42: =E42*$M$18% -> 11.876248
A43: 12 | B43: sauce à salade italienne | C43: e | D43: 472 | E43: =D43/100*A43 -> 56.64 | H43: =IF(E43=0,A43,A43/E43*J43) -> 10.179641 | I43: =B43 -> sauce à salade italienne | J43: =E43*$M$18% -> 48.047904
A44: 0.75 | B44: sel | C44: e | D44: 0 | E44: =D44/100*A44 -> 0 | H44: =IF(E44=0,A44,A44/E44*J44) -> 0.75 | I44: =B44 -> sel | J44: =E44*$M$18% -> 0
A45: 0.25 | B45: poivre | C45: b | D45: 222 | E45: =D45/100*A45 -> 0.555 | H45: =IF(E45=0,A45,A45/E45*J45) -> 0.21207585 | I45: =B45 -> poivre | J45: =E45*$M$18% -> 0.47080838
E46: TOTAL | F46: =SUM(E33:E45) -> 651.305 | J46: TOTAL | K46: =SUM(J33:J45) -> 552.50424
A48: QUATRE HEURES
A49: 50 | B49: cookie aux pépites chocolat | C49: e | D49: 502 | E49: =D49/100*A49 -> 251 | H49: =IF(E49=0,A49,A49/E49*J49) -> 42.41517 | I49: =B49 -> cookie aux pépites chocolat | J49: =E49*$M$18% -> 212.92415
E50: TOTAL | F50: =SUM(E49:E49) -> 251 | J50: TOTAL | K50: =SUM(J49:J49) -> 212.92415
A51: SOIR
A52: Cuisses de poulet chasseur, endives au soja
A53: 150 | B53: cuisses de poulet (chair) | C53: c | D53: 184 | E53: =D53/100*A53 -> 276 | H53: =IF(E53=0,A53,A53/E53*J53) -> 127.24551 | I53: =B53 -> cuisses de poulet (chair) | J53: =E53*$M$18% -> 234.13174
A54: 15 | B54: échalotes | C54: a | D54: 35 | E54: =D54/100*A54 -> 5.25 | H54: =IF(E54=0,A54,A54/E54*J54) -> 12.724551 | I54: =B54 -> échalotes | J54: =E54*$M$18% -> 4.4535928
A55: 6 | B55: farine | C55: c | D55: 338 | E55: =D55/100*A55 -> 20.28 | H55: =IF(E55=0,A55,A55/E55*J55) -> 5.0898204 | I55: =B55 -> farine | J55: =E55*$M$18% -> 17.203593
A56: 75 | B56: champignons de Paris | C56: a | D56: 25 | E56: =D56/100*A56 -> 18.75 | H56: =IF(E56=0,A56,A56/E56*J56) -> 63.622754 | I56: =B56 -> champignons de Paris | J56: =E56*$M$18% -> 15.905689
A57: 75 | B57: tomates | C57: a | D57: 19 | E57: =D57/100*A57 -> 14.25 | H57: =IF(E57=0,A57,A57/E57*J57) -> 63.622754 | I57: =B57 -> tomates | J57: =E57*$M$18% -> 12.088323
B58: bouquet garni | E58: =D58/100*A58 -> 0 | H58: =IF(E58=0,A58,A58/E58*J58) -> 0 | I58: =B58 -> bouquet garni | J58: =E58*$M$18% -> 0
B59: vin blanc | E59: =D59/100*A59 -> 0 | H59: =IF(E59=0,A59,A59/E59*J59) -> 0 | I59: =B59 -> vin blanc | J59: =E59*$M$18% -> 0
A60: 12.5 | B60: persil plat | C60: a | D60: 28 | E60: =D60/100*A60 -> 3.5 | H60: =IF(E60=0,A60,A60/E60*J60) -> 10.603792 | I60: =B60 -> persil plat | J60: =E60*$M$18% -> 2.9690619
A61: 150 | B61: pommes de terre | C61: a | D61: 76 | E61: =D61/100*A61 -> 114 | H61: =IF(E61=0,A61,A61/E61*J61) -> 127.24551 | I61: =B61 -> pommes de terre | J61: =E61*$M$18% -> 96.706587
A62: 100 | B62: endives | C62: a | D62: 10 | E62: =D62/100*A62 -> 10 | H62: =IF(E62=0,A62,A62/E62*J62) -> 84.830339 | I62: =B62 -> endives | J62: =E62*$M$18% -> 8.4830339
A63: =45/2 -> 22.5 | B63: citron | C63: a | D63: 17 | E63: =D63/100*A63 -> 3.825 | H63: =IF(E63=0,A63,A63/E63*J63) -> 19.086826 | I63: =B63 -> citron | J63: =E63*$M$18% -> 3.2447605
A64: 6 | B64: sauce soja | C64: d | D64: 58 | E64: =D64/100*A64 -> 3.48 | H64: =IF(E64=0,A64,A64/E64*J64) -> 5.0898204 | I64: =B64 -> sauce soja | J64: =E64*$M$18% -> 2.9520958
A65: 4.25 | B65: huile d'olive | C65: e | D65: 899 | E65: =D65/100*A65 -> 38.2075 | H65: =IF(E65=0,A65,A65/E65*J65) -> 3.6052894 | I65: =B65 -> huile d'olive | J65: =E65*$M$18% -> 32.411552
A66: 1 | B66: sel | C66: e | D66: 0 | E66: =D66/100*A66 -> 0 | H66: =IF(E66=0,A66,A66/E66*J66) -> 1 | I66: =B66 -> sel | J66: =E66*$M$18% -> 0
A67: 0.5 | B67: poivre | C67: b | D67: 222 | E67: =D67/100*A67 -> 1.11 | H67: =IF(E67=0,A67,A67/E67*J67) -> 0.4241517 | I67: =B67 -> poivre | J67: =E67*$M$18% -> 0.94161677
E68: TOTAL | F68: =SUM(E53:E67) -> 508.6525 | J68: TOTAL | K68: =SUM(J53:J67) -> 431.49164
A69: Verrine de ricotta au citron
A70: 100 | B70: ricotta | C70: c | D70: 158 | E70: =D70/100*A70 -> 158 | H70: =IF(E70=0,A70,A70/E70*J70) -> 84.830339 | I70: =B70 -> ricotta | J70: =E70*$M$18% -> 134.03194
A71: 12 | B71: 1 citron | C71: a | D71: 17 | E71: =D71/100*A71 -> 2.04 | H71: =IF(E71=0,A71,A71/E71*J71) -> 10.179641 | I71: =B71 -> 1 citron | J71: =E71*$M$18% -> 1.7305389
A72: 9 | B72: miel | C72: c | D72: 306 | E72: =D72/100*A72 -> 27.54 | H72: =IF(E72=0,A72,A72/E72*J72) -> 7.6347305 | I72: =B72 -> miel | J72: =E72*$M$18% -> 23.362275
A73: 25 | B73: crème | C73: e | D73: 252 | E73: =D73/100*A73 -> 63 | H73: =IF(E73=0,A73,A73/E73*J73) -> 21.207585 | I73: =B73 -> crème | J73: =E73*$M$18% -> 53.443114
E74: TOTAL | F74: =SUM(E70:E73) -> 250.58 | J74: TOTAL | K74: =SUM(J70:J73) -> 212.56786
A75: =IF(D5="non",0,IF(D5="1 verre",125,250)) -> 0 | B75: =IF(A75=0,"","vin") | D75: 80 | E75: =D75/100*A75 -> 0 | H75: =IF(E75=0,A75,A75/E75*J75) -> 0 | I75: =B75 | J75: =E75*$M$18% -> 0
D77: TOTAL du jour | F77: =SUM(F22:F75) -> 2003.7725 | I77: TOTAL du jour | K77: =SUM(K22:K75) -> 1699.807
D78: avec vin | F78: =F77+E75 -> 2003.7725 | I78: avec vin | K78: =K77+J75 -> 1699.807
A80: >>>> | B80: RETOUR AU SOMMAIRE

Sheet jour_11
A1: JOURNEE 11 | I1: Couleur Pan Metron | J1: a
A3: Apport calorique du jour (sans alcool) | D3: =ROUND(F77,0) -> 1997 | E3: kcal/jour
A4: (cf. menus Pan Metron ci-dessous)
A5: Consommation de vin | C5: ^ | D5: non | E5: =IF(D5="non","",IF(D5=1,d!B22,d!B23))
A6: Activités supplémentaires | D6: 0 | E6: kcal/jour | G6: >>>> | H6: calculateur des dépenses énergétiques
A7: Mon objectif | D7: =jour_1!D7 -> 1700 | E7: kcal/jour | H7: sous www.bonasavoir.ch/panmetron
D8: =IF(D5="non","",d!A24)
B10: Pour atteindre votre objectif, en tenant compte de votre activité physique supplémentaire,
B11: vous pouvez absorber | D11: =D7+D6 -> 1700 | E11: kcal
B12: soit | D12: =ABS(M13) -> 297 | E12: kcal | F12: =IF(M13>0,d!A44,d!A45) -> de moins que les menus Pan Metron du jour
F13: =IF(D5="non","",d!A46) | M13: =D3+E75-D11 -> 297
B15: =IF(M13<-50,d!A48,IF(M13<0,d!A49,IF(M13=0,d!A50,IF(M13>50,d!A52,d!A51)))) -> Il faut donc agir:_x000D_> Vous pouvez augmenter encore votre activité physique._x000D_> Ou/et diminuer la quantité de certains ingrédients des recettes du jour dans la première colonne, jusqu'à atteindre votre objectif. Visez de préférence les aliments rouge et orange, de façon à ne pas prétériter l'équilibre nutritionnel de la journée._x000D_> Si cela ne suffit toujours pas à atteindre votre objectif, le programme adapte proportionnellement les quantités pour y parvenir, sauf celles des boissons non caloriques (eau, café, etc.)
A17: Menus Pan Metron du jour | H17: Personnalisation | M17: pondération (M18)
A18: g/cl | B18: Ingrédients | D18: kcal | H18: =A18 -> g/cl | I18: =B18 -> Ingrédients | J18: kcal | M18: =100-(D12/((D11+D12)/100)) -> 85.127692
D19: pr 100 g | E19: réels | J19: réels
A21: PETIT DEJEUNER AVEC ŒUF
A22: 60 | B22: œuf à la coque | C22: a | D22: 134 | E22: =D22/100*A22 -> 80.4 | H22: =IF(E22=0,A22,A22/E22*J22) -> 51.076615 | I22: =B22 -> œuf à la coque | J22: =E22*$M$18% -> 68.442664
A23: 0.5 | B23: sel | C23: e | D23: 0 | E23: =D23/100*A23 -> 0 | H23: =IF(E23=0,A23,A23/E23*J23) -> 0.5 | I23: =B23 -> sel | J23: =E23*$M$18% -> 0
A24: 40 | B24: pain complet | C24: c | D24: 229 | E24: =D24/100*A24 -> 91.6 | H24: =IF(E24=0,A24,A24/E24*J24) -> 34.051077 | I24: =B24 -> pain complet | J24: =E24*$M$18% -> 77.976965
A25: 125 | B25: fromage blanc 20% | C25: a | D25: 71 | E25: =D25/100*A25 -> 88.75 | H25: =IF(E25=0,A25,A25/E25*J25) -> 106.40961 | I25: =B25 -> fromage blanc 20% | J25: =E25*$M$18% -> 75.550826
A26: 100 | B26: salade de fruits frais | C26: b | D26: 67 | E26: =D26/100*A26 -> 67 | H26: =IF(E26=0,A26,A26/E26*J26) -> 85.127692 | I26: =B26 -> salade de fruits frais | J26: =E26*$M$18% -> 57.035553
A27: 150 | B27: thé | D27: 0 | E27: =D27/100*A27 -> 0 | H27: =IF(E27=0,A27,A27/E27*J27) -> 150 | I27: =B27 -> thé | J27: =E27*$M$18% -> 0
A28: 12 | B28: sucre | C28: e | D28: 400 | E28: =D28/100*A28 -> 48 | H28: =IF(E28=0,A28,A28/E28*J28) -> 10.215323 | I28: =B28 -> sucre | J28: =E28*$M$18% -> 40.861292
E29: TOTAL | F29: =SUM(E22:E28) -> 375.75 | J29: TOTAL | K29: =SUM(J22:J28) -> 319.8673
A30: MIDI
A31: Chili végétarien, blé Ebly, salade
A32: =150/4 -> 37.5 | B32: poivron rouge | C32: a | D32: 16 | E32: =D32/100*A32 -> 6 | H32: =IF(E32=0,A32,A32/E32*J32) -> 31.922884 | I32: =B32 -> poivron rouge | J32: =E32*$M$18% -> 5.1076615
A33: 50 | B33: oignon | C33: a | D33: 29 | E33: =D33/100*A33 -> 14.5 | H33: =IF(E33=0,A33,A33/E33*J33) -> 42.563846 | I33: =B33 -> oignon | J33: =E33*$M$18% -> 12.343515
A34: =18/4 -> 4.5 | B34: aïl | C34: a | D34: 131 | E34: =D34/100*A34 -> 5.895 | H34: =IF(E34=0,A34,A34/E34*J34) -> 3.8307461 | I34: =B34 -> aïl | J34: =E34*$M$18% -> 5.0182774
A35: 100 | B35: haricots rouges cuits en boîte | C35: a | D35: 110 | E35: =D35/100*A35 -> 110 | H35: =IF(E35=0,A35,A35/E35*J35) -> 85.127692 | I35: =B35 -> haricots rouges cuits en boîte | J35: =E35*$M$18% -> 93.640461
A36: 3 | B36: huile d'olive | C36: e | D36: 899 | E36: =D36/100*A36 -> 26.97 | H36: =IF(E36=0,A36,A36/E36*J36) -> 2.5538307 | I36: =B36 -> huile d'olive | J36: =E36*$M$18% -> 22.958938
A37: =250/4 -> 62.5 | B37: 1 aubergine | C37: a | D37: 17 | E37: =D37/100*A37 -> 10.625 | H37: =IF(E37=0,A37,A37/E37*J37) -> 53.204807 | I37: =B37 -> 1 aubergine | J37: =E37*$M$18% -> 9.0448172
A38: 100 | B38: pulpe de tomates en boîte | C38: a | D38: 19 | E38: =D38/100*A38 -> 19 | H38: =IF(E38=0,A38,A38/E38*J38) -> 85.127692 | I38: =B38 -> pulpe de tomates en boîte | J38: =E38*$M$18% -> 16.174261
A39: 75 | B39: sauce tomate en boîte | C39: b | D39: 58 | E39: =D39/100*A39 -> 43.5 | H39: =IF(E39=0,A39,A39/E39*J39) -> 63.845769 | I39: =B39 -> sauce tomate en boîte | J39: =E39*$M$18% -> 37.030546
B40: tabasco | E40: =D40/100*A40 -> 0 | H40: =IF(E40=0,A40,A40/E40*J40) -> 0 | I40: =B40 -> tabasco | J40: =E40*$M$18% -> 0
A41: 1.25 | B41: café de piment doux | C41: c | D41: 376 | E41: =D41/100*A41 -> 4.7 | H41: =IF(E41=0,A41,A41/E41*J41) -> 1.0640961 | I41: =B41 -> café de piment doux | J41: =E41*$M$18% -> 4.0010015
A42: 3 | B42: origan | C42: b | D42: 265 | E42: =D42/100*A42 -> 7.95 | H42: =IF(E42=0,A42,A42/E42*J42) -> 2.5538307 | I42: =B42 -> origan | J42: =E42*$M$18% -> 6.7676515
A43: =50*3 -> 150 | B43: blé Ebly cuit | C43: b | D43: 144 | E43: =D43/100*A43 -> 216 | H43: =IF(E43=0,A43,A43/E43*J43) -> 127.69154 | I43: =B43 -> blé Ebly cuit | J43: =E43*$M$18% -> 183.87581
A44: 50 | B44: salade pommée (200 g) | C44: a | D44: 18 | E44: =D44/100*A44 -> 9 | H44: =IF(E44=0,A44,A44/E44*J44) -> 42.563846 | I44: =B44 -> salade pommée (200 g) | J44: =E44*$M$18% -> 7.6614922
A45: 12 | B45: sauce française | C45: e | D45: 446 | E45: =D45/100*A45 -> 53.52 | H45: =IF(E45=0,A45,A45/E45*J45) -> 10.215323 | I45: =B45 -> sauce française | J45: =E45*$M$18% -> 45.560341
A46: 1 | B46: sel | C46: e | D46: 0 | E46: =D46/100*A46 -> 0 | H46: =IF(E46=0,A46,A46/E46*J46) -> 1 | I46: =B46 -> sel | J46: =E46*$M$18% -> 0
E47: TOTAL | F47: =SUM(E32:E46) -> 527.66 | J47: TOTAL | K47: =SUM(J32:J46) -> 449.18478
A49: QUATRE HEURES
A50: 50 | B50: pain de seigle | C50: c | D50: 220 | E50: =D50/100*A50 -> 110 | H50: =IF(E50=0,A50,A50/E50*J50) -> 42.563846 | I50: =B50 -> pain de seigle | J50: =E50*$M$18% -> 93.640461
A51: 20 | B51: fromage à tartiner | C51: d | D51: 309 | E51: =D51/100*A51 -> 61.8 | H51: =IF(E51=0,A51,A51/E51*J51) -> 17.025538 | I51: =B51 -> fromage à tartiner | J51: =E51*$M$18% -> 52.608913
E52: TOTAL | F52: =SUM(E50:E51) -> 171.8 | J52: TOTAL | K52: =SUM(J50:J51) -> 146.24937
A53: SOIR
A54: Foie de veau au bacon, pdt nouvelles, carottes au cumin
A55: 5 | B55: beurre | C55: e | D55: 747 | E55: =D55/100*A55 -> 37.35 | H55: =IF(E55=0,A55,A55/E55*J55) -> 4.2563846 | I55: =B55 -> beurre | J55: =E55*$M$18% -> 31.795193
A56: 150 | B56: foie de veau | C56: a | D56: 125 | E56: =D56/100*A56 -> 187.5 | H56: =IF(E56=0,A56,A56/E56*J56) -> 127.69154 | I56: =B56 -> foie de veau | J56: =E56*$M$18% -> 159.61442
A57: 25 | B57: bacon | C57: d | D57: 200 | E57: =D57/100*A57 -> 50 | H57: =IF(E57=0,A57,A57/E57*J57) -> 21.281923 | I57: =B57 -> bacon | J57: =E57*$M$18% -> 42.563846
A58: 6 | B58: vinaigre de vin | C58: b | D58: 22 | E58: =D58/100*A58 -> 1.32 | H58: =IF(E58=0,A58,A58/E58*J58) -> 5.1076615 | I58: =B58 -> vinaigre de vin | J58: =E58*$M$18% -> 1.1236855
A59: 0.5 | B59: romarin en pudre | C59: a | D59: 62 | E59: =D59/100*A59 -> 0.31 | H59: =IF(E59=0,A59,A59/E59*J59) -> 0.42563846 | I59: =B59 -> romarin en pudre | J59: =E59*$M$18% -> 0.26389584
A60: 100 | B60: carottes | C60: a | D60: 30 | E60: =D60/100*A60 -> 30 | H60: =IF(E60=0,A60,A60/E60*J60) -> 85.127692 | I60: =B60 -> carottes | J60: =E60*$M$18% -> 25.538307
A61: 7 | B61: citron | C61: a | D61: 17 | E61: =D61/100*A61 -> 1.19 | H61: =IF(E61=0,A61,A61/E61*J61) -> 5.9589384 | I61: =B61 -> citron | J61: =E61*$M$18% -> 1.0130195
A62: 1 | B62: cumin en poudre | C62: b | D62: 427 | E62: =D62/100*A62 -> 4.27 | H62: =IF(E62=0,A62,A62/E62*J62) -> 0.85127692 | I62: =B62 -> cumin en poudre | J62: =E62*$M$18% -> 3.6349524
A63: 150 | B63: pommes de terre nouvelles | C63: a | D63: 76 | E63: =D63/100*A63 -> 114 | H63: =IF(E63=0,A63,A63/E63*J63) -> 127.69154 | I63: =B63 -> pommes de terre nouvelles | J63: =E63*$M$18% -> 97.045568
A64: 3.5 | B64: huile de tournesol | C64: e | D64: 899 | E64: =D64/100*A64 -> 31.465 | H64: =IF(E64=0,A64,A64/E64*J64) -> 2.9794692 | I64: =B64 -> huile de tournesol | J64: =E64*$M$18% -> 26.785428
A65: 1 | B65: sel | C65: e | D65: 0 | E65: =D65/100*A65 -> 0 | H65: =IF(E65=0,A65,A65/E65*J65) -> 1 | I65: =B65 -> sel | J65: =E65*$M$18% -> 0
A66: 0.5 | B66: poivre | C66: b | D66: 222 | E66: =D66/100*A66 -> 1.11 | H66: =IF(E66=0,A66,A66/E66*J66) -> 0.42563846 | I66: =B66 -> poivre | J66: =E66*$M$18% -> 0.94491738
E67: TOTAL | F67: =SUM(E55:E66) -> 458.515 | J67: TOTAL | K67: =SUM(J55:J66) -> 390.32323
A68: Mousse au chocolat
A69: 50 | B69: chocolat noir | C69: e | D69: 519 | E69: =D69/100*A69 -> 259.5 | H69: =IF(E69=0,A69,A69/E69*J69) -> 42.563846 | I69: =B69 -> chocolat noir | J69: =E69*$M$18% -> 220.90636
A70: 7.5 | B70: beurre | C70: e | D70: 747 | E70: =D70/100*A70 -> 56.025 | H70: =IF(E70=0,A70,A70/E70*J70) -> 6.3845769 | I70: =B70 -> beurre | J70: =E70*$M$18% -> 47.692789
A71: 60 | B71: œufs | C71: a | D71: 146 | E71: =D71/100*A71 -> 87.6 | H71: =IF(E71=0,A71,A71/E71*J71) -> 51.076615 | I71: =B71 -> œufs | J71: =E71*$M$18% -> 74.571858
B72: sel | C72: e | E72: =D72/100*A72 -> 0 | H72: =IF(E72=0,A72,A72/E72*J72) -> 0 | I72: =B72 -> sel | J72: =E72*$M$18% -> 0
A73: 15 | B73: sucre | C73: e | D73: 400 | E73: =D73/100*A73 -> 60 | H73: =IF(E73=0,A73,A73/E73*J73) -> 12.769154 | I73: =B73 -> sucre | J73: =E73*$M$18% -> 51.076615
E74: TOTAL | F74: =SUM(E69:E73) -> 463.125 | J74: TOTAL | K74: =SUM(J69:J73) -> 394.24762
A75: =IF(D5="non",0,IF(D5="1 verre",125,250)) -> 0 | B75: =IF(A75=0,"","vin") | D75: 80 | E75: =D75/100*A75 -> 0 | H75: =IF(E75=0,A75,A75/E75*J75) -> 0 | I75: =B75 | J75: =E75*$M$18% -> 0
D77: TOTAL du jour | F77: =SUM(F22:F74) -> 1996.85 | I77: TOTAL du jour | K77: =SUM(K22:K74) -> 1699.8723
D78: avec vin | F78: =F77+E75 -> 1996.85 | I78: avec vin | K78: =K77+J75 -> 1699.8723
A80: >>>> | B80: RETOUR AU SOMMAIRE

Sheet jour_12
A1: JOURNEE 12 | I1: Couleur Pan Metron | J1: b
A3: Apport calorique du jour (sans alcool) | D3: =ROUND(F73,0) -> 2003 | E3: kcal/jour
A4: (cf. menus Pan Metron ci-dessous)
A5: Consommation de vin | C5: ^ | D5: non | E5: =IF(D5="non","",IF(D5=1,d!B22,d!B23))
A6: Activités supplémentaires | D6: 0 | E6: kcal/jour | G6: >>>> | H6: calculateur des dépenses énergétiques
A7: Mon objectif | D7: =jour_1!D7 -> 1700 | E7: kcal/jour | H7: sous www.bonasavoir.ch/panmetron
D8: =IF(D5="non","",d!A24)
B10: Pour atteindre votre objectif, en tenant compte de votre activité physique supplémentaire,
B11: vous pouvez absorber | D11: =D7+D6 -> 1700 | E11: kcal
B12: soit | D12: =ABS(M13) -> 303 | E12: kcal | F12: =IF(M13>0,d!A44,d!A45) -> de moins que les menus Pan Metron du jour
F13: =IF(D5="non","",d!A46) | M13: =D3+E71-D11 -> 303
B15: =IF(M13<-50,d!A48,IF(M13<0,d!A49,IF(M13=0,d!A50,IF(M13>50,d!A52,d!A51)))) -> Il faut donc agir:_x000D_> Vous pouvez augmenter encore votre activité physique._x000D_> Ou/et diminuer la quantité de certains ingrédients des recettes du jour dans la première colonne, jusqu'à atteindre votre objectif. Visez de préférence les aliments rouge et orange, de façon à ne pas prétériter l'équilibre nutritionnel de la journée._x000D_> Si cela ne suffit toujours pas à atteindre votre objectif, le programme adapte proportionnellement les quantités pour y parvenir, sauf celles des boissons non caloriques (eau, café, etc.)
A17: Menus Pan Metron du jour | H17: Personnalisation | M17: pondération (M18)
A18: g/cl | B18: Ingrédients | D18: kcal | H18: =A18 -> g/cl | I18: =B18 -> Ingrédients | J18: kcal | M18: =100-(D12/((D11+D12)/100)) -> 84.872691
D19: pr 100 g | E19: réels | J19: réels
A21: PETIT DEJEUNER CEREALES
A22: 50 | B22: céréales au miel | C22: c | D22: 382 | E22: =D22/100*A22 -> 191 | H22: =IF(E22=0,A22,A22/E22*J22) -> 42.436345 | I22: =B22 -> céréales au miel | J22: =E22*$M$18% -> 162.10684
A23: 150 | B23: café | D23: 0 | E23: =D23/100*A23 -> 0 | H23: =IF(E23=0,A23,A23/E23*J23) -> 150 | I23: =B23 -> café | J23: =E23*$M$18% -> 0
A24: 4 | B24: sucre | C24: e | D24: 400 | E24: =D24/100*A24 -> 16 | H24: =IF(E24=0,A24,A24/E24*J24) -> 3.3949076 | I24: =B24 -> sucre | J24: =E24*$M$18% -> 13.579631
A25: 12 | B25: crème à café | C25: c | D25: 161 | E25: =D25/100*A25 -> 19.32 | H25: =IF(E25=0,A25,A25/E25*J25) -> 10.184723 | I25: =B25 -> crème à café | J25: =E25*$M$18% -> 16.397404
A26: 125 | B26: yogourt aux fruits | C26: b | D26: 87 | E26: =D26/100*A26 -> 108.75 | H26: =IF(E26=0,A26,A26/E26*J26) -> 106.09086 | I26: =B26 -> yogourt aux fruits | J26: =E26*$M$18% -> 92.299051
A27: 150 | B27: jus d'orange maison | C27: b | D27: 45 | E27: =D27/100*A27 -> 67.5 | H27: =IF(E27=0,A27,A27/E27*J27) -> 127.30904 | I27: =B27 -> jus d'orange maison | J27: =E27*$M$18% -> 57.289066
E28: TOTAL | F28: =SUM(E22:E27) -> 402.57 | J28: TOTAL | K28: =SUM(J22:J27) -> 341.67199
A29: MIDI
A30: Risotto forestier à la sauge, salade de rampon
A31: =150/4 -> 37.5 | B31: bolets | C31: a | D31: 32 | E31: =D31/100*A31 -> 12 | H31: =IF(E31=0,A31,A31/E31*J31) -> 31.827259 | I31: =B31 -> bolets _x000D_ | J31: =E31*$M$18% -> 10.184723
A32: =150/4 -> 37.5 | B32: chanterelles | C32: a | D32: 33 | E32: =D32/100*A32 -> 12.375 | H32: =IF(E32=0,A32,A32/E32*J32) -> 31.827259 | I32: =B32 -> chanterelles | J32: =E32*$M$18% -> 10.502996
A33: =150/4 -> 37.5 | B33: champignons de Paris | C33: a | D33: 31 | E33: =D33/100*A33 -> 11.625 | H33: =IF(E33=0,A33,A33/E33*J33) -> 31.827259 | I33: =B33 -> champignons de Paris | J33: =E33*$M$18% -> 9.8664503
A34: 25 | B34: oignon | C34: a | D34: 29 | E34: =D34/100*A34 -> 7.25 | H34: =IF(E34=0,A34,A34/E34*J34) -> 21.218173 | I34: =B34 -> oignon | J34: =E34*$M$18% -> 6.1532701
B35: sauge | E35: =D35/100*A35 -> 0 | H35: =IF(E35=0,A35,A35/E35*J35) -> 0 | I35: =B35 -> sauge | J35: =E35*$M$18% -> 0
A36: 6 | B36: huile d'olive | C36: e | D36: 899 | E36: =D36/100*A36 -> 53.94 | H36: =IF(E36=0,A36,A36/E36*J36) -> 5.0923615 | I36: =B36 -> huile d'olive | J36: =E36*$M$18% -> 45.78033
A37: 75 | B37: riz pour risotto | C37: c | D37: 349 | E37: =D37/100*A37 -> 261.75 | H37: =IF(E37=0,A37,A37/E37*J37) -> 63.654518 | I37: =B37 -> riz pour risotto | J37: =E37*$M$18% -> 222.15427
B38: vin blanc | E38: =D38/100*A38 -> 0 | H38: =IF(E38=0,A38,A38/E38*J38) -> 0 | I38: =B38 -> vin blanc | J38: =E38*$M$18% -> 0
A39: 200 | B39: bouillon de légumes | C39: a | D39: 6 | E39: =D39/100*A39 -> 12 | H39: =IF(E39=0,A39,A39/E39*J39) -> 169.74538 | I39: =B39 -> bouillon de légumes | J39: =E39*$M$18% -> 10.184723
A40: 3 | B40: beurre | C40: e | D40: 747 | E40: =D40/100*A40 -> 22.41 | H40: =IF(E40=0,A40,A40/E40*J40) -> 2.5461807 | I40: =B40 -> beurre | J40: =E40*$M$18% -> 19.01997
A41: 12.5 | B41: parmesan râpé | C41: d | D41: 391 | E41: =D41/100*A41 -> 48.875 | H41: =IF(E41=0,A41,A41/E41*J41) -> 10.609086 | I41: =B41 -> parmesan râpé | J41: =E41*$M$18% -> 41.481528
A42: 50 | B42: rampon (mâche) | C42: a | D42: 20 | E42: =D42/100*A42 -> 10 | H42: =IF(E42=0,A42,A42/E42*J42) -> 42.436345 | I42: =B42 -> rampon (mâche) | J42: =E42*$M$18% -> 8.4872691
A43: 12 | B43: sauce à salade française | C43: e | D43: 446 | E43: =D43/100*A43 -> 53.52 | H43: =IF(E43=0,A43,A43/E43*J43) -> 10.184723 | I43: =B43 -> sauce à salade française | J43: =E43*$M$18% -> 45.423864
A44: En guise de dessert
A45: 150 | B45: pomme | C45: b | D45: 55 | E45: =D45/100*A45 -> 82.5 | H45: =IF(E45=0,A45,A45/E45*J45) -> 127.30904 | I45: =B45 -> pomme | J45: =E45*$M$18% -> 70.01997
E46: TOTAL | F46: =SUM(E31:E45) -> 588.245 | J46: TOTAL | K46: =SUM(J31:J45) -> 499.25936
A48: QUATRE HEURES
A49: 150 | B49: yogourt grec de brebis | C49: c | D49: 127 | E49: =D49/100*A49 -> 190.5 | H49: =IF(E49=0,A49,A49/E49*J49) -> 127.30904 | I49: =B49 -> yogourt grec de brebis | J49: =E49*$M$18% -> 161.68248
A50: 6 | B50: sucre | C50: e | D50: 400 | E50: =D50/100*A50 -> 24 | H50: =IF(E50=0,A50,A50/E50*J50) -> 5.0923615 | I50: =B50 -> sucre | J50: =E50*$M$18% -> 20.369446
E51: TOTAL | F51: =SUM(E49:E50) -> 214.5 | J51: TOTAL | K51: =SUM(J49:J50) -> 182.05192
A52: SOIR
A53: Saucisson de Morteau et poireau en croûte, salade de tomates
A54: 100 | B54: saucisse de Morteau | C54: d | D54: 320 | E54: =D54/100*A54 -> 320 | H54: =IF(E54=0,A54,A54/E54*J54) -> 84.872691 | I54: =B54 -> saucisse de Morteau | J54: =E54*$M$18% -> 271.59261
A55: 100 | B55: poireau | C55: a | D55: 31 | E55: 30 | H55: =IF(E55=0,A55,A55/E55*J55) -> 84.872691 | I55: =B55 -> poireau | J55: =E55*$M$18% -> 25.461807
A56: 3 | B56: huile d'olive | C56: e | D56: 899 | E56: =D56/100*A56 -> 26.97 | H56: =IF(E56=0,A56,A56/E56*J56) -> 2.5461807 | I56: =B56 -> huile d'olive | J56: =E56*$M$18% -> 22.890165
B57: vin blanc | E57: =D57/100*A57 -> 0 | H57: =IF(E57=0,A57,A57/E57*J57) -> 0 | I57: =B57 -> vin blanc | J57: =E57*$M$18% -> 0
A58: =250/4 -> 62.5 | B58: abaisse de pâte à pizza rectangulaire | C58: d | D58: 324 | E58: =D58/100*A58 -> 202.5 | H58: =IF(E58=0,A58,A58/E58*J58) -> 53.045432 | I58: =B58 -> abaisse de pâte à pizza rectangulaire | J58: =E58*$M$18% -> 171.8672
A59: 6 | B59: moutarde gros grains | C59: c | D59: 134 | E59: =D59/100*A59 -> 8.04 | H59: =IF(E59=0,A59,A59/E59*J59) -> 5.0923615 | I59: =B59 -> moutarde gros grains | J59: =E59*$M$18% -> 6.8237644
A60: 15 | B60: œuf | C60: a | D60: 146 | E60: =D60/100*A60 -> 21.9 | H60: =IF(E60=0,A60,A60/E60*J60) -> 12.730904 | I60: =B60 -> œuf | J60: =E60*$M$18% -> 18.587119
A61: 1 | B61: graines de tournesol | C61: c | D61: 653 | E61: =D61/100*A61 -> 6.53 | H61: =IF(E61=0,A61,A61/E61*J61) -> 0.84872691 | I61: =B61 -> graines de tournesol | J61: =E61*$M$18% -> 5.5421867
A62: 50 | B62: tomates | C62: a | D62: 19 | E62: =D62/100*A62 -> 9.5 | H62: =IF(E62=0,A62,A62/E62*J62) -> 42.436345 | I62: =B62 -> tomates | J62: =E62*$M$18% -> 8.0629056
A63: 3 | B63: oignon | C63: a | D63: 29 | E63: =D63/100*A63 -> 0.87 | H63: =IF(E63=0,A63,A63/E63*J63) -> 2.5461807 | I63: =B63 -> oignon | J63: =E63*$M$18% -> 0.73839241
A64: 12 | B64: sauce salade au yogourt | C64: b | D64: 68 | E64: =D64/100*A64 -> 8.16 | H64: =IF(E64=0,A64,A64/E64*J64) -> 10.184723 | I64: =B64 -> sauce salade au yogourt | J64: =E64*$M$18% -> 6.9256116
A65: 0.5 | B65: sel | C65: e | D65: 0 | E65: =D65/100*A65 -> 0 | H65: =IF(E65=0,A65,A65/E65*J65) -> 0.5 | I65: =B65 -> sel | J65: =E65*$M$18% -> 0
A66: 0.25 | B66: poivre | C66: b | D66: 222 | E66: =D66/100*A66 -> 0.555 | H66: =IF(E66=0,A66,A66/E66*J66) -> 0.21218173 | I66: =B66 -> poivre | J66: =E66*$M$18% -> 0.47104343
E67: TOTAL | F67: =SUM(E54:E66) -> 635.025 | J67: TOTAL | K67: =SUM(J54:J66) -> 538.96281
A68: En guise de dessert
A69: 80 | B69: glace | C69: d | D69: 203 | E69: =D69/100*A69 -> 162.4 | H69: =IF(E69=0,A69,A69/E69*J69) -> 67.898153 | I69: =B69 -> glace | J69: =E69*$M$18% -> 137.83325
E70: TOTAL | F70: =SUM(E69:E69) -> 162.4 | J70: TOTAL | K70: =SUM(J69:J69) -> 137.83325
A71: =IF(D5="non",0,IF(D5="1 verre",125,250)) -> 0 | B71: =IF(A71=0,"","vin") | D71: 80 | E71: =D71/100*A71 -> 0 | H71: =IF(E71=0,A71,A71/E71*J71) -> 0 | I71: =B71 | J71: =E71*$M$18% -> 0
D73: TOTAL du jour | F73: =SUM(F22:F71) -> 2002.74 | I73: TOTAL du jour | K73: =SUM(K22:K70) -> 1699.7793
D74: avec vin | F74: =F73+E71 -> 2002.74 | I74: avec vin | K74: =K73+J71 -> 1699.7793
A76: >>>> | B76: RETOUR AU SOMMAIRE

Sheet jour_13
A1: JOURNEE 13 | I1: Couleur Pan Metron | J1: a
A3: Apport calorique du jour (sans alcool) | D3: =ROUND(F77,0) -> 1998 | E3: kcal/jour
A4: (cf. menus Pan Metron ci-dessous)
A5: Consommation de vin | C5: ^ | D5: non | E5: =IF(D5="non","",IF(D5=1,d!B22,d!B23))
A6: Activités supplémentaires | D6: 0 | E6: kcal/jour | G6: >>>> | H6: calculateur des dépenses énergétiques
A7: Mon objectif | D7: =jour_1!D7 -> 1700 | E7: kcal/jour | H7: sous www.bonasavoir.ch/panmetron
D8: =IF(D5="non","",d!A24)
B10: Pour atteindre votre objectif, en tenant compte de votre activité physique supplémentaire,
B11: vous pouvez absorber | D11: =D7+D6 -> 1700 | E11: kcal
B12: soit | D12: =ABS(M13) -> 298 | E12: kcal | F12: =IF(M13>0,d!A44,d!A45) -> de moins que les menus Pan Metron du jour
F13: =IF(D5="non","",d!A46) | M13: =D3+E75-D11 -> 298
B15: =IF(M13<-50,d!A48,IF(M13<0,d!A49,IF(M13=0,d!A50,IF(M13>50,d!A52,d!A51)))) -> Il faut donc agir:_x000D_> Vous pouvez augmenter encore votre activité physique._x000D_> Ou/et diminuer la quantité de certains ingrédients des recettes du jour dans la première colonne, jusqu'à atteindre votre objectif. Visez de préférence les aliments rouge et orange, de façon à ne pas prétériter l'équilibre nutritionnel de la journée._x000D_> Si cela ne suffit toujours pas à atteindre votre objectif, le programme adapte proportionnellement les quantités pour y parvenir, sauf celles des boissons non caloriques (eau, café, etc.)
A17: Menus Pan Metron du jour | H17: Personnalisation | M17: pondération (M18)
A18: g/cl | B18: Ingrédients | D18: kcal | H18: =A18 -> g/cl | I18: =B18 -> Ingrédients | J18: kcal | M18: =100-(D12/((D11+D12)/100)) -> 85.085085
D19: pr 100 g | E19: réels | J19: réels
A21: PETIT DEJEUNER CLASSIQUE
A22: 30 | B22: pain complet | C22: c | D22: 229 | E22: =D22/100*A22 -> 68.7 | H22: =IF(E22=0,A22,A22/E22*J22) -> 25.525526 | I22: =B22 -> pain complet | J22: =E22*$M$18% -> 58.453453
A23: 5 | B23: beurre | C23: e | D23: 747.3 | E23: =D23/100*A23 -> 37.365 | H23: =IF(E23=0,A23,A23/E23*J23) -> 4.2542543 | I23: =B23 -> beurre | J23: =E23*$M$18% -> 31.792042
A24: 10 | B24: confiture | C24: e | D24: 246 | E24: =D24/100*A24 -> 24.6 | H24: =IF(E24=0,A24,A24/E24*J24) -> 8.5085085 | I24: =B24 -> confiture | J24: =E24*$M$18% -> 20.930931
A25: 150 | B25: café | D25: 0 | E25: =D25/100*A25 -> 0 | H25: =IF(E25=0,A25,A25/E25*J25) -> 150 | I25: =B25 -> café | J25: =E25*$M$18% -> 0
A26: 4 | B26: sucre | C26: e | D26: 400 | E26: =D26/100*A26 -> 16 | H26: =IF(E26=0,A26,A26/E26*J26) -> 3.4034034 | I26: =B26 -> sucre | J26: =E26*$M$18% -> 13.613614
A27: 12 | B27: crème à café | C27: c | D27: 161 | E27: =D27/100*A27 -> 19.32 | H27: =IF(E27=0,A27,A27/E27*J27) -> 10.21021 | I27: =B27 -> crème à café | J27: =E27*$M$18% -> 16.438438
A28: 125 | B28: yogourt aux fruits | C28: b | D28: 87 | E28: =D28/100*A28 -> 108.75 | H28: =IF(E28=0,A28,A28/E28*J28) -> 106.35636 | I28: =B28 -> yogourt aux fruits | J28: =E28*$M$18% -> 92.53003
A29: 150 | B29: jus d'orange maison | C29: b | D29: 45 | E29: =D29/100*A29 -> 67.5 | H29: =IF(E29=0,A29,A29/E29*J29) -> 127.62763 | I29: =B29 -> jus d'orange maison | J29: =E29*$M$18% -> 57.432432
E30: TOTAL | F30: =SUM(E22:E29) -> 342.235 | J30: TOTAL | K30: =SUM(J22:J29) -> 291.19094
A31: MIDI
A32: Salade de crevette, avocats et fenouils
A33: 125 | B33: crevettes | C33: a | D33: 56 | E33: =D33/100*A33 -> 70 | H33: =IF(E33=0,A33,A33/E33*J33) -> 106.35636 | I33: =B33 -> crevettes | J33: =E33*$M$18% -> 59.55956
A34: =360/4 -> 90 | B34: avocats | C34: a | D34: 145 | E34: =D34/100*A34 -> 130.5 | H34: =IF(E34=0,A34,A34/E34*J34) -> 76.576577 | I34: =B34 -> avocats | J34: =E34*$M$18% -> 111.03604
A35: =470/4 -> 117.5 | B35: fenouil | C35: a | D35: 16 | E35: =D35/100*A35 -> 18.8 | H35: =IF(E35=0,A35,A35/E35*J35) -> 99.974975 | I35: =B35 -> fenouil | J35: =E35*$M$18% -> 15.995996
A36: 100 | B36: fromage blanc 0 % | C36: a | D36: 46 | E36: =D36/100*A36 -> 46 | H36: =IF(E36=0,A36,A36/E36*J36) -> 85.085085 | I36: =B36 -> fromage blanc 0 % | J36: =E36*$M$18% -> 39.139139
A37: =56/4 -> 14 | B37: citrons | C37: a | D37: 17 | E37: =D37/100*A37 -> 2.38 | H37: =IF(E37=0,A37,A37/E37*J37) -> 11.911912 | I37: =B37 -> citrons | J37: =E37*$M$18% -> 2.025025
A38: =30/4 -> 7.5 | B38: ciboulette | C38: a | D38: 25 | E38: =D38/100*A38 -> 1.875 | H38: =IF(E38=0,A38,A38/E38*J38) -> 6.3813814 | I38: =B38 -> ciboulette | J38: =E38*$M$18% -> 1.5953453
A39: =36/4 -> 9 | B39: huile d'olive | C39: e | D39: 899 | E39: =D39/100*A39 -> 80.91 | H39: =IF(E39=0,A39,A39/E39*J39) -> 7.6576577 | I39: =B39 -> huile d'olive | J39: =E39*$M$18% -> 68.842342
A40: 1 | B40: moutarde | C40: c | D40: 134 | E40: =D40/100*A40 -> 1.34 | H40: =IF(E40=0,A40,A40/E40*J40) -> 0.85085085 | I40: =B40 -> moutarde | J40: =E40*$M$18% -> 1.1401401
A41: 50 | B41: pain de campagne | C41: c | D41: 262 | E41: =D41/100*A41 -> 131 | H41: =IF(E41=0,A41,A41/E41*J41) -> 42.542543 | I41: =B41 -> pain de campagne | J41: =E41*$M$18% -> 111.46146
A42: 0.5 | B42: sel | C42: e | D42: 0 | E42: =D42/100*A42 -> 0 | H42: =IF(E42=0,A42,A42/E42*J42) -> 0.5 | I42: =B42 -> sel | J42: =E42*$M$18% -> 0
A43: 0.25 | B43: poivre | C43: b | D43: 222 | E43: =D43/100*A43 -> 0.555 | H43: =IF(E43=0,A43,A43/E43*J43) -> 0.21271271 | I43: =B43 -> poivre | J43: =E43*$M$18% -> 0.47222222
A44: En guise de dessert
A45: 140 | B45: pamplemousse rose | C45: a | D45: 32 | E45: =D45/100*A45 -> 44.8 | H45: =IF(E45=0,A45,A45/E45*J45) -> 119.11912 | I45: =B45 -> pamplemousse rose | J45: =E45*$M$18% -> 38.118118
A46: 8 | B46: sucre | C46: e | D46: 400 | E46: =D46/100*A46 -> 32 | H46: =IF(E46=0,A46,A46/E46*J46) -> 6.8068068 | I46: =B46 -> sucre | J46: =E46*$M$18% -> 27.227227
E47: TOTAL | F47: =SUM(E33:E46) -> 560.16 | J47: TOTAL | K47: =SUM(J33:J46) -> 476.61261
A49: QUATRE HEURES
A50: 40 | B50: barre de céréales aux fruits | C50: e | D50: 378 | E50: =D50/100*A50 -> 151.2 | H50: =IF(E50=0,A50,A50/E50*J50) -> 34.034034 | I50: =B50 -> barre de céréales aux fruits | J50: =E50*$M$18% -> 128.64865
E51: TOTAL | F51: =SUM(E50:E50) -> 151.2 | J51: TOTAL | K51: =SUM(J50:J50) -> 128.64865
A52: SOIR
A53: Bœuf haché aux poivrons, pommes de terre au four
A54: =180/4 -> 45 | B54: yogourt nature ) | C54: a | D54: 46 | E54: =D54/100*A54 -> 20.7 | H54: =IF(E54=0,A54,A54/E54*J54) -> 38.288288 | I54: =B54 -> yogourt nature ) | J54: =E54*$M$18% -> 17.612613
A55: 5.6 | B55: citron | C55: a | D55: 17 | E55: =D55/100*A55 -> 0.952 | H55: =IF(E55=0,A55,A55/E55*J55) -> 4.7647648 | I55: =B55 -> citron | J55: =E55*$M$18% -> 0.81001001
A56: 1.5 | B56: maïzena | C56: c | D56: 353 | E56: =D56/100*A56 -> 5.295 | H56: =IF(E56=0,A56,A56/E56*J56) -> 1.2762763 | I56: =B56 -> maïzena | J56: =E56*$M$18% -> 4.5052553
A57: =150/4 -> 37.5 | B57: poivron rouge | C57: a | D57: 32 | E57: =D57/100*A57 -> 12 | H57: =IF(E57=0,A57,A57/E57*J57) -> 31.906907 | I57: =B57 -> poivron rouge | J57: =E57*$M$18% -> 10.21021
A58: 40 | B58: oignons jaunes | C58: a | D58: 29 | E58: =D58/100*A58 -> 11.6 | H58: =IF(E58=0,A58,A58/E58*J58) -> 34.034034 | I58: =B58 -> oignons jaunes | J58: =E58*$M$18% -> 9.8698699
A59: 125 | B59: viande de bœuf hachée | C59: a | D59: 154 | E59: =D59/100*A59 -> 192.5 | H59: =IF(E59=0,A59,A59/E59*J59) -> 106.35636 | I59: =B59 -> viande de bœuf hachée | J59: =E59*$M$18% -> 163.78879
A60: 25 | B60: sauce tomate | C60: b | D60: 58 | E60: =D60/100*A60 -> 14.5 | H60: =IF(E60=0,A60,A60/E60*J60) -> 21.271271 | I60: =B60 -> sauce tomate | J60: =E60*$M$18% -> 12.337337
A61: 3 | B61: paprika doux | C61: c | D61: 319 | E61: =D61/100*A61 -> 9.57 | H61: =IF(E61=0,A61,A61/E61*J61) -> 2.5525526 | I61: =B61 -> paprika doux | J61: =E61*$M$18% -> 8.1426426
A62: 0.5 | B62: piment de Cayenne | C62: c | D62: 376 | E62: =D62/100*A62 -> 1.88 | H62: =IF(E62=0,A62,A62/E62*J62) -> 0.42542543 | I62: =B62 -> piment de Cayenne | J62: =E62*$M$18% -> 1.5995996
A63: 8 | B63: huile d’olive | C63: e | D63: 899 | E63: =D63/100*A63 -> 71.92 | H63: =IF(E63=0,A63,A63/E63*J63) -> 6.8068068 | I63: =B63 -> huile d’olive | J63: =E63*$M$18% -> 61.193193
A64: 150 | B64: pommes de terre nouvelles | C64: a | D64: 76 | E64: =D64/100*A64 -> 114 | H64: =IF(E64=0,A64,A64/E64*J64) -> 127.62763 | I64: =B64 -> pommes de terre nouvelles | J64: =E64*$M$18% -> 96.996997
A65: 1 | B65: sel | C65: e | D65: 0 | E65: =D65/100*A65 -> 0 | H65: =IF(E65=0,A65,A65/E65*J65) -> 1 | I65: =B65 -> sel | J65: =E65*$M$18% -> 0
A66: 0.25 | B66: poivre | C66: b | D66: 222 | E66: =D66/100*A66 -> 0.555 | H66: =IF(E66=0,A66,A66/E66*J66) -> 0.21271271 | I66: =B66 -> poivre | J66: =E66*$M$18% -> 0.47222222
E67: TOTAL | F67: =SUM(E54:E66) -> 455.472 | J67: TOTAL | K67: =SUM(J54:J66) -> 387.53874
A68: Crème brûlée
A69: 100 | B69: crème | C69: e | D69: 252 | E69: =D69/100*A69 -> 252 | H69: =IF(E69=0,A69,A69/E69*J69) -> 85.085085 | I69: =B69 -> crème | J69: =E69*$M$18% -> 214.41441
A70: 20 | B70: sucre blanc | C70: e | D70: 400 | E70: =D70/100*A70 -> 80 | H70: =IF(E70=0,A70,A70/E70*J70) -> 17.017017 | I70: =B70 -> sucre blanc | J70: =E70*$M$18% -> 68.068068
A71: =300/4 -> 75 | B71: œufs | C71: a | D71: 146 | E71: =D71/100*A71 -> 109.5 | H71: =IF(E71=0,A71,A71/E71*J71) -> 63.813814 | I71: =B71 -> œufs | J71: =E71*$M$18% -> 93.168168
A72: 1 | B72: gousse de vanille | C72: c | D72: 58 | E72: =D72/100*A72 -> 0.58 | H72: =IF(E72=0,A72,A72/E72*J72) -> 0.85085085 | I72: =B72 -> gousse de vanille | J72: =E72*$M$18% -> 0.49349349
A73: 12 | B73: sucre roux | C73: e | D73: 389 | E73: =D73/100*A73 -> 46.68 | H73: =IF(E73=0,A73,A73/E73*J73) -> 10.21021 | I73: =B73 -> sucre roux | J73: =E73*$M$18% -> 39.717718
E74: TOTAL | F74: =SUM(E69:E73) -> 488.76 | J74: TOTAL | K74: =SUM(J69:J73) -> 415.86186
A75: =IF(D5="non",0,IF(D5="1 verre",125,250)) -> 0 | B75: =IF(A75=0,"","vin") | D75: 80 | E75: =D75/100*A75 -> 0 | H75: =IF(E75=0,A75,A75/E75*J75) -> 0 | I75: =B75 | J75: =E75*$M$18% -> 0
D77: TOTAL du jour | F77: =SUM(F22:F75) -> 1997.827 | I77: TOTAL du jour | K77: =SUM(K22:K75) -> 1699.8528
D78: avec vin | F78: =F77+E75 -> 1997.827 | I78: avec vin | K78: =K77+J75 -> 1699.8528
A80: >>>> | B80: RETOUR AU SOMMAIRE

Sheet jour_14
A1: JOURNEE 14 | I1: Couleur Pan Metron | J1: a
A3: Apport calorique du jour (sans alcool) | D3: =ROUND(F83,0) -> 1999 | E3: kcal/jour
A4: (cf. menus Pan Metron ci-dessous)
A5: Consommation de vin | C5: ^ | D5: non | E5: =IF(D5="non","",IF(D5=1,d!B22,d!B23))
A6: Activités supplémentaires | D6: 0 | E6: kcal/jour | G6: >>>> | H6: calculateur des dépenses énergétiques
A7: Mon objectif | D7: =jour_1!D7 -> 1700 | E7: kcal/jour | H7: sous www.bonasavoir.ch/panmetron
D8: =IF(D5="non","",d!A24)
B10: Pour atteindre votre objectif, en tenant compte de votre activité physique supplémentaire,
B11: vous pouvez absorber | D11: =D7+D6 -> 1700 | E11: kcal
B12: soit | D12: =ABS(M13) -> 299 | E12: kcal | F12: =IF(M13>0,d!A44,d!A45) -> de moins que les menus Pan Metron du jour
F13: =IF(D5="non","",d!A46) | M13: =D3+E81-D11 -> 299
B15: =IF(M13<-50,d!A48,IF(M13<0,d!A49,IF(M13=0,d!A50,IF(M13>50,d!A52,d!A51)))) -> Il faut donc agir:_x000D_> Vous pouvez augmenter encore votre activité physique._x000D_> Ou/et diminuer la quantité de certains ingrédients des recettes du jour dans la première colonne, jusqu'à atteindre votre objectif. Visez de préférence les aliments rouge et orange, de façon à ne pas prétériter l'équilibre nutritionnel de la journée._x000D_> Si cela ne suffit toujours pas à atteindre votre objectif, le programme adapte proportionnellement les quantités pour y parvenir, sauf celles des boissons non caloriques (eau, café, etc.)
A17: Menus Pan Metron du jour | H17: Personnalisation | M17: pondération (M18)
A18: g/cl | B18: Ingrédients | D18: kcal | H18: =A18 -> g/cl | I18: =B18 -> Ingrédients | J18: kcal | M18: =100-(D12/((D11+D12)/100)) -> 85.042521
D19: pr 100 g | E19: réels | J19: réels
A21: PETIT DEJEUNER AVEC ŒUF
A22: 60 | B22: œuf à la coque | C22: a | D22: 134 | E22: =D22/100*A22 -> 80.4 | H22: =IF(E22=0,A22,A22/E22*J22) -> 51.025513 | I22: =B22 -> œuf à la coque | J22: =E22*$M$18% -> 68.374187
A23: 0.5 | B23: sel | C23: e | D23: 0 | E23: =D23/100*A23 -> 0 | H23: =IF(E23=0,A23,A23/E23*J23) -> 0.5 | I23: =B23 -> sel | J23: =E23*$M$18% -> 0
A24: 40 | B24: pain complet | C24: c | D24: 229 | E24: =D24/100*A24 -> 91.6 | H24: =IF(E24=0,A24,A24/E24*J24) -> 34.017009 | I24: =B24 -> pain complet | J24: =E24*$M$18% -> 77.898949
A25: 125 | B25: fromage blanc 20% | C25: a | D25: 71 | E25: =D25/100*A25 -> 88.75 | H25: =IF(E25=0,A25,A25/E25*J25) -> 106.30315 | I25: =B25 -> fromage blanc 20% | J25: =E25*$M$18% -> 75.475238
A26: 100 | B26: salade de fruits frais | C26: b | D26: 67 | E26: =D26/100*A26 -> 67 | H26: =IF(E26=0,A26,A26/E26*J26) -> 85.042521 | I26: =B26 -> salade de fruits frais | J26: =E26*$M$18% -> 56.978489
A27: 150 | B27: thé | D27: 0 | E27: =D27/100*A27 -> 0 | H27: =IF(E27=0,A27,A27/E27*J27) -> 150 | I27: =B27 -> thé | J27: =E27*$M$18% -> 0
A28: 12 | B28: sucre | C28: e | D28: 400 | E28: =D28/100*A28 -> 48 | H28: =IF(E28=0,A28,A28/E28*J28) -> 10.205103 | I28: =B28 -> sucre | J28: =E28*$M$18% -> 40.82041
E29: TOTAL | F29: =SUM(E22:E28) -> 375.75 | J29: TOTAL | K29: =SUM(J22:J28) -> 319.54727
A30: MIDI
A31: Jambon à la crème
A32: =230/4 -> 57.5 | B32: champignons de Paris en boîte | C32: a | D32: 19 | E32: =D32/100*A32 -> 10.925 | H32: =IF(E32=0,A32,A32/E32*J32) -> 48.89945 | I32: =B32 -> champignons de Paris en boîte | J32: =E32*$M$18% -> 9.2908954
A33: 10 | B33: échalote | C33: a | D33: 35 | E33: =D33/100*A33 -> 3.5 | H33: =IF(E33=0,A33,A33/E33*J33) -> 8.5042521 | I33: =B33 -> échalote | J33: =E33*$M$18% -> 2.9764882
A34: =40*3 -> 120 | B34: jambon | C34: c | D34: 125 | E34: =D34/100*A34 -> 150 | H34: =IF(E34=0,A34,A34/E34*J34) -> 102.05103 | I34: =B34 -> jambon | J34: =E34*$M$18% -> 127.56378
A35: =250/4 -> 62.5 | B35: crème | C35: e | D35: 252 | E35: =D35/100*A35 -> 157.5 | H35: =IF(E35=0,A35,A35/E35*J35) -> 53.151576 | I35: =B35 -> crème | J35: =E35*$M$18% -> 133.94197
A36: 3 | B36: maïzena | C36: c | D36: 353 | E36: =D36/100*A36 -> 10.59 | H36: =IF(E36=0,A36,A36/E36*J36) -> 2.5512756 | I36: =B36 -> maïzena | J36: =E36*$M$18% -> 9.006003
A37: =80/4 -> 20 | B37: cognac | E37: =D37/100*A37 -> 0 | H37: =IF(E37=0,A37,A37/E37*J37) -> 20 | I37: =B37 -> cognac | J37: =E37*$M$18% -> 0
A38: 3 | B38: beurre | C38: e | D38: 747 | E38: =D38/100*A38 -> 22.41 | H38: =IF(E38=0,A38,A38/E38*J38) -> 2.5512756 | I38: =B38 -> beurre | J38: =E38*$M$18% -> 19.058029
A39: 62.5 | B39: riz blanc | C39: a | D39: 349 | E39: =D39/100*A39 -> 218.125 | H39: =IF(E39=0,A39,A39/E39*J39) -> 53.151576 | I39: =B39 -> riz blanc | J39: =E39*$M$18% -> 185.499
A40: =450/3 -> 150 | B40: tomates | C40: a | D40: 19 | E40: =D40/100*A40 -> 28.5 | H40: =IF(E40=0,A40,A40/E40*J40) -> 127.56378 | I40: =B40 -> tomates | J40: =E40*$M$18% -> 24.237119
A41: 25 | B41: salade | C41: a | D41: 18 | E41: =D41/100*A41 -> 4.5 | H41: =IF(E41=0,A41,A41/E41*J41) -> 21.26063 | I41: =B41 -> salade | J41: =E41*$M$18% -> 3.8269135
A42: 12 | B42: sauce italienne | C42: e | D42: 472 | E42: =D42/100*A42 -> 56.64 | H42: =IF(E42=0,A42,A42/E42*J42) -> 10.205103 | I42: =B42 -> sauce italienne | J42: =E42*$M$18% -> 48.168084
A43: 0.5 | B43: sel | C43: e | D43: 473 | E43: =D43/100*A43 -> 2.365 | H43: =IF(E43=0,A43,A43/E43*J43) -> 0.42521261 | I43: =B43 -> sel | J43: =E43*$M$18% -> 2.0112556
A44: 0.25 | B44: poivre | C44: b | D44: 474 | E44: =D44/100*A44 -> 1.185 | H44: =IF(E44=0,A44,A44/E44*J44) -> 0.2126063 | I44: =B44 -> poivre | J44: =E44*$M$18% -> 1.0077539
E45: TOTAL | F45: =SUM(E32:E44) -> 666.24 | J45: TOTAL | K45: =SUM(J32:J44) -> 566.58729
A47: QUATRE HEURES
A48: 150 | B48: pomme | C48: b | D48: 55 | E48: =D48/100*A48 -> 82.5 | H48: =IF(E48=0,A48,A48/E48*J48) -> 127.56378 | I48: =B48 -> pomme | J48: =E48*$M$18% -> 70.16008
A49: 10 | B49: chocolat noir | C49: e | D49: 519 | E49: =D49/100*A49 -> 51.9 | H49: =IF(E49=0,A49,A49/E49*J49) -> 8.5042521 | I49: =B49 -> chocolat noir | J49: =E49*$M$18% -> 44.137069
E50: TOTAL | F50: =SUM(E48:E49) -> 134.4 | J50: TOTAL | K50: =SUM(J48:J49) -> 114.29715
A51: SOIR
A52: Couscous aux légumes
A53: 50 | B53: oignons | C53: a | D53: 29 | E53: =D53/100*A53 -> 14.5 | H53: =IF(E53=0,A53,A53/E53*J53) -> 42.521261 | I53: =B53 -> oignons | J53: =E53*$M$18% -> 12.331166
A54: 3 | B54: aïl | C54: a | D54: 131 | E54: =D54/100*A54 -> 3.93 | H54: =IF(E54=0,A54,A54/E54*J54) -> 2.5512756 | I54: =B54 -> aïl | J54: =E54*$M$18% -> 3.3421711
A55: 0.25 | B55: cannelle en poudre | E55: =D55/100*A55 -> 0 | H55: =IF(E55=0,A55,A55/E55*J55) -> 0.25 | I55: =B55 -> cannelle en poudre | J55: =E55*$M$18% -> 0
A56: 0.25 | B56: gingembre en poudre | C56: b | D56: 322 | E56: =D56/100*A56 -> 0.805 | H56: =IF(E56=0,A56,A56/E56*J56) -> 0.2126063 | I56: =B56 -> gingembre en poudre | J56: =E56*$M$18% -> 0.6845923
A57: 0.25 | B57: piment en poudre | C57: c | D57: 376 | E57: =D57/100*A57 -> 0.94 | H57: =IF(E57=0,A57,A57/E57*J57) -> 0.2126063 | I57: =B57 -> piment en poudre | J57: =E57*$M$18% -> 0.7993997
A58: 0.03 | B58: safran moulu | C58: d | D58: 352 | E58: =D58/100*A58 -> 0.1056 | H58: =IF(E58=0,A58,A58/E58*J58) -> 0.025512756 | I58: =B58 -> safran moulu | J58: =E58*$M$18% -> 0.089804902
A59: 50 | B59: courgettes | C59: a | D59: 19 | E59: =D59/100*A59 -> 9.5 | H59: =IF(E59=0,A59,A59/E59*J59) -> 42.521261 | I59: =B59 -> courgettes | J59: =E59*$M$18% -> 8.0790395
A60: 50 | B60: carottes | C60: a | D60: 30 | E60: =D60/100*A60 -> 15 | H60: =IF(E60=0,A60,A60/E60*J60) -> 42.521261 | I60: =B60 -> carottes | J60: =E60*$M$18% -> 12.756378
A61: 50 | B61: courge | C61: a | D61: 23 | E61: =D61/100*A61 -> 11.5 | H61: =IF(E61=0,A61,A61/E61*J61) -> 42.521261 | I61: =B61 -> courge | J61: =E61*$M$18% -> 9.7798899
A62: 50 | B62: patate douces | C62: a | D62: 86 | E62: =D62/100*A62 -> 43 | H62: =IF(E62=0,A62,A62/E62*J62) -> 42.521261 | I62: =B62 -> patate douces | J62: =E62*$M$18% -> 36.568284
A63: 50 | B63: navet | C63: a | D63: 20 | E63: =D63/100*A63 -> 10 | H63: =IF(E63=0,A63,A63/E63*J63) -> 42.521261 | I63: =B63 -> navet | J63: =E63*$M$18% -> 8.5042521
A64: 75 | B64: tomates | C64: a | D64: 19 | E64: =D64/100*A64 -> 14.25 | H64: =IF(E64=0,A64,A64/E64*J64) -> 63.781891 | I64: =B64 -> tomates | J64: =E64*$M$18% -> 12.118559
A65: =25/4 -> 6.25 | B65: coriandre | C65: a | D65: 22 | E65: =D65/100*A65 -> 1.375 | H65: =IF(E65=0,A65,A65/E65*J65) -> 5.3151576 | I65: =B65 -> coriandre | J65: =E65*$M$18% -> 1.1693347
A66: =15/4 -> 3.75 | B66: persil | C66: a | D66: 28 | E66: =D66/100*A66 -> 1.05 | H66: =IF(E66=0,A66,A66/E66*J66) -> 3.1890945 | I66: =B66 -> persil | J66: =E66*$M$18% -> 0.89294647
A67: 20 | B67: raisins secs | C67: e | D67: 298 | E67: =D67/100*A67 -> 59.6 | H67: =IF(E67=0,A67,A67/E67*J67) -> 17.008504 | I67: =B67 -> raisins secs | J67: =E67*$M$18% -> 50.685343
A68: 3 | B68: huile d'olive | C68: e | D68: 899 | E68: =D68/100*A68 -> 26.97 | H68: =IF(E68=0,A68,A68/E68*J68) -> 2.5512756 | I68: =B68 -> huile d'olive | J68: =E68*$M$18% -> 22.935968
A69: 100 | B69: semoule de couscous | C69: c | D69: 361 | E69: =D69/100*A69 -> 361 | H69: =IF(E69=0,A69,A69/E69*J69) -> 85.042521 | I69: =B69 -> semoule de couscous | J69: =E69*$M$18% -> 307.0035
A70: 100 | B70: pois chiches en boîte | C70: a | D70: 133 | E70: =D70/100*A70 -> 133 | H70: =IF(E70=0,A70,A70/E70*J70) -> 85.042521 | I70: =B70 -> pois chiches en boîte | J70: =E70*$M$18% -> 113.10655
A71: 1 | B71: sel | C71: e | E71: =D71/100*A71 -> 0 | H71: =IF(E71=0,A71,A71/E71*J71) -> 1 | I71: =B71 -> sel | J71: =E71*$M$18% -> 0
A72: 0.5 | B72: poivre | C72: b | D72: 222 | E72: =D72/100*A72 -> 1.11 | H72: =IF(E72=0,A72,A72/E72*J72) -> 0.42521261 | I72: =B72 -> poivre | J72: =E72*$M$18% -> 0.94397199
E73: TOTAL | F73: =SUM(E53:E72) -> 707.6356 | J73: TOTAL | K73: =SUM(J53:J72) -> 601.79116
A74: Poire au yogourt à la menthe
A75: 50 | B75: poires | C75: b | D75: 53 | E75: =D75/100*A75 -> 26.5 | H75: =IF(E75=0,A75,A75/E75*J75) -> 42.521261 | I75: =B75 -> poires | J75: =E75*$M$18% -> 22.536268
A76: =250/4 -> 62.5 | B76: yougourt nature | C76: a | D76: 46 | E76: =D76/100*A76 -> 28.75 | H76: =IF(E76=0,A76,A76/E76*J76) -> 53.151576 | I76: =B76 -> yougourt nature | J76: =E76*$M$18% -> 24.449725
A77: 9 | B77: sucre | C77: e | D77: 400 | E77: =D77/100*A77 -> 36 | H77: =IF(E77=0,A77,A77/E77*J77) -> 7.6538269 | I77: =B77 -> sucre | J77: =E77*$M$18% -> 30.615308
A78: 3 | B78: beurre | C78: e | D78: 747 | E78: =D78/100*A78 -> 22.41 | H78: =IF(E78=0,A78,A78/E78*J78) -> 2.5512756 | I78: =B78 -> beurre | J78: =E78*$M$18% -> 19.058029
A79: 2.5 | B79: menthe fraîche | C79: a | D79: 49 | E79: =D79/100*A79 -> 1.225 | H79: =IF(E79=0,A79,A79/E79*J79) -> 2.126063 | I79: =B79 -> menthe fraîche | J79: =E79*$M$18% -> 1.0417709
E80: TOTAL | F80: =SUM(E75:E79) -> 114.885 | J80: TOTAL | K80: =SUM(J75:J79) -> 97.701101
A81: =IF(D5="non",0,IF(D5="1 verre",125,250)) -> 0 | B81: =IF(A81=0,"","vin") | D81: 80 | E81: =D81/100*A81 -> 0 | H81: =IF(E81=0,A81,A81/E81*J81) -> 0 | I81: =B81 | J81: =E81*$M$18% -> 0
D83: TOTAL du jour | F83: =SUM(F22:F81) -> 1998.9106 | I83: TOTAL du jour | K83: =SUM(K22:K80) -> 1699.924
D84: avec vin | F84: =F83+E81 -> 1998.9106 | I84: avec vin | K84: =K83+J81 -> 1699.924
A86: >>>> | B86: RETOUR AU SOMMAIRE

Sheet jour_15
A1: JOURNEE 15 | I1: Couleur Pan Metron | J1: a
A3: Apport calorique du jour (sans alcool) | D3: =ROUND(F74,0) -> 1991 | E3: kcal/jour
A4: (cf. menus Pan Metron ci-dessous)
A5: Consommation de vin | C5: ^ | D5: non | E5: =IF(D5="non","",IF(D5=1,d!B22,d!B23))
A6: Activités supplémentaires | D6: 0 | E6: kcal/jour | G6: >>>> | H6: calculateur des dépenses énergétiques
A7: Mon objectif | D7: =jour_1!D7 -> 1700 | E7: kcal/jour | H7: sous www.bonasavoir.ch/panmetron
D8: =IF(D5="non","",d!A24)
B10: Pour atteindre votre objectif, en tenant compte de votre activité physique supplémentaire,
B11: vous pouvez absorber | D11: =D7+D6 -> 1700 | E11: kcal
B12: soit | D12: =ABS(M13) -> 291 | E12: kcal | F12: =IF(M13>0,d!A44,d!A45) -> de moins que les menus Pan Metron du jour
F13: =IF(D5="non","",d!A46) | M13: =D3+E72-D11 -> 291
B15: =IF(M13<-50,d!A48,IF(M13<0,d!A49,IF(M13=0,d!A50,IF(M13>50,d!A52,d!A51)))) -> Il faut donc agir:_x000D_> Vous pouvez augmenter encore votre activité physique._x000D_> Ou/et diminuer la quantité de certains ingrédients des recettes du jour dans la première colonne, jusqu'à atteindre votre objectif. Visez de préférence les aliments rouge et orange, de façon à ne pas prétériter l'équilibre nutritionnel de la journée._x000D_> Si cela ne suffit toujours pas à atteindre votre objectif, le programme adapte proportionnellement les quantités pour y parvenir, sauf celles des boissons non caloriques (eau, café, etc.)
A17: Menus Pan Metron du jour | H17: Personnalisation | M17: pondération (M18)
A18: g/cl | B18: Ingrédients | D18: kcal | H18: =A18 -> g/cl | I18: =B18 -> Ingrédients | J18: kcal | M18: =100-(D12/((D11+D12)/100)) -> 85.384229
D19: pr 100 g | E19: réels | J19: réels
A21: PETIT DEJEUNER CEREALES
A22: 50 | B22: céréales au miel | C22: c | D22: 382 | E22: =D22/100*A22 -> 191 | H22: =IF(E22=0,A22,A22/E22*J22) -> 42.692115 | I22: =B22 -> céréales au miel | J22: =E22*$M$18% -> 163.08388
A23: 150 | B23: café | D23: 0 | E23: =D23/100*A23 -> 0 | H23: =IF(E23=0,A23,A23/E23*J23) -> 150 | I23: =B23 -> café | J23: =E23*$M$18% -> 0
A24: 4 | B24: sucre | C24: e | D24: 400 | E24: =D24/100*A24 -> 16 | H24: =IF(E24=0,A24,A24/E24*J24) -> 3.4153692 | I24: =B24 -> sucre | J24: =E24*$M$18% -> 13.661477
A25: 12 | B25: crème à café | C25: c | D25: 161 | E25: =D25/100*A25 -> 19.32 | H25: =IF(E25=0,A25,A25/E25*J25) -> 10.246107 | I25: =B25 -> crème à café | J25: =E25*$M$18% -> 16.496233
A26: 125 | B26: yogourt aux fruits | C26: b | D26: 87 | E26: =D26/100*A26 -> 108.75 | H26: =IF(E26=0,A26,A26/E26*J26) -> 106.73029 | I26: =B26 -> yogourt aux fruits | J26: =E26*$M$18% -> 92.855349
A27: 150 | B27: jus d'orange maison | C27: b | D27: 45 | E27: =D27/100*A27 -> 67.5 | H27: =IF(E27=0,A27,A27/E27*J27) -> 128.07634 | I27: =B27 -> jus d'orange maison | J27: =E27*$M$18% -> 57.634355
E28: TOTAL | F28: =SUM(E22:E27) -> 402.57 | J28: TOTAL | K28: =SUM(J22:J27) -> 343.73129
A29: MIDI
A30: Tarte aux légumes et au jambon sec
A31: 30 | B31: asperges | C31: a | D31: 27 | E31: =D31/100*A31 -> 8.1 | H31: =IF(E31=0,A31,A31/E31*J31) -> 25.615269 | I31: =B31 -> asperges | J31: =E31*$M$18% -> 6.9161226
A32: 25 | B32: poireaux | C32: a | D32: 30 | E32: =D32/100*A32 -> 7.5 | H32: =IF(E32=0,A32,A32/E32*J32) -> 21.346057 | I32: =B32 -> poireaux | J32: =E32*$M$18% -> 6.4038172
A33: 25 | B33: carottes | C33: a | D33: 30 | E33: =D33/100*A33 -> 7.5 | H33: =IF(E33=0,A33,A33/E33*J33) -> 21.346057 | I33: =B33 -> carottes | J33: =E33*$M$18% -> 6.4038172
A34: 25 | B34: courgette | C34: a | D34: 19 | E34: =D34/100*A34 -> 4.75 | H34: =IF(E34=0,A34,A34/E34*J34) -> 21.346057 | I34: =B34 -> courgette | J34: =E34*$M$18% -> 4.0557509
A35: 62.5 | B35: pâte feuilletée abaissée | C35: e | D35: 384 | E35: =D35/100*A35 -> 240 | H35: =IF(E35=0,A35,A35/E35*J35) -> 53.365143 | I35: =B35 -> pâte feuilletée abaissée | J35: =E35*$M$18% -> 204.92215
A36: 30 | B36: œufs | C36: a | D36: 146 | E36: =D36/100*A36 -> 43.8 | H36: =IF(E36=0,A36,A36/E36*J36) -> 25.615269 | I36: =B36 -> œufs | J36: =E36*$M$18% -> 37.398292
A37: 50 | B37: crème | C37: e | D37: 252 | E37: =D37/100*A37 -> 126 | H37: =IF(E37=0,A37,A37/E37*J37) -> 42.692115 | I37: =B37 -> crème | J37: =E37*$M$18% -> 107.58413
A38: =150/4 -> 37.5 | B38: fromage râpé | C38: d | D38: 396 | E38: =D38/100*A38 -> 148.5 | H38: =IF(E38=0,A38,A38/E38*J38) -> 32.019086 | I38: =B38 -> fromage râpé | J38: =E38*$M$18% -> 126.79558
A39: 50 | B39: jambon cru | C39: d | D39: 229 | E39: =D39/100*A39 -> 114.5 | H39: =IF(E39=0,A39,A39/E39*J39) -> 42.692115 | I39: =B39 -> jambon cru | J39: =E39*$M$18% -> 97.764942
A40: 1 | B40: sel | C40: e | D40: 0 | E40: =D40/100*A40 -> 0 | H40: =IF(E40=0,A40,A40/E40*J40) -> 1 | I40: =B40 -> sel | J40: =E40*$M$18% -> 0
A41: 0.5 | B41: poivre | C41: b | D41: 222 | E41: =D41/100*A41 -> 1.11 | H41: =IF(E41=0,A41,A41/E41*J41) -> 0.42692115 | I41: =B41 -> poivre | J41: =E41*$M$18% -> 0.94776494
A42: En guise de dessert
A43: 150 | B43: orange | C43: b | D43: 53 | E43: =D43/100*A43 -> 79.5 | H43: =IF(E43=0,A43,A43/E43*J43) -> 128.07634 | I43: =B43 -> orange | J43: =E43*$M$18% -> 67.880462
E44: TOTAL | F44: =SUM(E31:E43) -> 781.26 | J44: TOTAL | K44: =SUM(J31:J43) -> 667.07283
A46: QUATRE HEURES
A47: 100 | B47: petit-suisse | C47: a | D47: 112 | E47: =D47/100*A47 -> 112 | H47: =IF(E47=0,A47,A47/E47*J47) -> 85.384229 | I47: =B47 -> petit-suisse | J47: =E47*$M$18% -> 95.630337
A48: 12 | B48: sucre | C48: e | D48: 400 | E48: =D48/100*A48 -> 48 | H48: =IF(E48=0,A48,A48/E48*J48) -> 10.246107 | I48: =B48 -> sucre | J48: =E48*$M$18% -> 40.98443
E49: TOTAL | F49: =SUM(E47:E48) -> 160 | J49: TOTAL | K49: =SUM(J47:J48) -> 136.61477
A50: SOIR
A51: Filet de cabillaud à la tapenade, pâtes au basilic
A52: 5 | B52: basilic | C52: a | D52: 27 | E52: =D52/100*A52 -> 1.35 | H52: =IF(E52=0,A52,A52/E52*J52) -> 4.2692115 | I52: =B52 -> basilic | J52: =E52*$M$18% -> 1.1526871
A53: =18/4 -> 4.5 | B53: aïl | C53: a | D53: 131 | E53: =D53/100*A53 -> 5.895 | H53: =IF(E53=0,A53,A53/E53*J53) -> 3.8422903 | I53: =B53 -> aïl | J53: =E53*$M$18% -> 5.0334003 | N53: #a
A54: 150 | B54: filets cabillaud | C54: a | D54: 78 | E54: =D54/100*A54 -> 117 | H54: =IF(E54=0,A54,A54/E54*J54) -> 128.07634 | I54: =B54 -> filets cabillaud | J54: =E54*$M$18% -> 99.899548 | N54: #b
A55: 4 | B55: tapenade en bocal | C55: d | D55: 230 | E55: =D55/100*A55 -> 9.2 | H55: =IF(E55=0,A55,A55/E55*J55) -> 3.4153692 | I55: =B55 -> tapenade en bocal | J55: =E55*$M$18% -> 7.8553491 | N55: #c
A56: 3 | B56: huile d'olive | C56: e | D56: 899 | E56: =D56/100*A56 -> 26.97 | H56: =IF(E56=0,A56,A56/E56*J56) -> 2.5615269 | I56: =B56 -> huile d'olive | J56: =E56*$M$18% -> 23.028127 | N56: #d
A57: 100 | B57: penne | C57: b | D57: 116 | E57: =D57/100*A57 -> 116 | H57: =IF(E57=0,A57,A57/E57*J57) -> 85.384229 | I57: =B57 -> penne | J57: =E57*$M$18% -> 99.045706 | N57: #e
A58: 100 | B58: carottes | C58: a | D58: 30 | E58: =D58/100*A58 -> 30 | H58: =IF(E58=0,A58,A58/E58*J58) -> 85.384229 | I58: =B58 -> carottes | J58: =E58*$M$18% -> 25.615269
A59: =125/4 -> 31.25 | B59: feta de brebis | C59: d | D59: 264 | E59: =D59/100*A59 -> 82.5 | H59: =IF(E59=0,A59,A59/E59*J59) -> 26.682572 | I59: =B59 -> feta de brebis | J59: =E59*$M$18% -> 70.441989
A60: 12 | B60: sauce à salade française | C60: e | D60: 446 | E60: =D60/100*A60 -> 53.52 | H60: =IF(E60=0,A60,A60/E60*J60) -> 10.246107 | I60: =B60 -> sauce à salade française | J60: =E60*$M$18% -> 45.697639
A61: 0.5 | B61: sel | C61: e | E61: =D61/100*A61 -> 0 | H61: =IF(E61=0,A61,A61/E61*J61) -> 0.5 | I61: =B61 -> sel | J61: =E61*$M$18% -> 0
E62: TOTAL | F62: =SUM(E52:E61) -> 442.435 | J62: TOTAL | K62: =SUM(J52:J61) -> 377.76971
A63: Salade de fruits
A64: 75 | B64: pomme | C64: b | D64: 55 | E64: =D64/100*A64 -> 41.25 | H64: =IF(E64=0,A64,A64/E64*J64) -> 64.038172 | I64: =B64 -> pomme | J64: =E64*$M$18% -> 35.220994
A65: 125 | B65: ananas | C65: a | D65: 49 | E65: =D65/100*A65 -> 61.25 | H65: =IF(E65=0,A65,A65/E65*J65) -> 106.73029 | I65: =B65 -> ananas | J65: =E65*$M$18% -> 52.29784
A66: 65 | B66: banane | C66: a | D66: 91 | E66: =D66/100*A66 -> 59.15 | H66: =IF(E66=0,A66,A66/E66*J66) -> 55.499749 | I66: =B66 -> banane | J66: =E66*$M$18% -> 50.504771
A67: 37.5 | B67: kiwi | C67: a | D67: 49 | E67: =D67/100*A67 -> 18.375 | H67: =IF(E67=0,A67,A67/E67*J67) -> 32.019086 | I67: =B67 -> kiwi | J67: =E67*$M$18% -> 15.689352
A68: 22 | B68: litchi | C68: b | D68: 64 | E68: =D68/100*A68 -> 14.08 | H68: =IF(E68=0,A68,A68/E68*J68) -> 18.78453 | I68: =B68 -> litchi | J68: =E68*$M$18% -> 12.022099
A69: 12 | B69: jus citron | C69: a | D69: 17 | E69: =D69/100*A69 -> 2.04 | H69: =IF(E69=0,A69,A69/E69*J69) -> 10.246107 | I69: =B69 -> jus citron | J69: =E69*$M$18% -> 1.7418383
A70: 3 | B70: raisins secs sultanine | C70: e | D70: 298 | E70: =D70/100*A70 -> 8.94 | H70: =IF(E70=0,A70,A70/E70*J70) -> 2.5615269 | I70: =B70 -> raisins secs sultanine | J70: =E70*$M$18% -> 7.6333501
E71: TOTAL | F71: =SUM(E64:E70) -> 205.085 | J71: TOTAL | K71: =SUM(J64:J70) -> 175.11025
A72: =IF(D5="non",0,IF(D5="1 verre",125,250)) -> 0 | B72: =IF(A72=0,"","vin") | D72: 80 | E72: =D72/100*A72 -> 0 | H72: =IF(E72=0,A72,A72/E72*J72) -> 0 | I72: =B72 | J72: =E72*$M$18% -> 0
D74: TOTAL du jour | F74: =SUM(F22:F72) -> 1991.35 | I74: TOTAL du jour | K74: =SUM(K22:K72) -> 1700.2988
D75: avec vin | F75: =F74+E72 -> 1991.35 | I75: avec vin | K75: =K74+J72 -> 1700.2988
A77: >>>> | B77: RETOUR AU SOMMAIRE

Sheet jour_16
A1: JOURNEE 16 | I1: Couleur Pan Metron | J1: a
A3: Apport calorique du jour (sans alcool) | D3: =ROUND(F78,0) -> 1995 | E3: kcal/jour
A4: (cf. menus Pan Metron ci-dessous)
A5: Consommation de vin | C5: ^ | D5: non | E5: =IF(D5="non","",IF(D5=1,d!B22,d!B23))
A6: Activités supplémentaires | D6: 0 | E6: kcal/jour | G6: >>>> | H6: calculateur des dépenses énergétiques
A7: Mon objectif | D7: =jour_1!D7 -> 1700 | E7: kcal/jour | H7: sous www.bonasavoir.ch/panmetron
D8: =IF(D5="non","",d!A24)
B10: Pour atteindre votre objectif, en tenant compte de votre activité physique supplémentaire,
B11: vous pouvez absorber | D11: =D7+D6 -> 1700 | E11: kcal
B12: soit | D12: =ABS(M13) -> 295 | E12: kcal | F12: =IF(M13>0,d!A44,d!A45) -> de moins que les menus Pan Metron du jour
F13: =IF(D5="non","",d!A46) | M13: =D3+E76-D11 -> 295
B15: =IF(M13<-50,d!A48,IF(M13<0,d!A49,IF(M13=0,d!A50,IF(M13>50,d!A52,d!A51)))) -> Il faut donc agir:_x000D_> Vous pouvez augmenter encore votre activité physique._x000D_> Ou/et diminuer la quantité de certains ingrédients des recettes du jour dans la première colonne, jusqu'à atteindre votre objectif. Visez de préférence les aliments rouge et orange, de façon à ne pas prétériter l'équilibre nutritionnel de la journée._x000D_> Si cela ne suffit toujours pas à atteindre votre objectif, le programme adapte proportionnellement les quantités pour y parvenir, sauf celles des boissons non caloriques (eau, café, etc.)
A17: Menus Pan Metron du jour | H17: Personnalisation | M17: pondération (M18)
A18: g/cl | B18: Ingrédients | D18: kcal | H18: =A18 -> g/cl | I18: =B18 -> Ingrédients | J18: kcal | M18: =100-(D12/((D11+D12)/100)) -> 85.213033
D19: pr 100 g | E19: réels | J19: réels
A21: PETIT DEJEUNER CLASSIQUE
A22: 30 | B22: pain complet | C22: c | D22: 229 | E22: =D22/100*A22 -> 68.7 | H22: =IF(E22=0,A22,A22/E22*J22) -> 25.56391 | I22: =B22 -> pain complet | J22: =E22*$M$18% -> 58.541353
A23: 5 | B23: beurre | C23: e | D23: 747.3 | E23: =D23/100*A23 -> 37.365 | H23: =IF(E23=0,A23,A23/E23*J23) -> 4.2606516 | I23: =B23 -> beurre | J23: =E23*$M$18% -> 31.83985
A24: 10 | B24: confiture | C24: e | D24: 246 | E24: =D24/100*A24 -> 24.6 | H24: =IF(E24=0,A24,A24/E24*J24) -> 8.5213033 | I24: =B24 -> confiture | J24: =E24*$M$18% -> 20.962406
A25: 150 | B25: café | D25: 0 | E25: =D25/100*A25 -> 0 | H25: =IF(E25=0,A25,A25/E25*J25) -> 150 | I25: =B25 -> café | J25: =E25*$M$18% -> 0
A26: 4 | B26: sucre | C26: e | D26: 400 | E26: =D26/100*A26 -> 16 | H26: =IF(E26=0,A26,A26/E26*J26) -> 3.4085213 | I26: =B26 -> sucre | J26: =E26*$M$18% -> 13.634085
A27: 12 | B27: crème à café | C27: c | D27: 161 | E27: =D27/100*A27 -> 19.32 | H27: =IF(E27=0,A27,A27/E27*J27) -> 10.225564 | I27: =B27 -> crème à café | J27: =E27*$M$18% -> 16.463158
A28: 125 | B28: yogourt aux fruits | C28: b | D28: 87 | E28: =D28/100*A28 -> 108.75 | H28: =IF(E28=0,A28,A28/E28*J28) -> 106.51629 | I28: =B28 -> yogourt aux fruits | J28: =E28*$M$18% -> 92.669173
A29: 150 | B29: jus d'orange maison | C29: b | D29: 45 | E29: =D29/100*A29 -> 67.5 | H29: =IF(E29=0,A29,A29/E29*J29) -> 127.81955 | I29: =B29 -> jus d'orange maison | J29: =E29*$M$18% -> 57.518797
E30: TOTAL | F30: =SUM(E22:E29) -> 342.235 | J30: TOTAL | K30: =SUM(J22:J29) -> 291.62882
A31: MIDI
A32: Galettes de pommes de terre au Gruyères
A33: 200 | B33: pommes de terre | C33: a | D33: 76 | E33: =D33/100*A33 -> 152 | H33: =IF(E33=0,A33,A33/E33*J33) -> 170.42607 | I33: =B33 -> pommes de terre | J33: =E33*$M$18% -> 129.52381
A34: =180/4 -> 45 | B34: œufs | C34: a | D34: 146 | E34: =D34/100*A34 -> 65.7 | H34: =IF(E34=0,A34,A34/E34*J34) -> 38.345865 | I34: =B34 -> œufs | J34: =E34*$M$18% -> 55.984962
A35: 12 | B35: crème | C35: e | D35: 252 | E35: =D35/100*A35 -> 30.24 | H35: =IF(E35=0,A35,A35/E35*J35) -> 10.225564 | I35: =B35 -> crème | J35: =E35*$M$18% -> 25.768421
A36: 15 | B36: chapelure | C36: e | D36: 370 | E36: =D36/100*A36 -> 55.5 | H36: =IF(E36=0,A36,A36/E36*J36) -> 12.781955 | I36: =B36 -> chapelure | J36: =E36*$M$18% -> 47.293233
A37: 9 | B37: fines herbes | C37: a | D37: 25 | E37: =D37/100*A37 -> 2.25 | H37: =IF(E37=0,A37,A37/E37*J37) -> 7.6691729 | I37: =B37 -> fines herbes | J37: =E37*$M$18% -> 1.9172932
A38: 75 | B38: tomates | C38: a | D38: 19 | E38: =D38/100*A38 -> 14.25 | H38: =IF(E38=0,A38,A38/E38*J38) -> 63.909774 | I38: =B38 -> tomates | J38: =E38*$M$18% -> 12.142857
A39: =150/4 -> 37.5 | B39: Gruyères | C39: d | D39: 422 | E39: =D39/100*A39 -> 158.25 | H39: =IF(E39=0,A39,A39/E39*J39) -> 31.954887 | I39: =B39 -> Gruyères | J39: =E39*$M$18% -> 134.84962
A40: 50 | B40: rampon | C40: a | D40: 20 | E40: =D40/100*A40 -> 10 | H40: =IF(E40=0,A40,A40/E40*J40) -> 42.606516 | I40: =B40 -> rampon | J40: =E40*$M$18% -> 8.5213033
A41: 12 | B41: sauce à salade yogourt | C41: b | D41: 68 | E41: =D41/100*A41 -> 8.16 | H41: =IF(E41=0,A41,A41/E41*J41) -> 10.225564 | I41: =B41 -> sauce à salade yogourt | J41: =E41*$M$18% -> 6.9533835
A42: 0.25 | B42: paprika | C42: c | D42: 319 | E42: =D42/100*A42 -> 0.7975 | H42: =IF(E42=0,A42,A42/E42*J42) -> 0.21303258 | I42: =B42 -> paprika | J42: =E42*$M$18% -> 0.67957393
A43: 0.5 | B43: sel | C43: e | D43: 0 | E43: =D43/100*A43 -> 0 | H43: =IF(E43=0,A43,A43/E43*J43) -> 0.5 | I43: =B43 -> sel | J43: =E43*$M$18% -> 0
A44: 0.25 | B44: poivre | C44: b | D44: 222 | E44: =D44/100*A44 -> 0.555 | H44: =IF(E44=0,A44,A44/E44*J44) -> 0.21303258 | I44: =B44 -> poivre | J44: =E44*$M$18% -> 0.47293233
A45: En guise de dessert
A46: 120 | B46: pêche | C46: a | D46: 43 | E46: =D46/100*A46 -> 51.6 | H46: =IF(E46=0,A46,A46/E46*J46) -> 102.25564 | I46: =B46 -> pêche | J46: =E46*$M$18% -> 43.969925
E47: TOTAL | F47: =SUM(E33:E46) -> 549.3025 | J47: TOTAL | K47: =SUM(J33:J46) -> 468.07732
A49: QUATRE HEURES
A50: 100 | B50: banane | C50: b | D50: 91 | E50: =D50/100*A50 -> 91 | H50: =IF(E50=0,A50,A50/E50*J50) -> 85.213033 | I50: =B50 -> banane | J50: =E50*$M$18% -> 77.54386
E51: TOTAL | F51: =SUM(E50:E50) -> 91 | J51: TOTAL | K51: =SUM(J50:J50) -> 77.54386
A52: SOIR
A53: Filet d'agneau aux épices et son chou frisé
A54: 150 | B54: filets d’agneau | C54: a | D54: 112 | E54: =D54/100*A54 -> 168 | H54: =IF(E54=0,A54,A54/E54*J54) -> 127.81955 | I54: =B54 -> filets d’agneau | J54: =E54*$M$18% -> 143.15789
A55: 6 | B55: huile d’arachide | C55: e | D55: 899 | E55: =D55/100*A55 -> 53.94 | H55: =IF(E55=0,A55,A55/E55*J55) -> 5.112782 | I55: =B55 -> huile d’arachide | J55: =E55*$M$18% -> 45.96391
A56: 0.25 | B56: coriandre moulue | E56: =D56/100*A56 -> 0 | H56: =IF(E56=0,A56,A56/E56*J56) -> 0.25 | I56: =B56 -> coriandre moulue | J56: =E56*$M$18% -> 0
A57: 0.12 | B57: noix de muscade moulue | C57: e | D57: 507 | E57: =D57/100*A57 -> 0.6084 | H57: =IF(E57=0,A57,A57/E57*J57) -> 0.10225564 | I57: =B57 -> noix de muscade moulue | J57: =E57*$M$18% -> 0.51843609
A58: 125 | B58: chou frisé | C58: a | D58: 31 | E58: =D58/100*A58 -> 38.75 | H58: =IF(E58=0,A58,A58/E58*J58) -> 106.51629 | I58: =B58 -> chou frisé | J58: =E58*$M$18% -> 33.02005
A59: 25 | B59: oignon | C59: a | D59: 29 | E59: =D59/100*A59 -> 7.25 | H59: =IF(E59=0,A59,A59/E59*J59) -> 21.303258 | I59: =B59 -> oignon | J59: =E59*$M$18% -> 6.1779449
A60: =6.25 -> 6.25 | B60: menthe fraîche | C60: a | D60: 49 | E60: =D60/100*A60 -> 3.0625 | H60: =IF(E60=0,A60,A60/E60*J60) -> 5.3258145 | I60: =B60 -> menthe fraîche | J60: =E60*$M$18% -> 2.6096491
A61: 3 | B61: crème | C61: e | D61: 252 | E61: =D61/100*A61 -> 7.56 | H61: =IF(E61=0,A61,A61/E61*J61) -> 2.556391 | I61: =B61 -> crème | J61: =E61*$M$18% -> 6.4421053
A62: =(250/4)*3 -> 187.5 | B62: quinoa (cuit) | C62: a | D62: 116 | E62: =D62/100*A62 -> 217.5 | H62: =IF(E62=0,A62,A62/E62*J62) -> 159.77444 | I62: =B62 -> quinoa (cuit) | J62: =E62*$M$18% -> 185.33835
A63: 3 | B63: beurre | C63: e | D63: 757 | E63: =D63/100*A63 -> 22.71 | H63: =IF(E63=0,A63,A63/E63*J63) -> 2.556391 | I63: =B63 -> beurre | J63: =E63*$M$18% -> 19.35188
A64: 1 | B64: sel | C64: e | D64: 0 | E64: =D64/100*A64 -> 0 | H64: =IF(E64=0,A64,A64/E64*J64) -> 1 | I64: =B64 -> sel | J64: =E64*$M$18% -> 0
A65: 0.25 | B65: poivre | C65: b | E65: =D65/100*A65 -> 0 | H65: =IF(E65=0,A65,A65/E65*J65) -> 0.25 | I65: =B65 -> poivre | J65: =E65*$M$18% -> 0
E66: TOTAL | F66: =SUM(E54:E65) -> 519.3809 | J66: TOTAL | K66: =SUM(J54:J65) -> 442.58022
A67: Mousse au citron sur genoise
A68: 60 | B68: œufs | C68: a | D68: 146 | E68: =D68/100*A68 -> 87.6 | H68: =IF(E68=0,A68,A68/E68*J68) -> 51.12782 | I68: =B68 -> œufs | J68: =E68*$M$18% -> 74.646617
A69: =130/4 -> 32.5 | B69: sucre | C69: e | D69: 400 | E69: =D69/100*A69 -> 130 | H69: =IF(E69=0,A69,A69/E69*J69) -> 27.694236 | I69: =B69 -> sucre | J69: =E69*$M$18% -> 110.77694
A70: =70/4 -> 17.5 | B70: farine | C70: c | D70: 338 | E70: =D70/100*A70 -> 59.15 | H70: =IF(E70=0,A70,A70/E70*J70) -> 14.912281 | I70: =B70 -> farine | J70: =E70*$M$18% -> 50.403509
A71: 1 | B71: beurre | C71: e | D71: 747 | E71: =D71/100*A71 -> 7.47 | H71: =IF(E71=0,A71,A71/E71*J71) -> 0.85213033 | I71: =B71 -> beurre | J71: =E71*$M$18% -> 6.3654135
A72: =28/4 -> 7 | B72: citron | C72: a | D72: 17 | E72: =D72/100*A72 -> 1.19 | H72: =IF(E72=0,A72,A72/E72*J72) -> 5.9649123 | I72: =B72 -> citron | J72: =E72*$M$18% -> 1.0140351
A73: =150/4 -> 37.5 | B73: mascarpone | C73: e | D73: 385 | E73: =D73/100*A73 -> 144.375 | H73: =IF(E73=0,A73,A73/E73*J73) -> 31.954887 | I73: =B73 -> mascarpone | J73: =E73*$M$18% -> 123.02632
A74: 25 | B74: crème | C74: e | D74: 252 | E74: =D74/100*A74 -> 63 | H74: =IF(E74=0,A74,A74/E74*J74) -> 21.303258 | I74: =B74 -> crème | J74: =E74*$M$18% -> 53.684211
E75: TOTAL | F75: =SUM(E68:E74) -> 492.785 | J75: TOTAL | K75: =SUM(J68:J74) -> 419.91704
A76: =IF(D5="non",0,IF(D5="1 verre",125,250)) -> 0 | B76: =IF(A76=0,"","vin") | D76: 80 | E76: =D76/100*A76 -> 0 | H76: =IF(E76=0,A76,A76/E76*J76) -> 0 | I76: =B76 | J76: =E76*$M$18% -> 0
D78: TOTAL du jour | F78: =SUM(F24:F76) -> 1994.7034 | I78: TOTAL du jour | K78: =SUM(K22:K76) -> 1699.7473
D79: avec vin | F79: =F78+E76 -> 1994.7034 | I79: avec vin | K79: =K78+J76 -> 1699.7473
A81: >>>> | B81: RETOUR AU SOMMAIRE

Sheet jour_17
A1: JOURNEE 17 | I1: Couleur Pan Metron | J1: b
A3: Apport calorique du jour (sans alcool) | D3: =ROUND(F79,0) -> 2000 | E3: kcal/jour
A4: (cf. menus Pan Metron ci-dessous)
A5: Consommation de vin | C5: ^ | D5: non | E5: =IF(D5="non","",IF(D5=1,d!B22,d!B23))
A6: Activités supplémentaires | D6: 0 | E6: kcal/jour | G6: >>>> | H6: calculateur des dépenses énergétiques
A7: Mon objectif | D7: =jour_1!D7 -> 1700 | E7: kcal/jour | H7: sous www.bonasavoir.ch/panmetron
D8: =IF(D5="non","",d!A24)
B10: Pour atteindre votre objectif, en tenant compte de votre activité physique supplémentaire,
B11: vous pouvez absorber | D11: =D7+D6 -> 1700 | E11: kcal
B12: soit | D12: =ABS(M13) -> 300 | E12: kcal | F12: =IF(M13>0,d!A44,d!A45) -> de moins que les menus Pan Metron du jour
F13: =IF(D5="non","",d!A46) | M13: =D3+E77-D11 -> 300
B15: =IF(M13<-50,d!A48,IF(M13<0,d!A49,IF(M13=0,d!A50,IF(M13>50,d!A52,d!A51)))) -> Il faut donc agir:_x000D_> Vous pouvez augmenter encore votre activité physique._x000D_> Ou/et diminuer la quantité de certains ingrédients des recettes du jour dans la première colonne, jusqu'à atteindre votre objectif. Visez de préférence les aliments rouge et orange, de façon à ne pas prétériter l'équilibre nutritionnel de la journée._x000D_> Si cela ne suffit toujours pas à atteindre votre objectif, le programme adapte proportionnellement les quantités pour y parvenir, sauf celles des boissons non caloriques (eau, café, etc.)
A17: Menus Pan Metron du jour | H17: Personnalisation | M17: pondération (M18)
A18: g/cl | B18: Ingrédients | D18: kcal | H18: =A18 -> g/cl | I18: =B18 -> Ingrédients | J18: kcal | M18: =100-(D12/((D11+D12)/100)) -> 85
D19: pr 100 g | E19: réels | J19: réels
A21: PETIT DEJEUNER AVEC ŒUF
A22: 60 | B22: œuf à la coque | C22: a | D22: 134 | E22: =D22/100*A22 -> 80.4 | H22: =IF(E22=0,A22,A22/E22*J22) -> 51 | I22: =B22 -> œuf à la coque | J22: =E22*$M$18% -> 68.34
A23: 0.5 | B23: sel | C23: e | D23: 0 | E23: =D23/100*A23 -> 0 | H23: =IF(E23=0,A23,A23/E23*J23) -> 0.5 | I23: =B23 -> sel | J23: =E23*$M$18% -> 0
A24: 40 | B24: pain complet | C24: c | D24: 229 | E24: =D24/100*A24 -> 91.6 | H24: =IF(E24=0,A24,A24/E24*J24) -> 34 | I24: =B24 -> pain complet | J24: =E24*$M$18% -> 77.86
A25: 125 | B25: fromage blanc 20% | C25: a | D25: 71 | E25: =D25/100*A25 -> 88.75 | H25: =IF(E25=0,A25,A25/E25*J25) -> 106.25 | I25: =B25 -> fromage blanc 20% | J25: =E25*$M$18% -> 75.4375
A26: 100 | B26: salade de fruits frais | C26: b | D26: 67 | E26: =D26/100*A26 -> 67 | H26: =IF(E26=0,A26,A26/E26*J26) -> 85 | I26: =B26 -> salade de fruits frais | J26: =E26*$M$18% -> 56.95
A27: 150 | B27: thé | D27: 0 | E27: =D27/100*A27 -> 0 | H27: =IF(E27=0,A27,A27/E27*J27) -> 150 | I27: =B27 -> thé | J27: =E27*$M$18% -> 0
A28: 12 | B28: sucre | C28: e | D28: 400 | E28: =D28/100*A28 -> 48 | H28: =IF(E28=0,A28,A28/E28*J28) -> 10.2 | I28: =B28 -> sucre | J28: =E28*$M$18% -> 40.8
E29: TOTAL | F29: =SUM(E22:E28) -> 375.75 | J29: TOTAL | K29: =SUM(J22:J28) -> 319.3875
A30: MIDI
A31: Riz en salade à l'italienne
A32: 250 | B32: bouillon de volaille | C32: a | D32: 6 | E32: =D32/100*A32 -> 15 | H32: =IF(E32=0,A32,A32/E32*J32) -> 212.5 | I32: =B32 -> bouillon de volaille | J32: =E32*$M$18% -> 12.75
A33: 30 | B33: oignons | C33: a | D33: 29 | E33: =D33/100*A33 -> 8.7 | H33: =IF(E33=0,A33,A33/E33*J33) -> 25.5 | I33: =B33 -> oignons | J33: =E33*$M$18% -> 7.395
A34: 75 | B34: riz | C34: c | D34: 349 | E34: =D34/100*A34 -> 261.75 | H34: =IF(E34=0,A34,A34/E34*J34) -> 63.75 | I34: =B34 -> riz | J34: =E34*$M$18% -> 222.4875
A35: 100 | B35: cœur de céleri-branche | C35: a | D35: 17 | E35: =D35/100*A35 -> 17 | H35: =IF(E35=0,A35,A35/E35*J35) -> 85 | I35: =B35 -> cœur de céleri-branche | J35: =E35*$M$18% -> 14.45
A36: =150/4 -> 37.5 | B36: poivron vert | C36: a | D36: 20 | E36: =D36/100*A36 -> 7.5 | H36: =IF(E36=0,A36,A36/E36*J36) -> 31.875 | I36: =B36 -> poivron vert | J36: =E36*$M$18% -> 6.375
A37: =540/8 -> 67.5 | B37: melon | C37: a | D37: 37 | E37: =D37/100*A37 -> 24.975 | H37: =IF(E37=0,A37,A37/E37*J37) -> 57.375 | I37: =B37 -> melon | J37: =E37*$M$18% -> 21.22875
A38: 6 | B38: huile de colza | C38: c | D38: 899 | E38: =D38/100*A38 -> 53.94 | H38: =IF(E38=0,A38,A38/E38*J38) -> 5.1 | I38: =B38 -> huile de colza | J38: =E38*$M$18% -> 45.849
A39: 6 | B39: vinaigre | C39: b | D39: 22 | E39: =D39/100*A39 -> 1.32 | H39: =IF(E39=0,A39,A39/E39*J39) -> 5.1 | I39: =B39 -> vinaigre | J39: =E39*$M$18% -> 1.122
A40: 75 | B40: jambon de Parme | C40: e | D40: 248 | E40: =D40/100*A40 -> 186 | H40: =IF(E40=0,A40,A40/E40*J40) -> 63.75 | I40: =B40 -> jambon de Parme | J40: =E40*$M$18% -> 158.1
A41: 0.5 | B41: sel | C41: e | D41: 0 | E41: =D41/100*A41 -> 0 | H41: =IF(E41=0,A41,A41/E41*J41) -> 0.5 | I41: =B41 -> sel | J41: =E41*$M$18% -> 0
A42: 0.25 | B42: poivre | C42: b | D42: 222 | E42: =D42/100*A42 -> 0.555 | H42: =IF(E42=0,A42,A42/E42*J42) -> 0.2125 | I42: =B42 -> poivre | J42: =E42*$M$18% -> 0.47175
A43: En guise de dessert
A44: 80 | B44: 2 boules de glace | C44: d | D44: 203 | E44: =D44/100*A44 -> 162.4 | H44: =IF(E44=0,A44,A44/E44*J44) -> 68 | I44: =B44 -> 2 boules de glace | J44: =E44*$M$18% -> 138.04
E45: TOTAL | F45: =SUM(E32:E44) -> 739.14 | J45: TOTAL | K45: =SUM(J32:J44) -> 628.269
A47: QUATRE HEURES
A48: 150 | B48: pomme | C48: b | D48: 55 | E48: =D48/100*A48 -> 82.5 | H48: =IF(E48=0,A48,A48/E48*J48) -> 127.5 | I48: =B48 -> pomme | J48: =E48*$M$18% -> 70.125
A49: 10 | B49: chocolat noir | C49: e | D49: 519 | E49: =D49/100*A49 -> 51.9 | H49: =IF(E49=0,A49,A49/E49*J49) -> 8.5 | I49: =B49 -> chocolat noir | J49: =E49*$M$18% -> 44.115
E50: TOTAL | F50: =SUM(E48:E49) -> 134.4 | J50: TOTAL | K50: =SUM(J48:J49) -> 114.24
A51: SOIR
A52: Spaghetti à la mode d'Ascona
A53: 100 | B53: blanc de poulet | C53: a | D53: 108 | E53: =D53/100*A53 -> 108 | H53: =IF(E53=0,A53,A53/E53*J53) -> 85 | I53: =B53 -> blanc de poulet | J53: =E53*$M$18% -> 91.8
A54: 4.5 | B54: beurre | C54: e | D54: 747 | E54: =D54/100*A54 -> 33.615 | H54: =IF(E54=0,A54,A54/E54*J54) -> 3.825 | I54: =B54 -> beurre | J54: =E54*$M$18% -> 28.57275
A55: 15 | B55: oignon | C55: a | D55: 29 | E55: =D55/100*A55 -> 4.35 | H55: =IF(E55=0,A55,A55/E55*J55) -> 12.75 | I55: =B55 -> oignon | J55: =E55*$M$18% -> 3.6975
A56: =280/4 -> 70 | B56: tomates en boîte | C56: a | D56: 19 | E56: =D56/100*A56 -> 13.3 | H56: =IF(E56=0,A56,A56/E56*J56) -> 59.5 | I56: =B56 -> tomates en boîte | J56: =E56*$M$18% -> 11.305
A57: 25 | B57: champignons de Paris | C57: a | D57: 25 | E57: =D57/100*A57 -> 6.25 | H57: =IF(E57=0,A57,A57/E57*J57) -> 21.25 | I57: =B57 -> champignons de Paris | J57: =E57*$M$18% -> 5.3125
A58: 1.5 | B58: aïl | C58: a | D58: 131 | E58: =D58/100*A58 -> 1.965 | H58: =IF(E58=0,A58,A58/E58*J58) -> 1.275 | I58: =B58 -> aïl | J58: =E58*$M$18% -> 1.67025
A59: 1 | B59: sel | C59: e | D59: 0 | E59: =D59/100*A59 -> 0 | H59: =IF(E59=0,A59,A59/E59*J59) -> 1 | I59: =B59 -> sel | J59: =E59*$M$18% -> 0
A60: 0.5 | B60: poivre noir | C60: b | D60: 301 | E60: =D60/100*A60 -> 1.505 | H60: =IF(E60=0,A60,A60/E60*J60) -> 0.425 | I60: =B60 -> poivre noir | J60: =E60*$M$18% -> 1.27925
A61: 0.1 | B61: origan | C61: b | D61: 235 | E61: =D61/100*A61 -> 0.235 | H61: =IF(E61=0,A61,A61/E61*J61) -> 0.085 | I61: =B61 -> origan | J61: =E61*$M$18% -> 0.19975
A62: 25 | B62: crème liquide | C62: e | D62: 223 | E62: =D62/100*A62 -> 55.75 | H62: =IF(E62=0,A62,A62/E62*J62) -> 21.25 | I62: =B62 -> crème liquide | J62: =E62*$M$18% -> 47.3875
A63: 25 | B63: jambon cru | C63: d | D63: 229 | E63: =D63/100*A63 -> 57.25 | H63: =IF(E63=0,A63,A63/E63*J63) -> 21.25 | I63: =B63 -> jambon cru | J63: =E63*$M$18% -> 48.6625
A64: 3 | B64: persil | C64: a | D64: 28 | E64: =D64/100*A64 -> 0.84 | H64: =IF(E64=0,A64,A64/E64*J64) -> 2.55 | I64: =B64 -> persil | J64: =E64*$M$18% -> 0.714
A65: 125 | B65: paghetti | C65: b | D65: 116 | E65: =D65/100*A65 -> 145 | H65: =IF(E65=0,A65,A65/E65*J65) -> 106.25 | I65: =B65 -> paghetti | J65: =E65*$M$18% -> 123.25
A66: 25 | B66: sbrinz | C66: d | D66: 417 | E66: =D66/100*A66 -> 104.25 | H66: =IF(E66=0,A66,A66/E66*J66) -> 21.25 | I66: =B66 -> sbrinz | J66: =E66*$M$18% -> 88.6125
E67: TOTAL | F67: =SUM(E53:E66) -> 532.31 | J67: TOTAL | K67: =SUM(J53:J66) -> 452.4635
A68: Pommes au four et fruits secs
A69: 150 | B69: 4 pommes | C69: b | D69: 55 | E69: =D69/100*A69 -> 82.5 | H69: =IF(E69=0,A69,A69/E69*J69) -> 127.5 | I69: =B69 -> 4 pommes | J69: =E69*$M$18% -> 70.125
A70: 3.75 | B70: 15 g de cerneaux de noix | C70: d | D70: 698 | E70: =D70/100*A70 -> 26.175 | H70: =IF(E70=0,A70,A70/E70*J70) -> 3.1875 | I70: =B70 -> 15 g de cerneaux de noix | J70: =E70*$M$18% -> 22.24875
A71: 3.75 | B71: 15 g de noisettes | C71: c | D71: 646 | E71: =D71/100*A71 -> 24.225 | H71: =IF(E71=0,A71,A71/E71*J71) -> 3.1875 | I71: =B71 -> 15 g de noisettes | J71: =E71*$M$18% -> 20.59125
A72: 12 | B72: miel | C72: c | D72: 306 | E72: =D72/100*A72 -> 36.72 | H72: =IF(E72=0,A72,A72/E72*J72) -> 10.2 | I72: =B72 -> miel | J72: =E72*$M$18% -> 31.212
A73: 0.5 | B73: cannelle en poudre | E73: =D73/100*A73 -> 0 | H73: =IF(E73=0,A73,A73/E73*J73) -> 0.5 | I73: =B73 -> cannelle en poudre | J73: =E73*$M$18% -> 0
A74: 5 | B74: 20 g de beurre | C74: e | D74: 747 | E74: =D74/100*A74 -> 37.35 | H74: =IF(E74=0,A74,A74/E74*J74) -> 4.25 | I74: =B74 -> 20 g de beurre | J74: =E74*$M$18% -> 31.7475
A75: 3.75 | B75: 15 g de raisins secs sultanine | C75: e | D75: 298 | E75: =D75/100*A75 -> 11.175 | H75: =IF(E75=0,A75,A75/E75*J75) -> 3.1875 | I75: =B75 -> 15 g de raisins secs sultanine | J75: =E75*$M$18% -> 9.49875
E76: TOTAL | F76: =SUM(E69:E75) -> 218.145 | J76: TOTAL | K76: =SUM(J69:J75) -> 185.42325
A77: =IF(D5="non",0,IF(D5="1 verre",125,250)) -> 0 | B77: =IF(A77=0,"","vin") | D77: 80 | E77: =D77/100*A77 -> 0 | H77: =IF(E77=0,A77,A77/E77*J77) -> 0 | I77: =B77 | J77: =E77*$M$18% -> 0
D79: TOTAL du jour | F79: =SUM(F22:F77) -> 1999.745 | I79: TOTAL du jour | K79: =SUM(K22:K77) -> 1699.7833
D80: avec vin | F80: =F79+E77 -> 1999.745 | I80: avec vin | K80: =K79+J77 -> 1699.7833
A82: >>>> | B82: RETOUR AU SOMMAIRE

Sheet jour_18
A1: JOURNEE 18 | I1: Couleur Pan Metron | J1: a
A3: Apport calorique du jour (sans alcool) | D3: =ROUND(F82,0) -> 1998 | E3: kcal/jour
A4: (cf. menus Pan Metron ci-dessous)
A5: Consommation de vin | C5: ^ | D5: non | E5: =IF(D5="non","",IF(D5=1,d!B22,d!B23))
A6: Activités supplémentaires | D6: 0 | E6: kcal/jour | G6: >>>> | H6: calculateur des dépenses énergétiques
A7: Mon objectif | D7: =jour_1!D7 -> 1700 | E7: kcal/jour | H7: sous www.bonasavoir.ch/panmetron
D8: =IF(D5="non","",d!A24)
B10: Pour atteindre votre objectif, en tenant compte de votre activité physique supplémentaire,
B11: vous pouvez absorber | D11: =D7+D6 -> 1700 | E11: kcal
B12: soit | D12: =ABS(M13) -> 298 | E12: kcal | F12: =IF(M13>0,d!A44,d!A45) -> de moins que les menus Pan Metron du jour
F13: =IF(D5="non","",d!A46) | M13: =D3+E80-D11 -> 298
B15: =IF(M13<-50,d!A48,IF(M13<0,d!A49,IF(M13=0,d!A50,IF(M13>50,d!A52,d!A51)))) -> Il faut donc agir:_x000D_> Vous pouvez augmenter encore votre activité physique._x000D_> Ou/et diminuer la quantité de certains ingrédients des recettes du jour dans la première colonne, jusqu'à atteindre votre objectif. Visez de préférence les aliments rouge et orange, de façon à ne pas prétériter l'équilibre nutritionnel de la journée._x000D_> Si cela ne suffit toujours pas à atteindre votre objectif, le programme adapte proportionnellement les quantités pour y parvenir, sauf celles des boissons non caloriques (eau, café, etc.)
A17: Menus Pan Metron du jour | H17: Personnalisation | M17: pondération (M18)
A18: g/cl | B18: Ingrédients | D18: kcal | H18: =A18 -> g/cl | I18: =B18 -> Ingrédients | J18: kcal | M18: =100-(D12/((D11+D12)/100)) -> 85.085085
D19: pr 100 g | E19: réels | J19: réels
A21: PETIT DEJEUNER CEREALES
A22: 50 | B22: céréales au miel | C22: c | D22: 382 | E22: =D22/100*A22 -> 191 | H22: =IF(E22=0,A22,A22/E22*J22) -> 42.542543 | I22: =B22 -> céréales au miel | J22: =E22*$M$18% -> 162.51251
A23: 150 | B23: café | D23: 0 | E23: =D23/100*A23 -> 0 | H23: =IF(E23=0,A23,A23/E23*J23) -> 150 | I23: =B23 -> café | J23: =E23*$M$18% -> 0
A24: 4 | B24: sucre | C24: e | D24: 400 | E24: =D24/100*A24 -> 16 | H24: =IF(E24=0,A24,A24/E24*J24) -> 3.4034034 | I24: =B24 -> sucre | J24: =E24*$M$18% -> 13.613614
A25: 12 | B25: crème à café | C25: c | D25: 161 | E25: =D25/100*A25 -> 19.32 | H25: =IF(E25=0,A25,A25/E25*J25) -> 10.21021 | I25: =B25 -> crème à café | J25: =E25*$M$18% -> 16.438438
A26: 125 | B26: yogourt aux fruits | C26: b | D26: 87 | E26: =D26/100*A26 -> 108.75 | H26: =IF(E26=0,A26,A26/E26*J26) -> 106.35636 | I26: =B26 -> yogourt aux fruits | J26: =E26*$M$18% -> 92.53003
A27: 150 | B27: jus d'orange maison | C27: b | D27: 45 | E27: =D27/100*A27 -> 67.5 | H27: =IF(E27=0,A27,A27/E27*J27) -> 127.62763 | I27: =B27 -> jus d'orange maison | J27: =E27*$M$18% -> 57.432432
E28: TOTAL | F28: =SUM(E22:E27) -> 402.57 | J28: TOTAL | K28: =SUM(J22:J27) -> 342.52703
A29: MIDI
A30: Samosas aux légumes
A31: 6 | B31: huile de tournesol | C31: d | D31: 899 | E31: =D31/100*A31 -> 53.94 | H31: =IF(E31=0,A31,A31/E31*J31) -> 5.1051051 | I31: =B31 -> huile de tournesol | J31: =E31*$M$18% -> 45.894895
A32: 25 | B32: 1 oignon | C32: a | D32: 29 | E32: =D32/100*A32 -> 7.25 | H32: =IF(E32=0,A32,A32/E32*J32) -> 21.271271 | I32: =B32 -> 1 oignon | J32: =E32*$M$18% -> 6.1686687
A33: 3 | B33: aïl | C33: a | D33: 131 | E33: =D33/100*A33 -> 3.93 | H33: =IF(E33=0,A33,A33/E33*J33) -> 2.5525526 | I33: =B33 -> aïl | J33: =E33*$M$18% -> 3.3438438
A34: 40 | B34: 1 pomme de terre | C34: a | D34: 76 | E34: =D34/100*A34 -> 30.4 | H34: =IF(E34=0,A34,A34/E34*J34) -> 34.034034 | I34: =B34 -> 1 pomme de terre | J34: =E34*$M$18% -> 25.865866
A35: =250/4 -> 62.5 | B35: 2 carottes | C35: a | D35: 30 | E35: =D35/100*A35 -> 18.75 | H35: =IF(E35=0,A35,A35/E35*J35) -> 53.178178 | I35: =B35 -> 2 carottes | J35: =E35*$M$18% -> 15.953453
A36: 2 | B36: curry doux en poudre | C36: b | D36: 287 | E36: =D36/100*A36 -> 5.74 | H36: =IF(E36=0,A36,A36/E36*J36) -> 1.7017017 | I36: =B36 -> curry doux en poudre | J36: =E36*$M$18% -> 4.8838839
A37: 1 | B37: coriandre en poudre | E37: =D37/100*A37 -> 0 | H37: =IF(E37=0,A37,A37/E37*J37) -> 1 | I37: =B37 -> coriandre en poudre | J37: =E37*$M$18% -> 0
A38: 1.5 | B38: curcuma en poudre | C38: b | D38: 291 | E38: =D38/100*A38 -> 4.365 | H38: =IF(E38=0,A38,A38/E38*J38) -> 1.2762763 | I38: =B38 -> curcuma en poudre | J38: =E38*$M$18% -> 3.713964
A39: 2.5 | B39: 1 piment vert frais | C39: a | D39: 45 | E39: =D39/100*A39 -> 1.125 | H39: =IF(E39=0,A39,A39/E39*J39) -> 2.1271271 | I39: =B39 -> 1 piment vert frais | J39: =E39*$M$18% -> 0.95720721
A40: 0.5 | B40: moutarde en grains | C40: c | D40: 134 | E40: =D40/100*A40 -> 0.67 | H40: =IF(E40=0,A40,A40/E40*J40) -> 0.42542543 | I40: =B40 -> moutarde en grains | J40: =E40*$M$18% -> 0.57007007
A41: 25 | B41: 100 g. de petit pois surgelés | C41: a | D41: 94 | E41: =D41/100*A41 -> 23.5 | H41: =IF(E41=0,A41,A41/E41*J41) -> 21.271271 | I41: =B41 -> 100 g. de petit pois surgelés | J41: =E41*$M$18% -> 19.994995
A42: 15 | B42: 60 g. de chou-fleur | C42: a | D42: 26 | E42: =D42/100*A42 -> 3.9 | H42: =IF(E42=0,A42,A42/E42*J42) -> 12.762763 | I42: =B42 -> 60 g. de chou-fleur | J42: =E42*$M$18% -> 3.3183183
A43: =250/4 -> 62.5 | B43: 250 g. de farine | C43: e | D43: 338 | E43: =D43/100*A43 -> 211.25 | H43: =IF(E43=0,A43,A43/E43*J43) -> 53.178178 | I43: =B43 -> 250 g. de farine | J43: =E43*$M$18% -> 179.74224
A44: 10 | B44: beurre fondu | C44: e | D44: 747 | E44: =D44/100*A44 -> 74.7 | H44: =IF(E44=0,A44,A44/E44*J44) -> 8.5085085 | I44: =B44 -> beurre fondu | J44: =E44*$M$18% -> 63.558559
A45: =14/4 -> 3.5 | B45: jus de citron | C45: a | D45: 17 | E45: =D45/100*A45 -> 0.595 | H45: =IF(E45=0,A45,A45/E45*J45) -> 2.977978 | I45: =B45 -> jus de citron | J45: =E45*$M$18% -> 0.50625626
A46: 3 | B46: feuilles de coriandre | C46: a | D46: 22 | E46: =D46/100*A46 -> 0.66 | H46: =IF(E46=0,A46,A46/E46*J46) -> 2.5525526 | I46: =B46 -> feuilles de coriandre | J46: =E46*$M$18% -> 0.56156156
A47: 1.5 | B47: sel 4+2 | C47: e | D47: 0 | E47: =D47/100*A47 -> 0 | H47: =IF(E47=0,A47,A47/E47*J47) -> 1.5 | I47: =B47 -> sel 4+2 | J47: =E47*$M$18% -> 0
A48: 50 | B48: salade verte | C48: a | D48: 18 | E48: =D48/100*A48 -> 9 | H48: =IF(E48=0,A48,A48/E48*J48) -> 42.542543 | I48: =B48 -> salade verte | J48: =E48*$M$18% -> 7.6576577
A49: 12 | B49: sauce italienne | C49: e | D49: 472 | E49: =D49/100*A49 -> 56.64 | H49: =IF(E49=0,A49,A49/E49*J49) -> 10.21021 | I49: =B49 -> sauce italienne | J49: =E49*$M$18% -> 48.192192
A50: En guise de dessert
A51: 150 | B51: une grappe de raisins (150 g) | C51: b | D51: 68 | E51: =D51/100*A51 -> 102 | H51: =IF(E51=0,A51,A51/E51*J51) -> 127.62763 | I51: =B51 -> une grappe de raisins (150 g) | J51: =E51*$M$18% -> 86.786787
E52: TOTAL | F52: =SUM(E31:E51) -> 608.415 | J52: TOTAL | K52: =SUM(J31:J51) -> 517.67042
A54: QUATRE HEURES
A55: 100 | B55: petit-suisse | C55: a | D55: 112 | E55: =D55/100*A55 -> 112 | H55: =IF(E55=0,A55,A55/E55*J55) -> 85.085085 | I55: =B55 -> petit-suisse | J55: =E55*$M$18% -> 95.295295
A56: 8 | B56: sucre | C56: e | D56: 400 | E56: =D56/100*A56 -> 32 | H56: =IF(E56=0,A56,A56/E56*J56) -> 6.8068068 | I56: =B56 -> sucre | J56: =E56*$M$18% -> 27.227227
E57: TOTAL | F57: =SUM(E55:E56) -> 144 | J57: TOTAL | K57: =SUM(J55:J56) -> 122.52252
A58: SOIR
A59: Baudroie au curry et pommes vertes
A60: 150 | B60: 600 g de baudroie (lotte) | C60: a | D60: 78 | E60: =D60/100*A60 -> 117 | H60: =IF(E60=0,A60,A60/E60*J60) -> 127.62763 | I60: =B60 -> 600 g de baudroie (lotte) | J60: =E60*$M$18% -> 99.54955
A61: 100 | B61: 400 g de carottes | C61: a | D61: 30 | E61: =D61/100*A61 -> 30 | H61: =IF(E61=0,A61,A61/E61*J61) -> 85.085085 | I61: =B61 -> 400 g de carottes | J61: =E61*$M$18% -> 25.525526
A62: 125 | B62: 500 g de courgettes | C62: a | D62: 19 | E62: =D62/100*A62 -> 23.75 | H62: =IF(E62=0,A62,A62/E62*J62) -> 106.35636 | I62: =B62 -> 500 g de courgettes | J62: =E62*$M$18% -> 20.207708
A63: 75 | B63: 2 pommes granny smith | C63: b | D63: 55 | E63: =D63/100*A63 -> 41.25 | H63: =IF(E63=0,A63,A63/E63*J63) -> 63.813814 | I63: =B63 -> 2 pommes granny smith | J63: =E63*$M$18% -> 35.097598
A64: 1.5 | B64: aïl | C64: a | D64: 131 | E64: =D64/100*A64 -> 1.965 | H64: =IF(E64=0,A64,A64/E64*J64) -> 1.2762763 | I64: =B64 -> aïl | J64: =E64*$M$18% -> 1.6719219
A65: 94 | B65: fumet de poisson instantané | C65: a | D65: 60 | E65: =D65/100*A65 -> 56.4 | H65: =IF(E65=0,A65,A65/E65*J65) -> 79.97998 | I65: =B65 -> fumet de poisson instantané | J65: =E65*$M$18% -> 47.987988
B66: 1 verre de vin blanc sec | E66: =D66/100*A66 -> 0 | H66: =IF(E66=0,A66,A66/E66*J66) -> 0 | I66: =B66 -> 1 verre de vin blanc sec | J66: =E66*$M$18% -> 0
A67: =25/4 -> 6.25 | B67: 25 g de beurre salé | C67: e | D67: 747 | E67: =D67/100*A67 -> 46.6875 | H67: =IF(E67=0,A67,A67/E67*J67) -> 5.3178178 | I67: =B67 -> 25 g de beurre salé | J67: =E67*$M$18% -> 39.724099
A68: 50 | B68: 2 dl de crème fraîche | C68: e | D68: 252 | E68: =D68/100*A68 -> 126 | H68: =IF(E68=0,A68,A68/E68*J68) -> 42.542543 | I68: =B68 -> 2 dl de crème fraîche | J68: =E68*$M$18% -> 107.20721
A69: 3 | B69: curry jaune | C69: b | D69: 287 | E69: =D69/100*A69 -> 8.61 | H69: =IF(E69=0,A69,A69/E69*J69) -> 2.5525526 | I69: =B69 -> curry jaune | J69: =E69*$M$18% -> 7.3258258 | M69: =F73+F79 -> 842.7325
A70: 50 | B70: 200 g boulghour (sec) | C70: e | D70: 351 | E70: =D70/100*A70 -> 175.5 | H70: =IF(E70=0,A70,A70/E70*J70) -> 42.542543 | I70: =B70 -> 200 g boulghour (sec) | J70: =E70*$M$18% -> 149.32432
A71: 1 | B71: sel | C71: e | D71: 0 | E71: =D71/100*A71 -> 0 | H71: =IF(E71=0,A71,A71/E71*J71) -> 1 | I71: =B71 -> sel | J71: =E71*$M$18% -> 0
A72: 0.5 | B72: poivre | C72: b | D72: 222 | E72: =D72/100*A72 -> 1.11 | H72: =IF(E72=0,A72,A72/E72*J72) -> 0.42542543 | I72: =B72 -> poivre | J72: =E72*$M$18% -> 0.94444444
E73: TOTAL | F73: =SUM(E60:E72) -> 628.2725 | J73: TOTAL | K73: =SUM(J60:J72) -> 534.56619
A74: Litchis et gelée de rose
A75: 22.5 | B75: sirop de rose | C75: e | D75: 252 | E75: =D75/100*A75 -> 56.7 | H75: =IF(E75=0,A75,A75/E75*J75) -> 19.144144 | I75: =B75 -> sirop de rose | J75: =E75*$M$18% -> 48.243243
A76: =250/4 -> 62.5 | B76: 1 boite de litchis (250 g) | C76: b | D76: 52 | E76: =D76/100*A76 -> 32.5 | H76: =IF(E76=0,A76,A76/E76*J76) -> 53.178178 | I76: =B76 -> 1 boite de litchis (250 g) | J76: =E76*$M$18% -> 27.652653
A77: 2 | B77: 4 feuilles de gélatine | C77: c | D77: 338 | E77: =D77/100*A77 -> 6.76 | H77: =IF(E77=0,A77,A77/E77*J77) -> 1.7017017 | I77: =B77 -> 4 feuilles de gélatine | J77: =E77*$M$18% -> 5.7517518
A78: 25 | B78: sablés | C78: e | D78: 474 | E78: =D78/100*A78 -> 118.5 | H78: =IF(E78=0,A78,A78/E78*J78) -> 21.271271 | I78: =B78 -> sablés | J78: =E78*$M$18% -> 100.82583
E79: TOTAL | F79: =SUM(E75:E78) -> 214.46 | J79: TOTAL | K79: =SUM(J75:J78) -> 182.47347
A80: =IF(D5="non",0,IF(D5="1 verre",125,250)) -> 0 | B80: =IF(A80=0,"","vin") | D80: 80 | E80: =D80/100*A80 -> 0 | H80: =IF(E80=0,A80,A80/E80*J80) -> 0 | I80: =B80 | J80: =E80*$M$18% -> 0
D82: TOTAL du jour | F82: =SUM(F22:F79) -> 1997.7175 | I82: TOTAL du jour | K82: =SUM(K22:K79) -> 1699.7596
D83: avec vin | F83: =F82+E80 -> 1997.7175 | I83: avec vin | K83: =K82+J80 -> 1699.7596
A85: >>>> | B85: RETOUR AU SOMMAIRE

Sheet jour_19
A1: JOURNEE 19 | I1: Couleur Pan Metron | J1: b
A3: Apport calorique du jour (sans alcool) | D3: =ROUND(F74,0) -> 2001 | E3: kcal/jour
A4: (cf. menus Pan Metron ci-dessous)
A5: Consommation de vin | C5: ^ | D5: non | E5: =IF(D5="non","",IF(D5=1,d!B22,d!B23))
A6: Activités supplémentaires | D6: 0 | E6: kcal/jour | G6: >>>> | H6: calculateur des dépenses énergétiques
A7: Mon objectif | D7: =jour_1!D7 -> 1700 | E7: kcal/jour | H7: sous www.bonasavoir.ch/panmetron
D8: =IF(D5="non","",d!A24)
B10: Pour atteindre votre objectif, en tenant compte de votre activité physique supplémentaire,
B11: vous pouvez absorber | D11: =D7+D6 -> 1700 | E11: kcal
B12: soit | D12: =ABS(M13) -> 301 | E12: kcal | F12: =IF(M13>0,d!A44,d!A45) -> de moins que les menus Pan Metron du jour
F13: =IF(D5="non","",d!A46) | M13: =D3+E72-D11 -> 301
B15: =IF(M13<-50,d!A48,IF(M13<0,d!A49,IF(M13=0,d!A50,IF(M13>50,d!A52,d!A51)))) -> Il faut donc agir:_x000D_> Vous pouvez augmenter encore votre activité physique._x000D_> Ou/et diminuer la quantité de certains ingrédients des recettes du jour dans la première colonne, jusqu'à atteindre votre objectif. Visez de préférence les aliments rouge et orange, de façon à ne pas prétériter l'équilibre nutritionnel de la journée._x000D_> Si cela ne suffit toujours pas à atteindre votre objectif, le programme adapte proportionnellement les quantités pour y parvenir, sauf celles des boissons non caloriques (eau, café, etc.)
A17: Menus Pan Metron du jour | H17: Personnalisation | M17: pondération (M18)
A18: g/cl | B18: Ingrédients | D18: kcal | H18: =A18 -> g/cl | I18: =B18 -> Ingrédients | J18: kcal | M18: =100-(D12/((D11+D12)/100)) -> 84.957521
D19: pr 100 g | E19: réels | J19: réels
A21: PETIT DEJEUNER AVEC ŒUF
A22: 60 | B22: œuf à la coque | C22: a | D22: 134 | E22: =D22/100*A22 -> 80.4 | H22: =IF(E22=0,A22,A22/E22*J22) -> 50.974513 | I22: =B22 -> œuf à la coque | J22: =E22*$M$18% -> 68.305847
A23: 0.5 | B23: sel | C23: e | D23: 0 | E23: =D23/100*A23 -> 0 | H23: =IF(E23=0,A23,A23/E23*J23) -> 0.5 | I23: =B23 -> sel | J23: =E23*$M$18% -> 0
A24: 40 | B24: pain complet | C24: c | D24: 229 | E24: =D24/100*A24 -> 91.6 | H24: =IF(E24=0,A24,A24/E24*J24) -> 33.983008 | I24: =B24 -> pain complet | J24: =E24*$M$18% -> 77.821089
A25: 125 | B25: fromage blanc 20% | C25: a | D25: 71 | E25: =D25/100*A25 -> 88.75 | H25: =IF(E25=0,A25,A25/E25*J25) -> 106.1969 | I25: =B25 -> fromage blanc 20% | J25: =E25*$M$18% -> 75.3998
A26: 100 | B26: salade de fruits frais | C26: b | D26: 67 | E26: =D26/100*A26 -> 67 | H26: =IF(E26=0,A26,A26/E26*J26) -> 84.957521 | I26: =B26 -> salade de fruits frais | J26: =E26*$M$18% -> 56.921539
A27: 150 | B27: thé | D27: 0 | E27: =D27/100*A27 -> 0 | H27: =IF(E27=0,A27,A27/E27*J27) -> 150 | I27: =B27 -> thé | J27: =E27*$M$18% -> 0
A28: 12 | B28: sucre | C28: e | D28: 400 | E28: =D28/100*A28 -> 48 | H28: =IF(E28=0,A28,A28/E28*J28) -> 10.194903 | I28: =B28 -> sucre | J28: =E28*$M$18% -> 40.77961
E29: TOTAL | F29: =SUM(E22:E28) -> 375.75 | J29: TOTAL | K29: =SUM(J22:J28) -> 319.22789
A30: MIDI
A31: Salade de chèvre chaud aux noix
A32: 15 | B32: œuf | C32: a | D32: 146 | E32: =D32/100*A32 -> 21.9 | H32: =IF(E32=0,A32,A32/E32*J32) -> 12.743628 | I32: =B32 -> œuf | J32: =E32*$M$18% -> 18.605697
A33: 3 | B33: huile de colza | C33: c | D33: 899 | E33: =D33/100*A33 -> 26.97 | H33: =IF(E33=0,A33,A33/E33*J33) -> 2.5487256 | I33: =B33 -> huile de colza | J33: =E33*$M$18% -> 22.913043
A34: 6 | B34: chapelure | C34: e | D34: 370 | E34: =D34/100*A34 -> 22.2 | H34: =IF(E34=0,A34,A34/E34*J34) -> 5.0974513 | I34: =B34 -> chapelure | J34: =E34*$M$18% -> 18.86057
A35: =150/4 -> 37.5 | B35: bûche chèvre | C35: e | D35: 232 | E35: =D35/100*A35 -> 87 | H35: =IF(E35=0,A35,A35/E35*J35) -> 31.85907 | I35: =B35 -> bûche chèvre | J35: =E35*$M$18% -> 73.913043
A36: =250/4 -> 62.5 | B36: baguette de pain | C36: c | D36: 265 | E36: =D36/100*A36 -> 165.625 | H36: =IF(E36=0,A36,A36/E36*J36) -> 53.098451 | I36: =B36 -> baguette de pain | J36: =E36*$M$18% -> 140.71089
A37: 75 | B37: scarole | C37: a | D37: 15 | E37: =D37/100*A37 -> 11.25 | H37: =IF(E37=0,A37,A37/E37*J37) -> 63.718141 | I37: =B37 -> scarole | J37: =E37*$M$18% -> 9.5577211
A38: 15 | B38: sauce française | C38: e | D38: 446 | E38: =D38/100*A38 -> 66.9 | H38: =IF(E38=0,A38,A38/E38*J38) -> 12.743628 | I38: =B38 -> sauce française | J38: =E38*$M$18% -> 56.836582
A39: 12.5 | B39: cerneaux de noix | C39: d | D39: 698 | E39: =D39/100*A39 -> 87.25 | H39: =IF(E39=0,A39,A39/E39*J39) -> 10.61969 | I39: =B39 -> cerneaux de noix | J39: =E39*$M$18% -> 74.125437
A40: En guise de dessert
A41: 125 | B41: yogourt grec | C41: c | D41: 127 | E41: =D41/100*A41 -> 158.75 | H41: =IF(E41=0,A41,A41/E41*J41) -> 106.1969 | I41: =B41 -> yogourt grec | J41: =E41*$M$18% -> 134.87006
A42: 8 | B42: miel | C42: c | D42: 306 | E42: =D42/100*A42 -> 24.48 | H42: =IF(E42=0,A42,A42/E42*J42) -> 6.7966017 | I42: =B42 -> miel | J42: =E42*$M$18% -> 20.797601
E43: TOTAL | F43: =SUM(E32:E42) -> 672.325 | J43: TOTAL | K43: =SUM(J32:J42) -> 571.19065
A45: QUATRE HEURES
A46: 150 | B46: pomme | C46: b | D46: 55 | E46: =D46/100*A46 -> 82.5 | H46: =IF(E46=0,A46,A46/E46*J46) -> 127.43628 | I46: =B46 -> pomme | J46: =E46*$M$18% -> 70.089955
E47: TOTAL | F47: =SUM(E46:E46) -> 82.5 | J47: TOTAL | K47: =SUM(J46:J46) -> 70.089955
A48: SOIR
A49: Entrecôte de boeuf mariné, frites, tomates provençales
A50: 150 | B50: entrecôte | C50: a | D50: 138 | E50: =D50/100*A50 -> 207 | H50: =IF(E50=0,A50,A50/E50*J50) -> 127.43628 | I50: =B50 -> entrecôte | J50: =E50*$M$18% -> 175.86207
A51: 9 | B51: huile de sésame | C51: e | D51: 900 | E51: =D51/100*A51 -> 81 | H51: =IF(E51=0,A51,A51/E51*J51) -> 7.6461769 | I51: =B51 -> huile de sésame | J51: =E51*$M$18% -> 68.815592
A52: 9 | B52: aïl | C52: a | D52: 131 | E52: =D52/100*A52 -> 11.79 | H52: =IF(E52=0,A52,A52/E52*J52) -> 7.6461769 | I52: =B52 -> aïl | J52: =E52*$M$18% -> 10.016492
